| Back to Multiple platform build/check report for BioC 3.9 | 
 | 
This page was generated on 2019-10-16 12:39:52 -0400 (Wed, 16 Oct 2019).
| Package 1500/1741 | Hostname | OS / Arch | INSTALL | BUILD | CHECK | BUILD BIN | ||||||
| SeqSQC 1.6.0 Qian Liu 
 | malbec2 | Linux (Ubuntu 18.04.2 LTS) / x86_64 | OK | OK | OK |  | ||||||
| tokay2 | Windows Server 2012 R2 Standard / x64 | OK | OK | OK | [ OK ] |  | ||||||
| celaya2 | OS X 10.11.6 El Capitan / x86_64 | OK | OK | OK | OK |  | 
| Package: SeqSQC | 
| Version: 1.6.0 | 
| Command: rm -rf SeqSQC.buildbin-libdir && mkdir SeqSQC.buildbin-libdir && C:\Users\biocbuild\bbs-3.9-bioc\R\bin\R.exe CMD INSTALL --merge-multiarch --build --library=SeqSQC.buildbin-libdir SeqSQC_1.6.0.tar.gz | 
| StartedAt: 2019-10-16 10:12:23 -0400 (Wed, 16 Oct 2019) | 
| EndedAt: 2019-10-16 10:13:03 -0400 (Wed, 16 Oct 2019) | 
| EllapsedTime: 39.5 seconds | 
| RetCode: 0 | 
| Status: OK | 
| PackageFile: SeqSQC_1.6.0.zip | 
| PackageFileSize: 3.776 MiB | 
##############################################################################
##############################################################################
###
### Running command:
###
###   rm -rf SeqSQC.buildbin-libdir && mkdir SeqSQC.buildbin-libdir && C:\Users\biocbuild\bbs-3.9-bioc\R\bin\R.exe CMD INSTALL --merge-multiarch --build --library=SeqSQC.buildbin-libdir SeqSQC_1.6.0.tar.gz
###
##############################################################################
##############################################################################
install for i386
* installing *source* package 'SeqSQC' ...
** using staged installation
** R
** inst
** byte-compile and prepare package for lazy loading
** help
*** installing help indices
  converting help for package 'SeqSQC'
    finding HTML links ... done
    CCDS.Hs37.3.reduced_chr1.bed            html  
    IBDCheck                                html  
    IBDRemove                               html  
    Inbreeding                              html  
    LoadVfile                               html  
    MissingRate                             html  
    PCACheck                                html  
    RenderReport                            html  
    SeqOpen                                 html  
    SeqSQC-class                            html  
    SeqSQC-package                          html  
    SexCheck                                html  
    example.gds                             html  
    example.seqfile.Rdata                   html  
    example_sub.vcf                         html  
    plotQC                                  html  
    problemList                             html  
    sampleAnnotation.txt                    html  
    sampleQC                                html  
** building package indices
** installing vignettes
** testing if installed package can be loaded from temporary location
** testing if installed package can be loaded from final location
** testing if installed package keeps a record of temporary installation path
install for x64
* installing *source* package 'SeqSQC' ...
** testing if installed package can be loaded
* MD5 sums
packaged installation of 'SeqSQC' as SeqSQC_1.6.0.zip
* DONE (SeqSQC)