| Back to Multiple platform build/check report for BioC 3.9 |
|
This page was generated on 2019-10-16 12:33:00 -0400 (Wed, 16 Oct 2019).
| Package 1615/1741 | Hostname | OS / Arch | INSTALL | BUILD | CHECK | BUILD BIN | ||||||
Guidantonio Malagoli Tagliazucchi
| malbec2 | Linux (Ubuntu 18.04.2 LTS) / x86_64 | OK | OK | ERROR | |||||||
| tokay2 | Windows Server 2012 R2 Standard / x64 | OK | OK | WARNINGS | [ OK ] | |||||||
| celaya2 | OS X 10.11.6 El Capitan / x86_64 | OK | OK | WARNINGS | OK |
| Package: SVM2CRM |
| Version: 1.16.0 |
| Command: rm -rf SVM2CRM.buildbin-libdir && mkdir SVM2CRM.buildbin-libdir && C:\Users\biocbuild\bbs-3.9-bioc\R\bin\R.exe CMD INSTALL --merge-multiarch --build --library=SVM2CRM.buildbin-libdir SVM2CRM_1.16.0.tar.gz |
| StartedAt: 2019-10-16 10:19:39 -0400 (Wed, 16 Oct 2019) |
| EndedAt: 2019-10-16 10:20:38 -0400 (Wed, 16 Oct 2019) |
| EllapsedTime: 58.5 seconds |
| RetCode: 0 |
| Status: OK |
| PackageFile: SVM2CRM_1.16.0.zip |
| PackageFileSize: 300.5 KiB |
##############################################################################
##############################################################################
###
### Running command:
###
### rm -rf SVM2CRM.buildbin-libdir && mkdir SVM2CRM.buildbin-libdir && C:\Users\biocbuild\bbs-3.9-bioc\R\bin\R.exe CMD INSTALL --merge-multiarch --build --library=SVM2CRM.buildbin-libdir SVM2CRM_1.16.0.tar.gz
###
##############################################################################
##############################################################################
install for i386
* installing *source* package 'SVM2CRM' ...
** using staged installation
** R
** inst
** byte-compile and prepare package for lazy loading
** help
*** installing help indices
converting help for package 'SVM2CRM'
finding HTML links ... done
cisREfindbed html
createBed html
createSVMinput html
featSelectionWithKmeans html
findFeatureOverlap html
frequencyHM html
getSignal html
performanceSVM html
plotFscore html
plotROC html
predictionGW html
smoothInputFS html
tuningParametersCombROC html
** building package indices
** installing vignettes
** testing if installed package can be loaded from temporary location
Warning: Package 'SVM2CRM' is deprecated and will be removed from Bioconductor
version 3.10
** testing if installed package can be loaded from final location
Warning: Package 'SVM2CRM' is deprecated and will be removed from Bioconductor
version 3.10
** testing if installed package keeps a record of temporary installation path
install for x64
* installing *source* package 'SVM2CRM' ...
** testing if installed package can be loaded
Warning: Package 'SVM2CRM' is deprecated and will be removed from Bioconductor
version 3.10
* MD5 sums
packaged installation of 'SVM2CRM' as SVM2CRM_1.16.0.zip
* DONE (SVM2CRM)