| Back to Multiple platform build/check report for BioC 3.9 |
|
This page was generated on 2019-04-08 12:31:12 -0400 (Mon, 08 Apr 2019).
| Package 1544/1703 | Hostname | OS / Arch | INSTALL | BUILD | CHECK | BUILD BIN | ||||||
| SPLINTER 1.9.1 Diana Low
| malbec2 | Linux (Ubuntu 18.04.2 LTS) / x86_64 | OK | OK | OK | |||||||
| tokay2 | Windows Server 2012 R2 Standard / x64 | OK | OK | WARNINGS | OK | |||||||
| celaya2 | OS X 10.11.6 El Capitan / x86_64 | OK | OK | OK | OK | |||||||
| merida2 | OS X 10.11.6 El Capitan / x86_64 | OK | OK | OK | [ OK ] |
| Package: SPLINTER |
| Version: 1.9.1 |
| Command: rm -rf SPLINTER.buildbin-libdir && mkdir SPLINTER.buildbin-libdir && /Users/biocbuild/BBS/utils/build-universal.sh SPLINTER_1.9.1.tar.gz /Library/Frameworks/R.framework/Versions/Current/Resources/bin/R SPLINTER.buildbin-libdir |
| StartedAt: 2019-04-08 06:42:47 -0400 (Mon, 08 Apr 2019) |
| EndedAt: 2019-04-08 06:44:02 -0400 (Mon, 08 Apr 2019) |
| EllapsedTime: 75.9 seconds |
| RetCode: 0 |
| Status: OK |
| PackageFile: SPLINTER_1.9.1.tgz |
| PackageFileSize: 1.076 MiB |
############################################################################## ############################################################################## ### ### Running command: ### ### rm -rf SPLINTER.buildbin-libdir && mkdir SPLINTER.buildbin-libdir && /Users/biocbuild/BBS/utils/build-universal.sh SPLINTER_1.9.1.tar.gz /Library/Frameworks/R.framework/Versions/Current/Resources/bin/R SPLINTER.buildbin-libdir ### ############################################################################## ############################################################################## >>>>>>> >>>>>>> INSTALLATION WITH 'R CMD INSTALL --preclean --no-multiarch --library=SPLINTER.buildbin-libdir SPLINTER_1.9.1.tar.gz' >>>>>>> * installing *source* package ‘SPLINTER’ ... ** R ** data *** moving datasets to lazyload DB ** inst ** byte-compile and prepare package for lazy loading Creating a generic function for 'toJSON' from package 'jsonlite' in package 'googleVis' ** help *** installing help indices ** building package indices ** installing vignettes ** testing if installed package can be loaded Creating a generic function for 'toJSON' from package 'jsonlite' in package 'googleVis' * DONE (SPLINTER)