| Back to Multiple platform build/check report for BioC 3.9 |
|
This page was generated on 2019-10-16 12:36:51 -0400 (Wed, 16 Oct 2019).
| Package 1527/1741 | Hostname | OS / Arch | INSTALL | BUILD | CHECK | BUILD BIN | ||||||
| SIMLR 1.10.0 Luca De Sano
| malbec2 | Linux (Ubuntu 18.04.2 LTS) / x86_64 | OK | OK | WARNINGS | |||||||
| tokay2 | Windows Server 2012 R2 Standard / x64 | OK | OK | [ OK ] | OK | |||||||
| celaya2 | OS X 10.11.6 El Capitan / x86_64 | OK | OK | OK | OK |
| Package: SIMLR |
| Version: 1.10.0 |
| Command: C:\Users\biocbuild\bbs-3.9-bioc\R\bin\R.exe CMD check --force-multiarch --install=check:SIMLR.install-out.txt --library=C:\Users\biocbuild\bbs-3.9-bioc\R\library --no-vignettes --timings SIMLR_1.10.0.tar.gz |
| StartedAt: 2019-10-16 07:10:08 -0400 (Wed, 16 Oct 2019) |
| EndedAt: 2019-10-16 07:21:21 -0400 (Wed, 16 Oct 2019) |
| EllapsedTime: 672.7 seconds |
| RetCode: 0 |
| Status: OK |
| CheckDir: SIMLR.Rcheck |
| Warnings: 0 |
##############################################################################
##############################################################################
###
### Running command:
###
### C:\Users\biocbuild\bbs-3.9-bioc\R\bin\R.exe CMD check --force-multiarch --install=check:SIMLR.install-out.txt --library=C:\Users\biocbuild\bbs-3.9-bioc\R\library --no-vignettes --timings SIMLR_1.10.0.tar.gz
###
##############################################################################
##############################################################################
* using log directory 'C:/Users/biocbuild/bbs-3.9-bioc/meat/SIMLR.Rcheck'
* using R version 3.6.1 (2019-07-05)
* using platform: x86_64-w64-mingw32 (64-bit)
* using session charset: ISO8859-1
* using option '--no-vignettes'
* checking for file 'SIMLR/DESCRIPTION' ... OK
* this is package 'SIMLR' version '1.10.0'
* package encoding: UTF-8
* checking package namespace information ... OK
* checking package dependencies ... OK
* checking if this is a source package ... OK
* checking if there is a namespace ... OK
* checking for hidden files and directories ... OK
* checking for portable file names ... OK
* checking whether package 'SIMLR' can be installed ... OK
* checking installed package size ... NOTE
installed size is 6.3Mb
sub-directories of 1Mb or more:
data 4.4Mb
libs 1.6Mb
* checking package directory ... OK
* checking 'build' directory ... OK
* checking DESCRIPTION meta-information ... OK
* checking top-level files ... OK
* checking for left-over files ... OK
* checking index information ... OK
* checking package subdirectories ... OK
* checking R files for non-ASCII characters ... OK
* checking R files for syntax errors ... OK
* loading checks for arch 'i386'
** checking whether the package can be loaded ... OK
** checking whether the package can be loaded with stated dependencies ... OK
** checking whether the package can be unloaded cleanly ... OK
** checking whether the namespace can be loaded with stated dependencies ... OK
** checking whether the namespace can be unloaded cleanly ... OK
* loading checks for arch 'x64'
** checking whether the package can be loaded ... OK
** checking whether the package can be loaded with stated dependencies ... OK
** checking whether the package can be unloaded cleanly ... OK
** checking whether the namespace can be loaded with stated dependencies ... OK
** checking whether the namespace can be unloaded cleanly ... OK
* checking dependencies in R code ... OK
* checking S3 generic/method consistency ... OK
* checking replacement functions ... OK
* checking foreign function calls ... OK
* checking R code for possible problems ... OK
* checking Rd files ... OK
* checking Rd metadata ... OK
* checking Rd cross-references ... OK
* checking for missing documentation entries ... OK
* checking for code/documentation mismatches ... OK
* checking Rd \usage sections ... OK
* checking Rd contents ... OK
* checking for unstated dependencies in examples ... OK
* checking contents of 'data' directory ... OK
* checking data for non-ASCII characters ... OK
* checking data for ASCII and uncompressed saves ... OK
* checking line endings in C/C++/Fortran sources/headers ... OK
* checking line endings in Makefiles ... OK
* checking compilation flags in Makevars ... OK
* checking for GNU extensions in Makefiles ... OK
* checking for portable use of $(BLAS_LIBS) and $(LAPACK_LIBS) ... OK
* checking compiled code ... NOTE
Note: information on .o files for i386 is not available
Note: information on .o files for x64 is not available
File 'C:/Users/biocbuild/bbs-3.9-bioc/R/library/SIMLR/libs/i386/SIMLR.dll':
Found 'abort', possibly from 'abort' (C), 'runtime' (Fortran)
Found 'exit', possibly from 'exit' (C), 'stop' (Fortran)
Found 'printf', possibly from 'printf' (C)
File 'C:/Users/biocbuild/bbs-3.9-bioc/R/library/SIMLR/libs/x64/SIMLR.dll':
Found 'abort', possibly from 'abort' (C), 'runtime' (Fortran)
Found 'exit', possibly from 'exit' (C), 'stop' (Fortran)
Found 'printf', possibly from 'printf' (C)
Compiled code should not call entry points which might terminate R nor
write to stdout/stderr instead of to the console, nor use Fortran I/O
nor system RNGs. The detected symbols are linked into the code but
might come from libraries and not actually be called.
See 'Writing portable packages' in the 'Writing R Extensions' manual.
* checking files in 'vignettes' ... OK
* checking examples ...
** running examples for arch 'i386' ... OK
Examples with CPU or elapsed time > 5s
user system elapsed
SIMLR_Feature_Ranking 72.84 5.38 78.25
SIMLR 23.33 0.57 26.63
SIMLR_Estimate_Number_of_Clusters 3.42 0.12 6.34
** running examples for arch 'x64' ... OK
Examples with CPU or elapsed time > 5s
user system elapsed
SIMLR_Feature_Ranking 66.17 3.70 69.91
SIMLR 26.30 0.64 30.33
SIMLR_Estimate_Number_of_Clusters 3.54 0.25 7.44
* checking for unstated dependencies in 'tests' ... OK
* checking tests ...
** running tests for arch 'i386' ...
Running 'testthat.R'
OK
** running tests for arch 'x64' ...
Running 'testthat.R'
OK
* checking for unstated dependencies in vignettes ... OK
* checking package vignettes in 'inst/doc' ... OK
* checking running R code from vignettes ... SKIPPED
* checking re-building of vignette outputs ... SKIPPED
* checking PDF version of manual ... OK
* DONE
Status: 2 NOTEs
See
'C:/Users/biocbuild/bbs-3.9-bioc/meat/SIMLR.Rcheck/00check.log'
for details.
SIMLR.Rcheck/00install.out
##############################################################################
##############################################################################
###
### Running command:
###
### C:\cygwin\bin\curl.exe -O https://malbec2.bioconductor.org/BBS/3.9/bioc/src/contrib/SIMLR_1.10.0.tar.gz && rm -rf SIMLR.buildbin-libdir && mkdir SIMLR.buildbin-libdir && C:\Users\biocbuild\bbs-3.9-bioc\R\bin\R.exe CMD INSTALL --merge-multiarch --build --library=SIMLR.buildbin-libdir SIMLR_1.10.0.tar.gz && C:\Users\biocbuild\bbs-3.9-bioc\R\bin\R.exe CMD INSTALL SIMLR_1.10.0.zip && rm SIMLR_1.10.0.tar.gz SIMLR_1.10.0.zip
###
##############################################################################
##############################################################################
% Total % Received % Xferd Average Speed Time Time Time Current
Dload Upload Total Spent Left Speed
0 0 0 0 0 0 0 0 --:--:-- --:--:-- --:--:-- 0
100 3393k 100 3393k 0 0 33.8M 0 --:--:-- --:--:-- --:--:-- 36.4M
install for i386
* installing *source* package 'SIMLR' ...
** using staged installation
** libs
C:/Rtools/mingw_32/bin/g++ -I"C:/Users/BIOCBU~1/BBS-3~1.9-B/R/include" -DNDEBUG -I"C:/Users/biocbuild/bbs-3.9-bioc/R/library/Rcpp/include" -I"C:/extsoft/include" -O2 -Wall -mtune=generic -c RcppExports.cpp -o RcppExports.o
C:/Rtools/mingw_32/bin/g++ -I"C:/Users/BIOCBU~1/BBS-3~1.9-B/R/include" -DNDEBUG -I"C:/Users/biocbuild/bbs-3.9-bioc/R/library/Rcpp/include" -I"C:/extsoft/include" -O2 -Wall -mtune=generic -c Rtsne.cpp -o Rtsne.o
C:/Rtools/mingw_32/bin/gcc -I"C:/Users/BIOCBU~1/BBS-3~1.9-B/R/include" -DNDEBUG -I"C:/Users/biocbuild/bbs-3.9-bioc/R/library/Rcpp/include" -I"C:/extsoft/include" -O3 -Wall -std=gnu99 -mtune=generic -c projsplx_R.c -o projsplx_R.o
C:/Rtools/mingw_32/bin/g++ -I"C:/Users/BIOCBU~1/BBS-3~1.9-B/R/include" -DNDEBUG -I"C:/Users/biocbuild/bbs-3.9-bioc/R/library/Rcpp/include" -I"C:/extsoft/include" -O2 -Wall -mtune=generic -c sptree.cpp -o sptree.o
C:/Rtools/mingw_32/bin/g++ -I"C:/Users/BIOCBU~1/BBS-3~1.9-B/R/include" -DNDEBUG -I"C:/Users/biocbuild/bbs-3.9-bioc/R/library/Rcpp/include" -I"C:/extsoft/include" -O2 -Wall -mtune=generic -c tsne.cpp -o tsne.o
In file included from tsne.cpp:41:0:
vptree.h: In instantiation of 'void VpTree::search(VpTree::Node*, const T&, int, std::priority_queue::HeapItem>&) [with T = DataPoint; double (* distance)(const T&, const T&) = precomputed_distance; typename std::vector::HeapItem, std::allocator::HeapItem> >::value_type = VpTree::HeapItem]':
vptree.h:131:38: required from 'void VpTree::search(const T&, int, std::vector*, std::vector*) [with T = DataPoint; double (* distance)(const T&, const T&) = precomputed_distance]'
tsne.cpp:472:59: required from here
vptree.h:237:28: warning: comparison between signed and unsigned integer expressions [-Wsign-compare]
if(heap.size() == k) heap.pop(); // remove furthest node from result list (if we already have k results)
^
In file included from tsne.cpp:41:0:
vptree.h:239:28: warning: comparison between signed and unsigned integer expressions [-Wsign-compare]
if(heap.size() == k) _tau = heap.top().dist; // update value of tau (farthest point in result list)
^
In file included from tsne.cpp:41:0:
vptree.h: In instantiation of 'void VpTree::search(VpTree::Node*, const T&, int, std::priority_queue::HeapItem>&) [with T = DataPoint; double (* distance)(const T&, const T&) = euclidean_distance; typename std::vector::HeapItem, std::allocator::HeapItem> >::value_type = VpTree::HeapItem]':
vptree.h:131:38: required from 'void VpTree::search(const T&, int, std::vector*, std::vector*) [with T = DataPoint; double (* distance)(const T&, const T&) = euclidean_distance]'
tsne.cpp:550:59: required from here
vptree.h:237:28: warning: comparison between signed and unsigned integer expressions [-Wsign-compare]
if(heap.size() == k) heap.pop(); // remove furthest node from result list (if we already have k results)
^
In file included from tsne.cpp:41:0:
vptree.h:239:28: warning: comparison between signed and unsigned integer expressions [-Wsign-compare]
if(heap.size() == k) _tau = heap.top().dist; // update value of tau (farthest point in result list)
^
C:/Rtools/mingw_32/bin/g++ -shared -s -static-libgcc -o SIMLR.dll tmp.def RcppExports.o Rtsne.o projsplx_R.o sptree.o tsne.o -LC:/Users/BIOCBU~1/BBS-3~1.9-B/R/bin/i386 -lRlapack -LC:/Users/BIOCBU~1/BBS-3~1.9-B/R/bin/i386 -lRblas -lgfortran -lm -lquadmath -LC:/extsoft/lib/i386 -LC:/extsoft/lib -LC:/Users/BIOCBU~1/BBS-3~1.9-B/R/bin/i386 -lR
installing to C:/Users/biocbuild/bbs-3.9-bioc/meat/SIMLR.buildbin-libdir/00LOCK-SIMLR/00new/SIMLR/libs/i386
** R
** data
*** moving datasets to lazyload DB
** inst
** byte-compile and prepare package for lazy loading
** help
*** installing help indices
converting help for package 'SIMLR'
finding HTML links ... done
BuettnerFlorian html
CIMLR html
CIMLR_Estimate_Number_of_Clusters html
SIMLR html
SIMLR_Estimate_Number_of_Clusters html
SIMLR_Feature_Ranking html
SIMLR_Large_Scale html
ZeiselAmit html
** building package indices
** installing vignettes
** testing if installed package can be loaded from temporary location
** testing if installed package can be loaded from final location
** testing if installed package keeps a record of temporary installation path
install for x64
* installing *source* package 'SIMLR' ...
** libs
C:/Rtools/mingw_64/bin/g++ -I"C:/Users/BIOCBU~1/BBS-3~1.9-B/R/include" -DNDEBUG -I"C:/Users/biocbuild/bbs-3.9-bioc/R/library/Rcpp/include" -I"C:/extsoft/include" -O2 -Wall -mtune=generic -c RcppExports.cpp -o RcppExports.o
C:/Rtools/mingw_64/bin/g++ -I"C:/Users/BIOCBU~1/BBS-3~1.9-B/R/include" -DNDEBUG -I"C:/Users/biocbuild/bbs-3.9-bioc/R/library/Rcpp/include" -I"C:/extsoft/include" -O2 -Wall -mtune=generic -c Rtsne.cpp -o Rtsne.o
C:/Rtools/mingw_64/bin/gcc -I"C:/Users/BIOCBU~1/BBS-3~1.9-B/R/include" -DNDEBUG -I"C:/Users/biocbuild/bbs-3.9-bioc/R/library/Rcpp/include" -I"C:/extsoft/include" -O2 -Wall -std=gnu99 -mtune=generic -c projsplx_R.c -o projsplx_R.o
C:/Rtools/mingw_64/bin/g++ -I"C:/Users/BIOCBU~1/BBS-3~1.9-B/R/include" -DNDEBUG -I"C:/Users/biocbuild/bbs-3.9-bioc/R/library/Rcpp/include" -I"C:/extsoft/include" -O2 -Wall -mtune=generic -c sptree.cpp -o sptree.o
C:/Rtools/mingw_64/bin/g++ -I"C:/Users/BIOCBU~1/BBS-3~1.9-B/R/include" -DNDEBUG -I"C:/Users/biocbuild/bbs-3.9-bioc/R/library/Rcpp/include" -I"C:/extsoft/include" -O2 -Wall -mtune=generic -c tsne.cpp -o tsne.o
In file included from tsne.cpp:41:0:
vptree.h: In instantiation of 'void VpTree::search(VpTree::Node*, const T&, int, std::priority_queue::HeapItem>&) [with T = DataPoint; double (* distance)(const T&, const T&) = precomputed_distance; typename std::vector::HeapItem, std::allocator::HeapItem> >::value_type = VpTree::HeapItem]':
vptree.h:131:38: required from 'void VpTree::search(const T&, int, std::vector*, std::vector*) [with T = DataPoint; double (* distance)(const T&, const T&) = precomputed_distance]'
tsne.cpp:472:59: required from here
vptree.h:237:28: warning: comparison between signed and unsigned integer expressions [-Wsign-compare]
if(heap.size() == k) heap.pop(); // remove furthest node from result list (if we already have k results)
^
In file included from tsne.cpp:41:0:
vptree.h:239:28: warning: comparison between signed and unsigned integer expressions [-Wsign-compare]
if(heap.size() == k) _tau = heap.top().dist; // update value of tau (farthest point in result list)
^
In file included from tsne.cpp:41:0:
vptree.h: In instantiation of 'void VpTree::search(VpTree::Node*, const T&, int, std::priority_queue::HeapItem>&) [with T = DataPoint; double (* distance)(const T&, const T&) = euclidean_distance; typename std::vector::HeapItem, std::allocator::HeapItem> >::value_type = VpTree::HeapItem]':
vptree.h:131:38: required from 'void VpTree::search(const T&, int, std::vector*, std::vector*) [with T = DataPoint; double (* distance)(const T&, const T&) = euclidean_distance]'
tsne.cpp:550:59: required from here
vptree.h:237:28: warning: comparison between signed and unsigned integer expressions [-Wsign-compare]
if(heap.size() == k) heap.pop(); // remove furthest node from result list (if we already have k results)
^
In file included from tsne.cpp:41:0:
vptree.h:239:28: warning: comparison between signed and unsigned integer expressions [-Wsign-compare]
if(heap.size() == k) _tau = heap.top().dist; // update value of tau (farthest point in result list)
^
C:/Rtools/mingw_64/bin/g++ -shared -s -static-libgcc -o SIMLR.dll tmp.def RcppExports.o Rtsne.o projsplx_R.o sptree.o tsne.o -LC:/Users/BIOCBU~1/BBS-3~1.9-B/R/bin/x64 -lRlapack -LC:/Users/BIOCBU~1/BBS-3~1.9-B/R/bin/x64 -lRblas -lgfortran -lm -lquadmath -LC:/extsoft/lib/x64 -LC:/extsoft/lib -LC:/Users/BIOCBU~1/BBS-3~1.9-B/R/bin/x64 -lR
installing to C:/Users/biocbuild/bbs-3.9-bioc/meat/SIMLR.buildbin-libdir/SIMLR/libs/x64
** testing if installed package can be loaded
* MD5 sums
packaged installation of 'SIMLR' as SIMLR_1.10.0.zip
* DONE (SIMLR)
* installing to library 'C:/Users/biocbuild/bbs-3.9-bioc/R/library'
package 'SIMLR' successfully unpacked and MD5 sums checked
|
SIMLR.Rcheck/tests_i386/testthat.Rout
R version 3.6.1 (2019-07-05) -- "Action of the Toes"
Copyright (C) 2019 The R Foundation for Statistical Computing
Platform: i386-w64-mingw32/i386 (32-bit)
R is free software and comes with ABSOLUTELY NO WARRANTY.
You are welcome to redistribute it under certain conditions.
Type 'license()' or 'licence()' for distribution details.
R is a collaborative project with many contributors.
Type 'contributors()' for more information and
'citation()' on how to cite R or R packages in publications.
Type 'demo()' for some demos, 'help()' for on-line help, or
'help.start()' for an HTML browser interface to help.
Type 'q()' to quit R.
> Sys.setenv("R_TESTS" = "")
>
> library("testthat")
> library("SIMLR")
>
> test_check("SIMLR")
Computing the multiple Kernels.
Performing network diffiusion.
Iteration: 1
Iteration: 2
Iteration: 3
Iteration: 4
Iteration: 5
Iteration: 6
Iteration: 7
Iteration: 8
Iteration: 9
Iteration: 10
Iteration: 11
Performing t-SNE.
Epoch: Iteration # 100 error is: 0.08740277
Epoch: Iteration # 200 error is: 0.06109835
Epoch: Iteration # 300 error is: 0.06055804
Epoch: Iteration # 400 error is: 0.06016488
Epoch: Iteration # 500 error is: 0.05986345
Epoch: Iteration # 600 error is: 0.05962175
Epoch: Iteration # 700 error is: 0.05942497
Epoch: Iteration # 800 error is: 0.05926368
Epoch: Iteration # 900 error is: 0.05912282
Epoch: Iteration # 1000 error is: 0.05900041
Performing Kmeans.
Performing t-SNE.
Epoch: Iteration # 100 error is: 10.43159
Epoch: Iteration # 200 error is: 1.152353
Epoch: Iteration # 300 error is: 0.535325
Epoch: Iteration # 400 error is: 0.3563694
Epoch: Iteration # 500 error is: 0.5033024
Epoch: Iteration # 600 error is: 0.6174326
Epoch: Iteration # 700 error is: 0.619967
Epoch: Iteration # 800 error is: 0.5707983
Epoch: Iteration # 900 error is: 0.6840063
Epoch: Iteration # 1000 error is: 0.5473616
Computing the multiple Kernels.
Performing network diffiusion.
Iteration: 1
Iteration: 2
Iteration: 3
Iteration: 4
Iteration: 5
Iteration: 6
Iteration: 7
Iteration: 8
Iteration: 9
Iteration: 10
Iteration: 11
Iteration: 12
Iteration: 13
Iteration: 14
Iteration: 15
Iteration: 16
Iteration: 17
Performing t-SNE.
Epoch: Iteration # 100 error is: 0.08761389
Epoch: Iteration # 200 error is: 0.08028096
Epoch: Iteration # 300 error is: 0.07380264
Epoch: Iteration # 400 error is: 0.07001242
Epoch: Iteration # 500 error is: 0.06980527
Epoch: Iteration # 600 error is: 0.06965419
Epoch: Iteration # 700 error is: 0.06952878
Epoch: Iteration # 800 error is: 0.06942423
Epoch: Iteration # 900 error is: 0.06933381
Epoch: Iteration # 1000 error is: 0.06925543
Performing Kmeans.
Performing t-SNE.
Epoch: Iteration # 100 error is: 11.00569
Epoch: Iteration # 200 error is: 0.8732509
Epoch: Iteration # 300 error is: 0.369146
Epoch: Iteration # 400 error is: 0.1425068
Epoch: Iteration # 500 error is: 0.1397317
Epoch: Iteration # 600 error is: 0.1388706
Epoch: Iteration # 700 error is: 0.1378182
Epoch: Iteration # 800 error is: 0.1367043
Epoch: Iteration # 900 error is: 0.1357753
Epoch: Iteration # 1000 error is: 0.1348406
Computing the multiple Kernels.
Performing network diffiusion.
Iteration: 1
Iteration: 2
Iteration: 3
Iteration: 4
Iteration: 5
Iteration: 6
Iteration: 7
Iteration: 8
Iteration: 9
Iteration: 10
Iteration: 11
Performing t-SNE.
Epoch: Iteration # 100 error is: 0.0844205
Epoch: Iteration # 200 error is: 0.06261698
Epoch: Iteration # 300 error is: 0.06200857
Epoch: Iteration # 400 error is: 0.06155497
Epoch: Iteration # 500 error is: 0.06121478
Epoch: Iteration # 600 error is: 0.06095032
Epoch: Iteration # 700 error is: 0.06073815
Epoch: Iteration # 800 error is: 0.06055936
Epoch: Iteration # 900 error is: 0.06040826
Epoch: Iteration # 1000 error is: 0.06027554
Performing Kmeans.
Performing t-SNE.
Epoch: Iteration # 100 error is: 11.21307
Epoch: Iteration # 200 error is: 0.606089
Epoch: Iteration # 300 error is: 0.3880375
Epoch: Iteration # 400 error is: 0.4020339
Epoch: Iteration # 500 error is: 0.4039224
Epoch: Iteration # 600 error is: 0.5635172
Epoch: Iteration # 700 error is: 0.5764147
Epoch: Iteration # 800 error is: 0.3698963
Epoch: Iteration # 900 error is: 0.3496259
Epoch: Iteration # 1000 error is: 0.4308954
1
2
3
4
5
6
7
8
9
10
11
12
13
14
15
16
17
18
19
20
21
22
23
24
25
26
27
28
29
30
31
32
33
34
35
36
37
38
39
40
41
42
43
44
45
46
47
48
49
50
51
52
53
54
55
56
57
58
59
60
61
62
63
64
65
66
67
68
69
70
71
72
73
74
75
76
77
78
79
80
81
82
83
84
85
86
87
88
89
90
91
92
93
94
95
96
97
98
99
100
== testthat results ===========================================================
[ OK: 4 | SKIPPED: 0 | WARNINGS: 3 | FAILED: 0 ]
>
> proc.time()
user system elapsed
167.04 5.96 182.92
|
SIMLR.Rcheck/tests_x64/testthat.Rout
R version 3.6.1 (2019-07-05) -- "Action of the Toes"
Copyright (C) 2019 The R Foundation for Statistical Computing
Platform: x86_64-w64-mingw32/x64 (64-bit)
R is free software and comes with ABSOLUTELY NO WARRANTY.
You are welcome to redistribute it under certain conditions.
Type 'license()' or 'licence()' for distribution details.
R is a collaborative project with many contributors.
Type 'contributors()' for more information and
'citation()' on how to cite R or R packages in publications.
Type 'demo()' for some demos, 'help()' for on-line help, or
'help.start()' for an HTML browser interface to help.
Type 'q()' to quit R.
> Sys.setenv("R_TESTS" = "")
>
> library("testthat")
> library("SIMLR")
>
> test_check("SIMLR")
Computing the multiple Kernels.
Performing network diffiusion.
Iteration: 1
Iteration: 2
Iteration: 3
Iteration: 4
Iteration: 5
Iteration: 6
Iteration: 7
Iteration: 8
Iteration: 9
Iteration: 10
Iteration: 11
Performing t-SNE.
Epoch: Iteration # 100 error is: 0.1311273
Epoch: Iteration # 200 error is: 0.08447631
Epoch: Iteration # 300 error is: 0.05910928
Epoch: Iteration # 400 error is: 0.05898365
Epoch: Iteration # 500 error is: 0.05886629
Epoch: Iteration # 600 error is: 0.05876227
Epoch: Iteration # 700 error is: 0.05867166
Epoch: Iteration # 800 error is: 0.05858929
Epoch: Iteration # 900 error is: 0.05851553
Epoch: Iteration # 1000 error is: 0.05844804
Performing Kmeans.
Performing t-SNE.
Epoch: Iteration # 100 error is: 10.34772
Epoch: Iteration # 200 error is: 0.6912318
Epoch: Iteration # 300 error is: 0.4397355
Epoch: Iteration # 400 error is: 0.4030887
Epoch: Iteration # 500 error is: 0.4457903
Epoch: Iteration # 600 error is: 0.5108798
Epoch: Iteration # 700 error is: 0.3890641
Epoch: Iteration # 800 error is: 0.5853666
Epoch: Iteration # 900 error is: 0.4967315
Epoch: Iteration # 1000 error is: 0.5775098
Computing the multiple Kernels.
Performing network diffiusion.
Iteration: 1
Iteration: 2
Iteration: 3
Iteration: 4
Iteration: 5
Iteration: 6
Iteration: 7
Iteration: 8
Iteration: 9
Iteration: 10
Iteration: 11
Iteration: 12
Iteration: 13
Iteration: 14
Iteration: 15
Iteration: 16
Iteration: 17
Performing t-SNE.
Epoch: Iteration # 100 error is: 0.07970942
Epoch: Iteration # 200 error is: 0.07255431
Epoch: Iteration # 300 error is: 0.0657675
Epoch: Iteration # 400 error is: 0.06374375
Epoch: Iteration # 500 error is: 0.06352177
Epoch: Iteration # 600 error is: 0.06334371
Epoch: Iteration # 700 error is: 0.0632008
Epoch: Iteration # 800 error is: 0.06308117
Epoch: Iteration # 900 error is: 0.06298124
Epoch: Iteration # 1000 error is: 0.06289702
Performing Kmeans.
Performing t-SNE.
Epoch: Iteration # 100 error is: 11.83472
Epoch: Iteration # 200 error is: 0.9735152
Epoch: Iteration # 300 error is: 0.5588144
Epoch: Iteration # 400 error is: 0.8672979
Epoch: Iteration # 500 error is: 0.4873019
Epoch: Iteration # 600 error is: 0.3949854
Epoch: Iteration # 700 error is: 0.4256341
Epoch: Iteration # 800 error is: 0.3572155
Epoch: Iteration # 900 error is: 0.320644
Epoch: Iteration # 1000 error is: 0.1650704
Computing the multiple Kernels.
Performing network diffiusion.
Iteration: 1
Iteration: 2
Iteration: 3
Iteration: 4
Iteration: 5
Iteration: 6
Iteration: 7
Iteration: 8
Iteration: 9
Iteration: 10
Iteration: 11
Performing t-SNE.
Epoch: Iteration # 100 error is: 0.1319537
Epoch: Iteration # 200 error is: 0.08297851
Epoch: Iteration # 300 error is: 0.05963012
Epoch: Iteration # 400 error is: 0.05956346
Epoch: Iteration # 500 error is: 0.05950619
Epoch: Iteration # 600 error is: 0.05945345
Epoch: Iteration # 700 error is: 0.05940402
Epoch: Iteration # 800 error is: 0.05935821
Epoch: Iteration # 900 error is: 0.05931587
Epoch: Iteration # 1000 error is: 0.05927651
Performing Kmeans.
Performing t-SNE.
Epoch: Iteration # 100 error is: 10.93158
Epoch: Iteration # 200 error is: 0.6696918
Epoch: Iteration # 300 error is: 0.4965387
Epoch: Iteration # 400 error is: 0.6157384
Epoch: Iteration # 500 error is: 0.4618839
Epoch: Iteration # 600 error is: 0.4043852
Epoch: Iteration # 700 error is: 0.3641809
Epoch: Iteration # 800 error is: 0.327986
Epoch: Iteration # 900 error is: 0.3068811
Epoch: Iteration # 1000 error is: 0.2915099
1
2
3
4
5
6
7
8
9
10
11
12
13
14
15
16
17
18
19
20
21
22
23
24
25
26
27
28
29
30
31
32
33
34
35
36
37
38
39
40
41
42
43
44
45
46
47
48
49
50
51
52
53
54
55
56
57
58
59
60
61
62
63
64
65
66
67
68
69
70
71
72
73
74
75
76
77
78
79
80
81
82
83
84
85
86
87
88
89
90
91
92
93
94
95
96
97
98
99
100
== testthat results ===========================================================
[ OK: 4 | SKIPPED: 0 | WARNINGS: 3 | FAILED: 0 ]
>
> proc.time()
user system elapsed
146.01 5.76 161.17
|
|
SIMLR.Rcheck/examples_i386/SIMLR-Ex.timings
|
SIMLR.Rcheck/examples_x64/SIMLR-Ex.timings
|