| Back to Multiple platform build/check report for BioC 3.9 | 
 | 
This page was generated on 2019-10-16 12:56:38 -0400 (Wed, 16 Oct 2019).
| Package 1377/1741 | Hostname | OS / Arch | INSTALL | BUILD | CHECK | BUILD BIN | ||||||
| RiboProfiling 1.14.0 A. Popa 
 | malbec2 | Linux (Ubuntu 18.04.2 LTS) / x86_64 | OK | OK | WARNINGS |  | ||||||
| tokay2 | Windows Server 2012 R2 Standard / x64 | OK | OK | WARNINGS | OK |  | ||||||
| celaya2 | OS X 10.11.6 El Capitan / x86_64 | OK | OK | WARNINGS | [ OK ] |  | 
| Package: RiboProfiling | 
| Version: 1.14.0 | 
| Command: rm -rf RiboProfiling.buildbin-libdir && mkdir RiboProfiling.buildbin-libdir && /Users/biocbuild/BBS/utils/build-universal.sh RiboProfiling_1.14.0.tar.gz /Library/Frameworks/R.framework/Versions/Current/Resources/bin/R RiboProfiling.buildbin-libdir | 
| StartedAt: 2019-10-16 09:17:02 -0400 (Wed, 16 Oct 2019) | 
| EndedAt: 2019-10-16 09:18:01 -0400 (Wed, 16 Oct 2019) | 
| EllapsedTime: 59.0 seconds | 
| RetCode: 0 | 
| Status: OK | 
| PackageFile: RiboProfiling_1.14.0.tgz | 
| PackageFileSize: 4.787 MiB | 
############################################################################## ############################################################################## ### ### Running command: ### ### rm -rf RiboProfiling.buildbin-libdir && mkdir RiboProfiling.buildbin-libdir && /Users/biocbuild/BBS/utils/build-universal.sh RiboProfiling_1.14.0.tar.gz /Library/Frameworks/R.framework/Versions/Current/Resources/bin/R RiboProfiling.buildbin-libdir ### ############################################################################## ############################################################################## >>>>>>> >>>>>>> INSTALLATION WITH 'R CMD INSTALL --preclean --no-multiarch --library=RiboProfiling.buildbin-libdir RiboProfiling_1.14.0.tar.gz' >>>>>>> * installing *source* package ‘RiboProfiling’ ... ** using staged installation ** R ** data ** inst ** byte-compile and prepare package for lazy loading Warning: replacing previous import ‘BiocGenerics::Position’ by ‘ggplot2::Position’ when loading ‘RiboProfiling’ ** help *** installing help indices ** building package indices ** installing vignettes ** testing if installed package can be loaded from temporary location Warning: replacing previous import ‘BiocGenerics::Position’ by ‘ggplot2::Position’ when loading ‘RiboProfiling’ ** testing if installed package can be loaded from final location Warning: replacing previous import ‘BiocGenerics::Position’ by ‘ggplot2::Position’ when loading ‘RiboProfiling’ ** testing if installed package keeps a record of temporary installation path * DONE (RiboProfiling)