| Back to Multiple platform build/check report for BioC 3.9 |
|
This page was generated on 2019-10-15 13:04:01 -0400 (Tue, 15 Oct 2019).
| Package 1349/1741 | Hostname | OS / Arch | INSTALL | BUILD | CHECK | BUILD BIN | ||||||
| RefNet 1.20.0 Paul Shannon
| malbec2 | Linux (Ubuntu 18.04.2 LTS) / x86_64 | OK | OK | ERROR | |||||||
| tokay2 | Windows Server 2012 R2 Standard / x64 | OK | OK | OK | [ OK ] | |||||||
| celaya2 | OS X 10.11.6 El Capitan / x86_64 | OK | OK | OK | OK |
| Package: RefNet |
| Version: 1.20.0 |
| Command: rm -rf RefNet.buildbin-libdir && mkdir RefNet.buildbin-libdir && C:\Users\biocbuild\bbs-3.9-bioc\R\bin\R.exe CMD INSTALL --merge-multiarch --build --library=RefNet.buildbin-libdir RefNet_1.20.0.tar.gz |
| StartedAt: 2019-10-15 10:02:57 -0400 (Tue, 15 Oct 2019) |
| EndedAt: 2019-10-15 10:03:28 -0400 (Tue, 15 Oct 2019) |
| EllapsedTime: 31.2 seconds |
| RetCode: 0 |
| Status: OK |
| PackageFile: RefNet_1.20.0.zip |
| PackageFileSize: 456.2 KiB |
##############################################################################
##############################################################################
###
### Running command:
###
### rm -rf RefNet.buildbin-libdir && mkdir RefNet.buildbin-libdir && C:\Users\biocbuild\bbs-3.9-bioc\R\bin\R.exe CMD INSTALL --merge-multiarch --build --library=RefNet.buildbin-libdir RefNet_1.20.0.tar.gz
###
##############################################################################
##############################################################################
install for i386
* installing *source* package 'RefNet' ...
** using staged installation
** R
** inst
** byte-compile and prepare package for lazy loading
Warning message:
replacing previous import 'IRanges::desc' by 'plyr::desc' when loading 'PSICQUIC'
** help
*** installing help indices
converting help for package 'RefNet'
finding HTML links ... done
RefNet-class html
detectDuplicateInteractions html
interactions html
pickBestFromDupGroup html
providerClasses html
providers html
pubmedAbstract html
** building package indices
** installing vignettes
** testing if installed package can be loaded from temporary location
Warning: replacing previous import 'IRanges::desc' by 'plyr::desc' when loading 'PSICQUIC'
** testing if installed package can be loaded from final location
Warning: replacing previous import 'IRanges::desc' by 'plyr::desc' when loading 'PSICQUIC'
** testing if installed package keeps a record of temporary installation path
install for x64
* installing *source* package 'RefNet' ...
** testing if installed package can be loaded
Warning: replacing previous import 'IRanges::desc' by 'plyr::desc' when loading 'PSICQUIC'
* MD5 sums
packaged installation of 'RefNet' as RefNet_1.20.0.zip
* DONE (RefNet)