| Back to Multiple platform build/check report for BioC 3.9 | 
 | 
This page was generated on 2019-10-16 12:39:14 -0400 (Wed, 16 Oct 2019).
| Package 1320/1741 | Hostname | OS / Arch | INSTALL | BUILD | CHECK | BUILD BIN | ||||||
| Rbowtie2 1.6.0 Zheng Wei 
 | malbec2 | Linux (Ubuntu 18.04.2 LTS) / x86_64 | OK | OK | OK |  | ||||||
| tokay2 | Windows Server 2012 R2 Standard / x64 | OK | [ OK ] | OK | OK |  | ||||||
| celaya2 | OS X 10.11.6 El Capitan / x86_64 | OK | OK | OK | OK |  | 
| Package: Rbowtie2 | 
| Version: 1.6.0 | 
| Command: chmod a+r Rbowtie2 -R && C:\Users\biocbuild\bbs-3.9-bioc\R\bin\R.exe --arch x64 CMD build --keep-empty-dirs --no-resave-data Rbowtie2 | 
| StartedAt: 2019-10-16 00:41:52 -0400 (Wed, 16 Oct 2019) | 
| EndedAt: 2019-10-16 00:46:41 -0400 (Wed, 16 Oct 2019) | 
| EllapsedTime: 288.8 seconds | 
| RetCode: 0 | 
| Status: OK | 
| PackageFile: Rbowtie2_1.6.0.tar.gz | 
| PackageFileSize: 1.147 MiB | 
############################################################################## ############################################################################## ### ### Running command: ### ### chmod a+r Rbowtie2 -R && C:\Users\biocbuild\bbs-3.9-bioc\R\bin\R.exe --arch x64 CMD build --keep-empty-dirs --no-resave-data Rbowtie2 ### ############################################################################## ############################################################################## * checking for file 'Rbowtie2/DESCRIPTION' ... OK * preparing 'Rbowtie2': * checking DESCRIPTION meta-information ... OK * cleaning src * installing the package to build vignettes * creating vignettes ... OK * cleaning src * checking for LF line-endings in source and make files and shell scripts * checking for empty or unneeded directories * building 'Rbowtie2_1.6.0.tar.gz'