| Back to Multiple platform build/check report for BioC 3.9 | 
 | 
This page was generated on 2019-10-16 12:29:42 -0400 (Wed, 16 Oct 2019).
| Package 1313/1741 | Hostname | OS / Arch | INSTALL | BUILD | CHECK | BUILD BIN | ||||||
| Rariant 1.20.0 Julian Gehring 
 | malbec2 | Linux (Ubuntu 18.04.2 LTS) / x86_64 | OK | OK | WARNINGS |  | ||||||
| tokay2 | Windows Server 2012 R2 Standard / x64 | OK | [ OK ] | WARNINGS | OK |  | ||||||
| celaya2 | OS X 10.11.6 El Capitan / x86_64 | OK | OK | WARNINGS | OK |  | 
| Package: Rariant | 
| Version: 1.20.0 | 
| Command: chmod a+r Rariant -R && C:\Users\biocbuild\bbs-3.9-bioc\R\bin\R.exe CMD build --keep-empty-dirs --no-resave-data Rariant | 
| StartedAt: 2019-10-15 22:52:30 -0400 (Tue, 15 Oct 2019) | 
| EndedAt: 2019-10-15 23:02:50 -0400 (Tue, 15 Oct 2019) | 
| EllapsedTime: 620.5 seconds | 
| RetCode: 0 | 
| Status: OK | 
| PackageFile: Rariant_1.20.0.tar.gz | 
| PackageFileSize: 5.834 MiB | 
############################################################################## ############################################################################## ### ### Running command: ### ### chmod a+r Rariant -R && C:\Users\biocbuild\bbs-3.9-bioc\R\bin\R.exe CMD build --keep-empty-dirs --no-resave-data Rariant ### ############################################################################## ############################################################################## * checking for file 'Rariant/DESCRIPTION' ... OK * preparing 'Rariant': * checking DESCRIPTION meta-information ... OK * installing the package to build vignettes * creating vignettes ... OK * checking for LF line-endings in source and make files and shell scripts * checking for empty or unneeded directories * building 'Rariant_1.20.0.tar.gz'