| Back to Multiple platform build/check report for BioC 3.9 |
|
This page was generated on 2019-04-09 13:25:32 -0400 (Tue, 09 Apr 2019).
| Package 1277/1703 | Hostname | OS / Arch | INSTALL | BUILD | CHECK | BUILD BIN | ||||||
| R453Plus1Toolbox 1.33.0 Hans-Ulrich Klein
| malbec2 | Linux (Ubuntu 18.04.2 LTS) / x86_64 | OK | OK | OK | |||||||
| tokay2 | Windows Server 2012 R2 Standard / x64 | OK | OK | OK | OK | |||||||
| celaya2 | OS X 10.11.6 El Capitan / x86_64 | OK | OK | OK | OK | |||||||
| merida2 | OS X 10.11.6 El Capitan / x86_64 | OK | OK | [ OK ] | OK |
| Package: R453Plus1Toolbox |
| Version: 1.33.0 |
| Command: /Library/Frameworks/R.framework/Versions/Current/Resources/bin/R CMD check --install=check:R453Plus1Toolbox.install-out.txt --library=/Library/Frameworks/R.framework/Versions/Current/Resources/library --no-vignettes --timings R453Plus1Toolbox_1.33.0.tar.gz |
| StartedAt: 2019-04-09 03:08:46 -0400 (Tue, 09 Apr 2019) |
| EndedAt: 2019-04-09 03:15:12 -0400 (Tue, 09 Apr 2019) |
| EllapsedTime: 385.8 seconds |
| RetCode: 0 |
| Status: OK |
| CheckDir: R453Plus1Toolbox.Rcheck |
| Warnings: 0 |
##############################################################################
##############################################################################
###
### Running command:
###
### /Library/Frameworks/R.framework/Versions/Current/Resources/bin/R CMD check --install=check:R453Plus1Toolbox.install-out.txt --library=/Library/Frameworks/R.framework/Versions/Current/Resources/library --no-vignettes --timings R453Plus1Toolbox_1.33.0.tar.gz
###
##############################################################################
##############################################################################
* using log directory ‘/Users/biocbuild/bbs-3.9-bioc/meat/R453Plus1Toolbox.Rcheck’
* using R Under development (unstable) (2018-11-27 r75683)
* using platform: x86_64-apple-darwin15.6.0 (64-bit)
* using session charset: UTF-8
* using option ‘--no-vignettes’
* checking for file ‘R453Plus1Toolbox/DESCRIPTION’ ... OK
* checking extension type ... Package
* this is package ‘R453Plus1Toolbox’ version ‘1.33.0’
* checking package namespace information ... OK
* checking package dependencies ... OK
* checking if this is a source package ... OK
* checking if there is a namespace ... OK
* checking for hidden files and directories ... OK
* checking for portable file names ... OK
* checking for sufficient/correct file permissions ... OK
* checking whether package ‘R453Plus1Toolbox’ can be installed ... OK
* checking installed package size ... OK
* checking package directory ... OK
* checking ‘build’ directory ... OK
* checking DESCRIPTION meta-information ... OK
* checking top-level files ... OK
* checking for left-over files ... OK
* checking index information ... OK
* checking package subdirectories ... OK
* checking R files for non-ASCII characters ... OK
* checking R files for syntax errors ... OK
* checking whether the package can be loaded ... OK
* checking whether the package can be loaded with stated dependencies ... OK
* checking whether the package can be unloaded cleanly ... OK
* checking whether the namespace can be loaded with stated dependencies ... OK
* checking whether the namespace can be unloaded cleanly ... OK
* checking dependencies in R code ... NOTE
'library' or 'require' call to ‘BSgenome.Hsapiens.UCSC.hg19’ in package code.
Please use :: or requireNamespace() instead.
See section 'Suggested packages' in the 'Writing R Extensions' manual.
* checking S3 generic/method consistency ... OK
* checking replacement functions ... OK
* checking foreign function calls ... OK
* checking R code for possible problems ... NOTE
.annotateVariants_MapperSet: no visible binding for global variable
‘Hsapiens’
.ava2vcf: no visible binding for global variable ‘Hsapiens’
.detectBreakpoints: no visible binding for global variable ‘Hsapiens’
.getEnsemblInfo: no visible binding for global variable ‘cds_length’
.getEnsemblInfo: no visible binding for global variable
‘ensembl_transcript_id’
.getMutations: no visible binding for global variable ‘PatternStart’
.getMutations: no visible binding for global variable ‘PatternEnd’
.htmlReport: no visible binding for global variable ‘VarFreqForward’
.htmlReport: no visible binding for global variable ‘VarFreqReverse’
.plotVariants: no visible binding for global variable ‘mutation’
qualityReportSFF: no visible binding for '<<-' assignment to ‘tmp’
annotateVariants,MapperSet-BSgenome: no visible binding for global
variable ‘Hsapiens’
annotateVariants,MapperSet-missing: no visible binding for global
variable ‘Hsapiens’
ava2vcf,AVASet: no visible binding for global variable ‘Hsapiens’
detectBreakpoints,list: no visible binding for global variable
‘Hsapiens’
subset,AVASet: no visible binding for global variable ‘referenceSeqID’
Undefined global functions or variables:
Hsapiens PatternEnd PatternStart VarFreqForward VarFreqReverse
cds_length ensembl_transcript_id mutation referenceSeqID
* checking Rd files ... OK
* checking Rd metadata ... OK
* checking Rd cross-references ... OK
* checking for missing documentation entries ... OK
* checking for code/documentation mismatches ... OK
* checking Rd \usage sections ... OK
* checking Rd contents ... OK
* checking for unstated dependencies in examples ... OK
* checking contents of ‘data’ directory ... OK
* checking data for non-ASCII characters ... OK
* checking data for ASCII and uncompressed saves ... OK
* checking line endings in C/C++/Fortran sources/headers ... OK
* checking compiled code ... NOTE
Note: information on .o files is not available
* checking sizes of PDF files under ‘inst/doc’ ... OK
* checking files in ‘vignettes’ ... OK
* checking examples ... OK
Examples with CPU or elapsed time > 5s
user system elapsed
mergeBreakpoints 8.661 0.181 8.937
* checking for unstated dependencies in vignettes ... OK
* checking package vignettes in ‘inst/doc’ ... OK
* checking running R code from vignettes ... SKIPPED
* checking re-building of vignette outputs ... SKIPPED
* checking PDF version of manual ... OK
* DONE
Status: 3 NOTEs
See
‘/Users/biocbuild/bbs-3.9-bioc/meat/R453Plus1Toolbox.Rcheck/00check.log’
for details.
R453Plus1Toolbox.Rcheck/00install.out
############################################################################## ############################################################################## ### ### Running command: ### ### /Library/Frameworks/R.framework/Versions/Current/Resources/bin/R CMD INSTALL R453Plus1Toolbox ### ############################################################################## ############################################################################## * installing to library ‘/Library/Frameworks/R.framework/Versions/3.6/Resources/library’ * installing *source* package ‘R453Plus1Toolbox’ ... ** libs clang -I"/Library/Frameworks/R.framework/Resources/include" -DNDEBUG -I/usr/local/include -fPIC -Wall -g -O2 -c readSFF.c -o readSFF.o clang -I"/Library/Frameworks/R.framework/Resources/include" -DNDEBUG -I/usr/local/include -fPIC -Wall -g -O2 -c writeSFF.c -o writeSFF.o clang -dynamiclib -Wl,-headerpad_max_install_names -undefined dynamic_lookup -single_module -multiply_defined suppress -L/Library/Frameworks/R.framework/Resources/lib -L/usr/local/lib -o R453Plus1Toolbox.so readSFF.o writeSFF.o -F/Library/Frameworks/R.framework/.. -framework R -Wl,-framework -Wl,CoreFoundation installing to /Library/Frameworks/R.framework/Versions/3.6/Resources/library/R453Plus1Toolbox/libs ** R ** data ** inst ** byte-compile and prepare package for lazy loading ** help *** installing help indices ** building package indices ** installing vignettes ** testing if installed package can be loaded * DONE (R453Plus1Toolbox)
R453Plus1Toolbox.Rcheck/R453Plus1Toolbox-Ex.timings
| name | user | system | elapsed | |
| AVASet-class | 0.276 | 0.009 | 0.289 | |
| AVASet | 0.176 | 0.007 | 0.186 | |
| AnnotatedVariants-class | 0.002 | 0.001 | 0.002 | |
| MapperSet-class | 0.036 | 0.013 | 0.050 | |
| MapperSet | 0.006 | 0.003 | 0.009 | |
| SFFContainer-class | 0.001 | 0.000 | 0.001 | |
| SFFRead-class | 0.001 | 0.001 | 0.001 | |
| alignShortReads | 1.718 | 0.015 | 1.758 | |
| annotateVariants | 0.003 | 0.000 | 0.003 | |
| assayDataAmp | 0.006 | 0.002 | 0.008 | |
| ava2vcf | 0.292 | 0.008 | 0.305 | |
| avaSetExample | 0.017 | 0.002 | 0.019 | |
| avaSetFiltered | 0.028 | 0.002 | 0.030 | |
| avaSetFiltered_annot | 0.003 | 0.001 | 0.005 | |
| breakpoints | 0.006 | 0.002 | 0.009 | |
| calculateTiTv | 0.014 | 0.003 | 0.017 | |
| captureArray | 0.002 | 0.001 | 0.004 | |
| coverageOnTarget | 0.251 | 0.006 | 0.260 | |
| demultiplexReads | 0.112 | 0.009 | 0.122 | |
| detectBreakpoints | 0.890 | 0.092 | 0.990 | |
| fDataAmp | 0.022 | 0.003 | 0.024 | |
| featureDataAmp | 0.021 | 0.003 | 0.024 | |
| filterChimericReads | 4.415 | 0.046 | 4.512 | |
| genomeSequencerMIDs | 0.034 | 0.001 | 0.034 | |
| getAlignedReads | 0.101 | 0.004 | 0.108 | |
| getVariantPercentages | 0.041 | 0.004 | 0.045 | |
| htmlReport | 4.059 | 0.427 | 4.500 | |
| mapperSetExample | 0.009 | 0.003 | 0.011 | |
| mergeBreakpoints | 8.661 | 0.181 | 8.937 | |
| mutationInfo | 0.004 | 0.003 | 0.006 | |
| plotAmpliconCoverage | 0 | 0 | 0 | |
| plotChimericReads | 2.624 | 0.030 | 2.684 | |
| plotVariants | 0.003 | 0.000 | 0.004 | |
| plotVariationFrequency | 0.000 | 0.000 | 0.001 | |
| qualityReportSFF | 0.000 | 0.000 | 0.001 | |
| readSFF | 0.104 | 0.002 | 0.107 | |
| readsOnTarget | 0.056 | 0.002 | 0.059 | |
| referenceSequences | 0.008 | 0.001 | 0.009 | |
| regions | 0.004 | 0.002 | 0.005 | |
| removeLinker | 0.034 | 0.001 | 0.035 | |
| sequenceCaptureLinkers | 0.008 | 0.000 | 0.008 | |
| setVariantFilter | 0.051 | 0.004 | 0.056 | |
| variants | 0.003 | 0.002 | 0.004 | |
| writeSFF | 0.039 | 0.000 | 0.040 | |