| Back to Multiple platform build/check report for BioC 3.9 |
|
This page was generated on 2019-10-16 12:34:40 -0400 (Wed, 16 Oct 2019).
| Package 1297/1741 | Hostname | OS / Arch | INSTALL | BUILD | CHECK | BUILD BIN | ||||||
| QuaternaryProd 1.18.0 Carl Tony Fakhry
| malbec2 | Linux (Ubuntu 18.04.2 LTS) / x86_64 | OK | OK | OK | |||||||
| tokay2 | Windows Server 2012 R2 Standard / x64 | [ OK ] | OK | OK | OK | |||||||
| celaya2 | OS X 10.11.6 El Capitan / x86_64 | OK | OK | OK | OK |
| Package: QuaternaryProd |
| Version: 1.18.0 |
| Command: C:\cygwin\bin\curl.exe -O https://malbec2.bioconductor.org/BBS/3.9/bioc/src/contrib/QuaternaryProd_1.18.0.tar.gz && rm -rf QuaternaryProd.buildbin-libdir && mkdir QuaternaryProd.buildbin-libdir && C:\Users\biocbuild\bbs-3.9-bioc\R\bin\R.exe CMD INSTALL --merge-multiarch --build --library=QuaternaryProd.buildbin-libdir QuaternaryProd_1.18.0.tar.gz && C:\Users\biocbuild\bbs-3.9-bioc\R\bin\R.exe CMD INSTALL QuaternaryProd_1.18.0.zip && rm QuaternaryProd_1.18.0.tar.gz QuaternaryProd_1.18.0.zip |
| StartedAt: 2019-10-15 19:04:24 -0400 (Tue, 15 Oct 2019) |
| EndedAt: 2019-10-15 19:06:29 -0400 (Tue, 15 Oct 2019) |
| EllapsedTime: 125.2 seconds |
| RetCode: 0 |
| Status: OK |
##############################################################################
##############################################################################
###
### Running command:
###
### C:\cygwin\bin\curl.exe -O https://malbec2.bioconductor.org/BBS/3.9/bioc/src/contrib/QuaternaryProd_1.18.0.tar.gz && rm -rf QuaternaryProd.buildbin-libdir && mkdir QuaternaryProd.buildbin-libdir && C:\Users\biocbuild\bbs-3.9-bioc\R\bin\R.exe CMD INSTALL --merge-multiarch --build --library=QuaternaryProd.buildbin-libdir QuaternaryProd_1.18.0.tar.gz && C:\Users\biocbuild\bbs-3.9-bioc\R\bin\R.exe CMD INSTALL QuaternaryProd_1.18.0.zip && rm QuaternaryProd_1.18.0.tar.gz QuaternaryProd_1.18.0.zip
###
##############################################################################
##############################################################################
% Total % Received % Xferd Average Speed Time Time Time Current
Dload Upload Total Spent Left Speed
0 0 0 0 0 0 0 0 --:--:-- --:--:-- --:--:-- 0
35 10.7M 35 3872k 0 0 20.5M 0 --:--:-- --:--:-- --:--:-- 21.3M
100 10.7M 100 10.7M 0 0 29.8M 0 --:--:-- --:--:-- --:--:-- 30.3M
install for i386
* installing *source* package 'QuaternaryProd' ...
** using staged installation
** libs
C:/Rtools/mingw_32/bin/g++ -I"C:/Users/BIOCBU~1/BBS-3~1.9-B/R/include" -DNDEBUG -I"C:/Users/biocbuild/bbs-3.9-bioc/R/library/Rcpp/include" -I"C:/extsoft/include" -O2 -Wall -mtune=generic -c QuaternaryProd.cpp -o QuaternaryProd.o
C:/Rtools/mingw_32/bin/g++ -I"C:/Users/BIOCBU~1/BBS-3~1.9-B/R/include" -DNDEBUG -I"C:/Users/biocbuild/bbs-3.9-bioc/R/library/Rcpp/include" -I"C:/extsoft/include" -O2 -Wall -mtune=generic -c QuaternaryProdUtils.cpp -o QuaternaryProdUtils.o
C:/Rtools/mingw_32/bin/g++ -I"C:/Users/BIOCBU~1/BBS-3~1.9-B/R/include" -DNDEBUG -I"C:/Users/biocbuild/bbs-3.9-bioc/R/library/Rcpp/include" -I"C:/extsoft/include" -O2 -Wall -mtune=generic -c RcppExports.cpp -o RcppExports.o
C:/Rtools/mingw_32/bin/g++ -shared -s -static-libgcc -o QuaternaryProd.dll tmp.def QuaternaryProd.o QuaternaryProdUtils.o RcppExports.o -LC:/extsoft/lib/i386 -LC:/extsoft/lib -LC:/Users/BIOCBU~1/BBS-3~1.9-B/R/bin/i386 -lR
installing to C:/Users/biocbuild/bbs-3.9-bioc/meat/QuaternaryProd.buildbin-libdir/00LOCK-QuaternaryProd/00new/QuaternaryProd/libs/i386
** R
** inst
** byte-compile and prepare package for lazy loading
** help
*** installing help indices
converting help for package 'QuaternaryProd'
finding HTML links ... done
QP_Pmf html
QP_Probability html
QP_Pvalue html
QP_SigPvalue html
QP_Support html
QuaternaryProd-package html
RunCRE_HSAStringDB html
** building package indices
** installing vignettes
** testing if installed package can be loaded from temporary location
** testing if installed package can be loaded from final location
** testing if installed package keeps a record of temporary installation path
install for x64
* installing *source* package 'QuaternaryProd' ...
** libs
C:/Rtools/mingw_64/bin/g++ -I"C:/Users/BIOCBU~1/BBS-3~1.9-B/R/include" -DNDEBUG -I"C:/Users/biocbuild/bbs-3.9-bioc/R/library/Rcpp/include" -I"C:/extsoft/include" -O2 -Wall -mtune=generic -c QuaternaryProd.cpp -o QuaternaryProd.o
C:/Rtools/mingw_64/bin/g++ -I"C:/Users/BIOCBU~1/BBS-3~1.9-B/R/include" -DNDEBUG -I"C:/Users/biocbuild/bbs-3.9-bioc/R/library/Rcpp/include" -I"C:/extsoft/include" -O2 -Wall -mtune=generic -c QuaternaryProdUtils.cpp -o QuaternaryProdUtils.o
C:/Rtools/mingw_64/bin/g++ -I"C:/Users/BIOCBU~1/BBS-3~1.9-B/R/include" -DNDEBUG -I"C:/Users/biocbuild/bbs-3.9-bioc/R/library/Rcpp/include" -I"C:/extsoft/include" -O2 -Wall -mtune=generic -c RcppExports.cpp -o RcppExports.o
C:/Rtools/mingw_64/bin/g++ -shared -s -static-libgcc -o QuaternaryProd.dll tmp.def QuaternaryProd.o QuaternaryProdUtils.o RcppExports.o -LC:/extsoft/lib/x64 -LC:/extsoft/lib -LC:/Users/BIOCBU~1/BBS-3~1.9-B/R/bin/x64 -lR
installing to C:/Users/biocbuild/bbs-3.9-bioc/meat/QuaternaryProd.buildbin-libdir/QuaternaryProd/libs/x64
** testing if installed package can be loaded
* MD5 sums
packaged installation of 'QuaternaryProd' as QuaternaryProd_1.18.0.zip
* DONE (QuaternaryProd)
* installing to library 'C:/Users/biocbuild/bbs-3.9-bioc/R/library'
package 'QuaternaryProd' successfully unpacked and MD5 sums checked