| Back to Multiple platform build/check report for BioC 3.9 | 
 | 
This page was generated on 2019-10-16 13:03:56 -0400 (Wed, 16 Oct 2019).
| Package 1243/1741 | Hostname | OS / Arch | INSTALL | BUILD | CHECK | BUILD BIN | ||||||
| PrecisionTrialDrawer 1.0.1 Giorgio Melloni 
 | malbec2 | Linux (Ubuntu 18.04.2 LTS) / x86_64 | OK | OK | OK |  | ||||||
| tokay2 | Windows Server 2012 R2 Standard / x64 | OK | OK | OK | OK |  | ||||||
| celaya2 | OS X 10.11.6 El Capitan / x86_64 | OK | [ OK ] | OK | OK |  | 
| Package: PrecisionTrialDrawer | 
| Version: 1.0.1 | 
| Command: /Library/Frameworks/R.framework/Versions/Current/Resources/bin/R CMD build --keep-empty-dirs --no-resave-data PrecisionTrialDrawer | 
| StartedAt: 2019-10-15 23:55:23 -0400 (Tue, 15 Oct 2019) | 
| EndedAt: 2019-10-15 23:56:50 -0400 (Tue, 15 Oct 2019) | 
| EllapsedTime: 87.4 seconds | 
| RetCode: 0 | 
| Status: OK | 
| PackageFile: PrecisionTrialDrawer_1.0.1.tar.gz | 
| PackageFileSize: 419.6 KiB | 
############################################################################## ############################################################################## ### ### Running command: ### ### /Library/Frameworks/R.framework/Versions/Current/Resources/bin/R CMD build --keep-empty-dirs --no-resave-data PrecisionTrialDrawer ### ############################################################################## ############################################################################## * checking for file ‘PrecisionTrialDrawer/DESCRIPTION’ ... OK * preparing ‘PrecisionTrialDrawer’: * checking DESCRIPTION meta-information ... OK * installing the package to build vignettes * creating vignettes ... OK * checking for LF line-endings in source and make files and shell scripts * checking for empty or unneeded directories * looking to see if a ‘data/datalist’ file should be added * building ‘PrecisionTrialDrawer_1.0.1.tar.gz’