| Back to Multiple platform build/check report for BioC 3.9 | 
 | 
This page was generated on 2019-10-16 12:43:38 -0400 (Wed, 16 Oct 2019).
| Package 1248/1741 | Hostname | OS / Arch | INSTALL | BUILD | CHECK | BUILD BIN | ||||||
| PrInCE 1.0.1 Michael Skinnider 
 | malbec2 | Linux (Ubuntu 18.04.2 LTS) / x86_64 | OK | OK | OK |  | ||||||
| tokay2 | Windows Server 2012 R2 Standard / x64 | OK | OK | OK | [ OK ] |  | ||||||
| celaya2 | OS X 10.11.6 El Capitan / x86_64 | OK | OK | OK | OK |  | 
| Package: PrInCE | 
| Version: 1.0.1 | 
| Command: rm -rf PrInCE.buildbin-libdir && mkdir PrInCE.buildbin-libdir && C:\Users\biocbuild\bbs-3.9-bioc\R\bin\R.exe CMD INSTALL --merge-multiarch --build --library=PrInCE.buildbin-libdir PrInCE_1.0.1.tar.gz | 
| StartedAt: 2019-10-16 09:56:15 -0400 (Wed, 16 Oct 2019) | 
| EndedAt: 2019-10-16 09:57:08 -0400 (Wed, 16 Oct 2019) | 
| EllapsedTime: 52.9 seconds | 
| RetCode: 0 | 
| Status: OK | 
| PackageFile: PrInCE_1.0.1.zip | 
| PackageFileSize: 1.686 MiB | 
##############################################################################
##############################################################################
###
### Running command:
###
###   rm -rf PrInCE.buildbin-libdir && mkdir PrInCE.buildbin-libdir && C:\Users\biocbuild\bbs-3.9-bioc\R\bin\R.exe CMD INSTALL --merge-multiarch --build --library=PrInCE.buildbin-libdir PrInCE_1.0.1.tar.gz
###
##############################################################################
##############################################################################
install for i386
* installing *source* package 'PrInCE' ...
** using staged installation
** R
** data
** inst
** byte-compile and prepare package for lazy loading
** help
*** installing help indices
  converting help for package 'PrInCE'
    finding HTML links ... done
    PrInCE                                  html  
    finding level-2 HTML links ... done
    adjacency_matrix_from_data_frame        html  
    adjacency_matrix_from_list              html  
    aic                                     html  
    build_gaussians                         html  
    calculate_features                      html  
    calculate_precision                     html  
    check_gaussians                         html  
    choose_gaussians                        html  
    clean_profile                           html  
    clean_profiles                          html  
    co_apex                                 html  
    concatenate_features                    html  
    detect_complexes                        html  
    filter_profiles                         html  
    fit_curve                               html  
    fit_gaussians                           html  
    gold_standard                           html  
    impute_neighbors                        html  
    is_unweighted                           html  
    is_weighted                             html  
    kristensen                              html  
    kristensen_gaussians                    html  
    make_feature_from_data_frame            html  
    make_feature_from_expression            html  
    make_initial_conditions                 html  
    make_labels                             html  
    match_matrix_dimensions                 html  
    predict_ensemble                        html  
    predict_interactions                    html  
    replace_missing_data                    html  
    scott                                   html  
    scott_gaussians                         html  
    threshold_precision                     html  
** building package indices
** installing vignettes
** testing if installed package can be loaded from temporary location
** testing if installed package can be loaded from final location
** testing if installed package keeps a record of temporary installation path
install for x64
* installing *source* package 'PrInCE' ...
** testing if installed package can be loaded
* MD5 sums
packaged installation of 'PrInCE' as PrInCE_1.0.1.zip
* DONE (PrInCE)