| Back to Multiple platform build/check report for BioC 3.9 |
|
This page was generated on 2019-10-16 12:36:49 -0400 (Wed, 16 Oct 2019).
| Package 1210/1741 | Hostname | OS / Arch | INSTALL | BUILD | CHECK | BUILD BIN | ||||||
| Pi 1.12.0 Hai Fang
| malbec2 | Linux (Ubuntu 18.04.2 LTS) / x86_64 | OK | OK | OK | |||||||
| tokay2 | Windows Server 2012 R2 Standard / x64 | OK | OK | OK | [ OK ] | |||||||
| celaya2 | OS X 10.11.6 El Capitan / x86_64 | OK | OK | OK | OK |
| Package: Pi |
| Version: 1.12.0 |
| Command: rm -rf Pi.buildbin-libdir && mkdir Pi.buildbin-libdir && C:\Users\biocbuild\bbs-3.9-bioc\R\bin\R.exe CMD INSTALL --merge-multiarch --build --library=Pi.buildbin-libdir Pi_1.12.0.tar.gz |
| StartedAt: 2019-10-16 09:53:53 -0400 (Wed, 16 Oct 2019) |
| EndedAt: 2019-10-16 09:55:33 -0400 (Wed, 16 Oct 2019) |
| EllapsedTime: 99.8 seconds |
| RetCode: 0 |
| Status: OK |
| PackageFile: Pi_1.12.0.zip |
| PackageFileSize: 4.274 MiB |
##############################################################################
##############################################################################
###
### Running command:
###
### rm -rf Pi.buildbin-libdir && mkdir Pi.buildbin-libdir && C:\Users\biocbuild\bbs-3.9-bioc\R\bin\R.exe CMD INSTALL --merge-multiarch --build --library=Pi.buildbin-libdir Pi_1.12.0.tar.gz
###
##############################################################################
##############################################################################
install for i386
* installing *source* package 'Pi' ...
** using staged installation
** R
** inst
** byte-compile and prepare package for lazy loading
** help
*** installing help indices
converting help for package 'Pi'
finding HTML links ... done
cTarget html
dTarget html
eGSEA html
eTarget html
pNode html
pPerf html
sGS html
sTarget html
xContour html
xCorrelation html
xGSEAbarplot html
xGSEAconciser html
xGSEAdotplot html
xGSsimulator html
finding level-2 HTML links ... done
xMLcaret html
xMLcompare html
xMLdensity html
xMLdotplot html
xMLfeatureplot html
xMLglmnet html
xMLparameters html
xMLrandomforest html
xMLrename html
xMLzoom html
xPier html
xPierABF html
xPierABFheatmap html
xPierAnno html
xPierCor html
xPierCross html
xPierEvidence html
xPierGRs html
xPierGSEA html
xPierGenes html
xPierKEGG html
xPierManhattan html
xPierMatrix html
xPierPathways html
xPierROCR html
xPierSNPs html
xPierSNPsAdv html
xPierSNPsAdvABF html
xPierSNPsConsensus html
xPierSubnet html
xPierTrack html
xPierTrackAdv html
xPredictCompare html
xPredictROCR html
xRWR html
xVisEvidence html
xVisEvidenceAdv html
** building package indices
** installing vignettes
** testing if installed package can be loaded from temporary location
** testing if installed package can be loaded from final location
** testing if installed package keeps a record of temporary installation path
install for x64
* installing *source* package 'Pi' ...
** testing if installed package can be loaded
* MD5 sums
packaged installation of 'Pi' as Pi_1.12.0.zip
* DONE (Pi)