| Back to Multiple platform build/check report for BioC 3.9 | 
 | 
This page was generated on 2019-10-16 12:27:25 -0400 (Wed, 16 Oct 2019).
| Package 1174/1741 | Hostname | OS / Arch | INSTALL | BUILD | CHECK | BUILD BIN | ||||||
| PathNet 1.24.0 Jason B. Smith 
 | malbec2 | Linux (Ubuntu 18.04.2 LTS) / x86_64 | OK | OK | ERROR | |||||||
| tokay2 | Windows Server 2012 R2 Standard / x64 | [ OK ] | OK | ERROR | OK | |||||||
| celaya2 | OS X 10.11.6 El Capitan / x86_64 | OK | OK | ERROR | OK | 
| Package: PathNet | 
| Version: 1.24.0 | 
| Command: C:\cygwin\bin\curl.exe -O https://malbec2.bioconductor.org/BBS/3.9/bioc/src/contrib/PathNet_1.24.0.tar.gz && rm -rf PathNet.buildbin-libdir && mkdir PathNet.buildbin-libdir && C:\Users\biocbuild\bbs-3.9-bioc\R\bin\R.exe CMD INSTALL --merge-multiarch --build --library=PathNet.buildbin-libdir PathNet_1.24.0.tar.gz && C:\Users\biocbuild\bbs-3.9-bioc\R\bin\R.exe CMD INSTALL PathNet_1.24.0.zip && rm PathNet_1.24.0.tar.gz PathNet_1.24.0.zip | 
| StartedAt: 2019-10-15 18:39:07 -0400 (Tue, 15 Oct 2019) | 
| EndedAt: 2019-10-15 18:39:22 -0400 (Tue, 15 Oct 2019) | 
| EllapsedTime: 15.7 seconds | 
| RetCode: 0 | 
| Status: OK | 
##############################################################################
##############################################################################
###
### Running command:
###
###   C:\cygwin\bin\curl.exe -O https://malbec2.bioconductor.org/BBS/3.9/bioc/src/contrib/PathNet_1.24.0.tar.gz && rm -rf PathNet.buildbin-libdir && mkdir PathNet.buildbin-libdir && C:\Users\biocbuild\bbs-3.9-bioc\R\bin\R.exe CMD INSTALL --merge-multiarch --build --library=PathNet.buildbin-libdir PathNet_1.24.0.tar.gz && C:\Users\biocbuild\bbs-3.9-bioc\R\bin\R.exe CMD INSTALL PathNet_1.24.0.zip && rm PathNet_1.24.0.tar.gz PathNet_1.24.0.zip
###
##############################################################################
##############################################################################
  % Total    % Received % Xferd  Average Speed   Time    Time     Time  Current
                                 Dload  Upload   Total   Spent    Left  Speed
  0     0    0     0    0     0      0      0 --:--:-- --:--:-- --:--:--     0
  0     0    0     0    0     0      0      0 --:--:--  0:00:01 --:--:--     0
  0     0    0     0    0     0      0      0 --:--:--  0:00:02 --:--:--     0
 73  522k   73  384k    0     0   130k      0  0:00:04  0:00:02  0:00:02  131k
100  522k  100  522k    0     0   177k      0  0:00:02  0:00:02 --:--:--  178k
install for i386
* installing *source* package 'PathNet' ...
** using staged installation
** R
** inst
** byte-compile and prepare package for lazy loading
** help
*** installing help indices
  converting help for package 'PathNet'
    finding HTML links ... done
    PathNet                                 html  
** building package indices
** installing vignettes
** testing if installed package can be loaded from temporary location
** testing if installed package can be loaded from final location
** testing if installed package keeps a record of temporary installation path
install for x64
* installing *source* package 'PathNet' ...
** testing if installed package can be loaded
* MD5 sums
packaged installation of 'PathNet' as PathNet_1.24.0.zip
* DONE (PathNet)
* installing to library 'C:/Users/biocbuild/bbs-3.9-bioc/R/library'
package 'PathNet' successfully unpacked and MD5 sums checked