| Back to Multiple platform build/check report for BioC 3.9 |
|
This page was generated on 2019-10-16 12:25:33 -0400 (Wed, 16 Oct 2019).
| Package 1244/1741 | Hostname | OS / Arch | INSTALL | BUILD | CHECK | BUILD BIN | ||||||
| PREDA 1.30.0 Francesco Ferrari
| malbec2 | Linux (Ubuntu 18.04.2 LTS) / x86_64 | OK | OK | OK | |||||||
| tokay2 | Windows Server 2012 R2 Standard / x64 | OK | OK | OK | [ OK ] | |||||||
| celaya2 | OS X 10.11.6 El Capitan / x86_64 | OK | OK | OK | OK |
| Package: PREDA |
| Version: 1.30.0 |
| Command: rm -rf PREDA.buildbin-libdir && mkdir PREDA.buildbin-libdir && C:\Users\biocbuild\bbs-3.9-bioc\R\bin\R.exe --arch x64 CMD INSTALL --no-multiarch --build --library=PREDA.buildbin-libdir PREDA_1.30.0.tar.gz |
| StartedAt: 2019-10-16 09:56:04 -0400 (Wed, 16 Oct 2019) |
| EndedAt: 2019-10-16 09:56:47 -0400 (Wed, 16 Oct 2019) |
| EllapsedTime: 43.3 seconds |
| RetCode: 0 |
| Status: OK |
| PackageFile: PREDA_1.30.0.zip |
| PackageFileSize: 1.923 MiB |
##############################################################################
##############################################################################
###
### Running command:
###
### rm -rf PREDA.buildbin-libdir && mkdir PREDA.buildbin-libdir && C:\Users\biocbuild\bbs-3.9-bioc\R\bin\R.exe --arch x64 CMD INSTALL --no-multiarch --build --library=PREDA.buildbin-libdir PREDA_1.30.0.tar.gz
###
##############################################################################
##############################################################################
* installing *source* package 'PREDA' ...
** using staged installation
** R
** inst
** byte-compile and prepare package for lazy loading
** help
*** installing help indices
converting help for package 'PREDA'
finding HTML links ... done
DataForPREDA-class html
DataForPREDA2GenomicAnnotationsForPREDA
html
DataForPREDA2StatisticsForPREDA html
DataForPREDA2dataframe html
DataForPREDAMedianCenter html
GenomicAnnotations-class html
GenomicAnnotations2GenomicAnnotationsForPREDA
html
GenomicAnnotations2dataframe html
GenomicAnnotations2reference_positions
html
GenomicAnnotationsExtract html
GenomicAnnotationsFilter_neg html
GenomicAnnotationsFilter_pos html
GenomicAnnotationsForPREDA-class html
GenomicAnnotationsForPREDA2GenomicAnnotations
html
GenomicAnnotationsForPREDA2PREDAResults
html
GenomicAnnotationsForPREDA2dataframe html
GenomicAnnotationsForPREDAFromfile html
GenomicAnnotationsFromLibrary html
GenomicAnnotationsFromdataframe html
GenomicAnnotationsFromfile html
GenomicAnnotationsSortAndCleanNA html
GenomicRegions-class html
GenomicRegions2dataframe html
GenomicRegionsAnnotate html
GenomicRegionsChrNumber html
GenomicRegionsComparison html
GenomicRegionsCreateRegionsIds html
GenomicRegionsFilter_neg html
GenomicRegionsFilter_pos html
GenomicRegionsFindOverlap html
GenomicRegionsFromdataframe html
GenomicRegionsFromfile html
GenomicRegionsNumber html
GenomicRegionsSpan html
GenomicRegionsTotalSpan html
MergeStatisticAnnotations2DataForPREDA
html
PREDADataAndResults-class html
PREDADataAndResults2dataframe html
PREDAResults-class html
PREDAResults2GenomicRegions html
PREDAResults2GenomicRegionsSingle html
PREDAResults2PREDADataAndResults html
PREDAResults2dataframe html
PREDAResultsGetObservedFlags html
PREDA_main html
SODEGIR_GEstatistics html
finding level-2 HTML links ... done
SODEGIRpreprocessingGE html
StatisticsForPREDA-class html
StatisticsForPREDA2dataframe html
StatisticsForPREDAFilterColumns_neg html
StatisticsForPREDAFilterColumns_pos html
StatisticsForPREDAFromdataframe html
StatisticsForPREDAFromfile html
analysesNames html
computeDatasetSignature html
eset2GenomicAnnotations html
genomePlot html
getStatisticByName html
preprocessingGE html
statisticsForPREDAfromEset html
** building package indices
** installing vignettes
** testing if installed package can be loaded from temporary location
** testing if installed package can be loaded from final location
** testing if installed package keeps a record of temporary installation path
* MD5 sums
packaged installation of 'PREDA' as PREDA_1.30.0.zip
* DONE (PREDA)