| Back to Multiple platform build/check report for BioC 3.9 |
|
This page was generated on 2019-10-16 12:27:48 -0400 (Wed, 16 Oct 2019).
| Package 1168/1741 | Hostname | OS / Arch | INSTALL | BUILD | CHECK | BUILD BIN | ||||||
| PAPi 1.24.0 Raphael Aggio
| malbec2 | Linux (Ubuntu 18.04.2 LTS) / x86_64 | OK | OK | OK | |||||||
| tokay2 | Windows Server 2012 R2 Standard / x64 | OK | OK | OK | [ OK ] | |||||||
| celaya2 | OS X 10.11.6 El Capitan / x86_64 | OK | OK | OK | OK |
| Package: PAPi |
| Version: 1.24.0 |
| Command: rm -rf PAPi.buildbin-libdir && mkdir PAPi.buildbin-libdir && C:\Users\biocbuild\bbs-3.9-bioc\R\bin\R.exe CMD INSTALL --merge-multiarch --build --library=PAPi.buildbin-libdir PAPi_1.24.0.tar.gz |
| StartedAt: 2019-10-16 09:51:12 -0400 (Wed, 16 Oct 2019) |
| EndedAt: 2019-10-16 09:51:54 -0400 (Wed, 16 Oct 2019) |
| EllapsedTime: 42.5 seconds |
| RetCode: 0 |
| Status: OK |
| PackageFile: PAPi_1.24.0.zip |
| PackageFileSize: 614.5 KiB |
##############################################################################
##############################################################################
###
### Running command:
###
### rm -rf PAPi.buildbin-libdir && mkdir PAPi.buildbin-libdir && C:\Users\biocbuild\bbs-3.9-bioc\R\bin\R.exe CMD INSTALL --merge-multiarch --build --library=PAPi.buildbin-libdir PAPi_1.24.0.tar.gz
###
##############################################################################
##############################################################################
install for i386
* installing *source* package 'PAPi' ...
** using staged installation
** R
** data
** inst
** byte-compile and prepare package for lazy loading
** help
*** installing help indices
converting help for package 'PAPi'
finding HTML links ... done
PAPi-package html
addKeggCodes html
buildDatabase html
keggLibrary html
metabolomicsData html
papi html
papiData html
papiHtest html
papiLine html
papiResults html
** building package indices
** installing vignettes
** testing if installed package can be loaded from temporary location
** testing if installed package can be loaded from final location
** testing if installed package keeps a record of temporary installation path
install for x64
* installing *source* package 'PAPi' ...
** testing if installed package can be loaded
* MD5 sums
packaged installation of 'PAPi' as PAPi_1.24.0.zip
* DONE (PAPi)