| Back to Multiple platform build/check report for BioC 3.9 |
|
This page was generated on 2019-10-16 12:44:09 -0400 (Wed, 16 Oct 2019).
| Package 1132/1741 | Hostname | OS / Arch | INSTALL | BUILD | CHECK | BUILD BIN | ||||||
| OmicsLonDA 1.0.0 Ahmed A. Metwally
| malbec2 | Linux (Ubuntu 18.04.2 LTS) / x86_64 | OK | OK | OK | |||||||
| tokay2 | Windows Server 2012 R2 Standard / x64 | OK | OK | OK | [ OK ] | |||||||
| celaya2 | OS X 10.11.6 El Capitan / x86_64 | OK | OK | OK | OK |
| Package: OmicsLonDA |
| Version: 1.0.0 |
| Command: rm -rf OmicsLonDA.buildbin-libdir && mkdir OmicsLonDA.buildbin-libdir && C:\Users\biocbuild\bbs-3.9-bioc\R\bin\R.exe CMD INSTALL --merge-multiarch --build --library=OmicsLonDA.buildbin-libdir OmicsLonDA_1.0.0.tar.gz |
| StartedAt: 2019-10-16 09:48:51 -0400 (Wed, 16 Oct 2019) |
| EndedAt: 2019-10-16 09:49:33 -0400 (Wed, 16 Oct 2019) |
| EllapsedTime: 42.2 seconds |
| RetCode: 0 |
| Status: OK |
| PackageFile: OmicsLonDA_1.0.0.zip |
| PackageFileSize: 4.986 MiB |
##############################################################################
##############################################################################
###
### Running command:
###
### rm -rf OmicsLonDA.buildbin-libdir && mkdir OmicsLonDA.buildbin-libdir && C:\Users\biocbuild\bbs-3.9-bioc\R\bin\R.exe CMD INSTALL --merge-multiarch --build --library=OmicsLonDA.buildbin-libdir OmicsLonDA_1.0.0.tar.gz
###
##############################################################################
##############################################################################
install for i386
* installing *source* package 'OmicsLonDA' ...
** using staged installation
** R
** data
*** moving datasets to lazyload DB
** inst
** byte-compile and prepare package for lazy loading
** help
*** installing help indices
converting help for package 'OmicsLonDA'
finding HTML links ... done
adjustBaseline html
curveFitting html
findSigInterval html
omicslonda html
omicslonda_data_example html
permutationMC html
testStat html
testStatPermutation html
visualizeArea html
visualizeFeature html
visualizeFeatureSpline html
visualizeTestStatHistogram html
** building package indices
** installing vignettes
** testing if installed package can be loaded from temporary location
** testing if installed package can be loaded from final location
** testing if installed package keeps a record of temporary installation path
install for x64
* installing *source* package 'OmicsLonDA' ...
** testing if installed package can be loaded
* MD5 sums
packaged installation of 'OmicsLonDA' as OmicsLonDA_1.0.0.zip
* DONE (OmicsLonDA)