| Back to Multiple platform build/check report for BioC 3.9 |
|
This page was generated on 2019-10-16 12:26:37 -0400 (Wed, 16 Oct 2019).
| Package 1153/1741 | Hostname | OS / Arch | INSTALL | BUILD | CHECK | BUILD BIN | ||||||
| OSAT 1.32.0 Li Yan
| malbec2 | Linux (Ubuntu 18.04.2 LTS) / x86_64 | OK | OK | OK | |||||||
| tokay2 | Windows Server 2012 R2 Standard / x64 | [ OK ] | OK | OK | OK | |||||||
| celaya2 | OS X 10.11.6 El Capitan / x86_64 | OK | OK | OK | OK |
| Package: OSAT |
| Version: 1.32.0 |
| Command: C:\cygwin\bin\curl.exe -O https://malbec2.bioconductor.org/BBS/3.9/bioc/src/contrib/OSAT_1.32.0.tar.gz && rm -rf OSAT.buildbin-libdir && mkdir OSAT.buildbin-libdir && C:\Users\biocbuild\bbs-3.9-bioc\R\bin\R.exe CMD INSTALL --merge-multiarch --build --library=OSAT.buildbin-libdir OSAT_1.32.0.tar.gz && C:\Users\biocbuild\bbs-3.9-bioc\R\bin\R.exe CMD INSTALL OSAT_1.32.0.zip && rm OSAT_1.32.0.tar.gz OSAT_1.32.0.zip |
| StartedAt: 2019-10-15 18:42:57 -0400 (Tue, 15 Oct 2019) |
| EndedAt: 2019-10-15 18:43:39 -0400 (Tue, 15 Oct 2019) |
| EllapsedTime: 42.7 seconds |
| RetCode: 0 |
| Status: OK |
##############################################################################
##############################################################################
###
### Running command:
###
### C:\cygwin\bin\curl.exe -O https://malbec2.bioconductor.org/BBS/3.9/bioc/src/contrib/OSAT_1.32.0.tar.gz && rm -rf OSAT.buildbin-libdir && mkdir OSAT.buildbin-libdir && C:\Users\biocbuild\bbs-3.9-bioc\R\bin\R.exe CMD INSTALL --merge-multiarch --build --library=OSAT.buildbin-libdir OSAT_1.32.0.tar.gz && C:\Users\biocbuild\bbs-3.9-bioc\R\bin\R.exe CMD INSTALL OSAT_1.32.0.zip && rm OSAT_1.32.0.tar.gz OSAT_1.32.0.zip
###
##############################################################################
##############################################################################
% Total % Received % Xferd Average Speed Time Time Time Current
Dload Upload Total Spent Left Speed
0 0 0 0 0 0 0 0 --:--:-- --:--:-- --:--:-- 0
100 624k 100 624k 0 0 4808k 0 --:--:-- --:--:-- --:--:-- 5073k
install for i386
* installing *source* package 'OSAT' ...
** using staged installation
** R
** data
** inst
** byte-compile and prepare package for lazy loading
** help
*** installing help indices
converting help for package 'OSAT'
finding HTML links ... done
BeadChip-class html
BeadPlate-class html
MSAroboticPlate-class html
QC html
create.optimized.setup html
example.setup html
gArray-class html
gAssembly-class html
gContainer-class html
gExperimentSetup-class html
gPlate-class html
gSample-class html
gSlide-class html
get.experiment.setup html
multi.barplot html
multi.chisq.test html
optimal.block html
optimal.shuffle html
plot-methods html
predefined html
** building package indices
** installing vignettes
** testing if installed package can be loaded from temporary location
** testing if installed package can be loaded from final location
** testing if installed package keeps a record of temporary installation path
install for x64
* installing *source* package 'OSAT' ...
** testing if installed package can be loaded
* MD5 sums
packaged installation of 'OSAT' as OSAT_1.32.0.zip
* DONE (OSAT)
* installing to library 'C:/Users/biocbuild/bbs-3.9-bioc/R/library'
package 'OSAT' successfully unpacked and MD5 sums checked