| Back to Multiple platform build/check report for BioC 3.9 |
|
This page was generated on 2019-10-16 12:49:08 -0400 (Wed, 16 Oct 2019).
| Package 1111/1741 | Hostname | OS / Arch | INSTALL | BUILD | CHECK | BUILD BIN | ||||||
| NormqPCR 1.30.0 James Perkins
| malbec2 | Linux (Ubuntu 18.04.2 LTS) / x86_64 | OK | OK | OK | |||||||
| tokay2 | Windows Server 2012 R2 Standard / x64 | OK | OK | WARNINGS | OK | |||||||
| celaya2 | OS X 10.11.6 El Capitan / x86_64 | OK | [ OK ] | WARNINGS | OK |
| Package: NormqPCR |
| Version: 1.30.0 |
| Command: /Library/Frameworks/R.framework/Versions/Current/Resources/bin/R CMD build --keep-empty-dirs --no-resave-data NormqPCR |
| StartedAt: 2019-10-15 20:24:17 -0400 (Tue, 15 Oct 2019) |
| EndedAt: 2019-10-15 20:24:41 -0400 (Tue, 15 Oct 2019) |
| EllapsedTime: 23.4 seconds |
| RetCode: 0 |
| Status: OK |
| PackageFile: NormqPCR_1.30.0.tar.gz |
| PackageFileSize: 335.5 KiB |
##############################################################################
##############################################################################
###
### Running command:
###
### /Library/Frameworks/R.framework/Versions/Current/Resources/bin/R CMD build --keep-empty-dirs --no-resave-data NormqPCR
###
##############################################################################
##############################################################################
* checking for file ‘NormqPCR/DESCRIPTION’ ... OK
* preparing ‘NormqPCR’:
* checking DESCRIPTION meta-information ... OK
* installing the package to build vignettes
* creating vignettes ... OK
Warning: ‘inst/doc’ file
‘NormqPCR.pdf’
ignored as vignettes have been rebuilt.
Run R CMD build with --no-build-vignettes to prevent rebuilding.
* checking for LF line-endings in source and make files and shell scripts
* checking for empty or unneeded directories
* looking to see if a ‘data/datalist’ file should be added
* building ‘NormqPCR_1.30.0.tar.gz’