| Back to Multiple platform build/check report for BioC 3.9 |
|
This page was generated on 2019-10-16 12:33:02 -0400 (Wed, 16 Oct 2019).
| Package 1083/1741 | Hostname | OS / Arch | INSTALL | BUILD | CHECK | BUILD BIN | ||||||
| NanoStringQCPro 1.16.0 Robert Ziman
| malbec2 | Linux (Ubuntu 18.04.2 LTS) / x86_64 | OK | OK | OK | |||||||
| tokay2 | Windows Server 2012 R2 Standard / x64 | OK | OK | OK | [ OK ] | |||||||
| celaya2 | OS X 10.11.6 El Capitan / x86_64 | OK | OK | OK | OK |
| Package: NanoStringQCPro |
| Version: 1.16.0 |
| Command: rm -rf NanoStringQCPro.buildbin-libdir && mkdir NanoStringQCPro.buildbin-libdir && C:\Users\biocbuild\bbs-3.9-bioc\R\bin\R.exe CMD INSTALL --merge-multiarch --build --library=NanoStringQCPro.buildbin-libdir NanoStringQCPro_1.16.0.tar.gz |
| StartedAt: 2019-10-16 09:45:47 -0400 (Wed, 16 Oct 2019) |
| EndedAt: 2019-10-16 09:46:26 -0400 (Wed, 16 Oct 2019) |
| EllapsedTime: 39.4 seconds |
| RetCode: 0 |
| Status: OK |
| PackageFile: NanoStringQCPro_1.16.0.zip |
| PackageFileSize: 551.6 KiB |
##############################################################################
##############################################################################
###
### Running command:
###
### rm -rf NanoStringQCPro.buildbin-libdir && mkdir NanoStringQCPro.buildbin-libdir && C:\Users\biocbuild\bbs-3.9-bioc\R\bin\R.exe CMD INSTALL --merge-multiarch --build --library=NanoStringQCPro.buildbin-libdir NanoStringQCPro_1.16.0.tar.gz
###
##############################################################################
##############################################################################
install for i386
* installing *source* package 'NanoStringQCPro' ...
** using staged installation
** R
** data
*** moving datasets to lazyload DB
** inst
** byte-compile and prepare package for lazy loading
** help
*** installing help indices
converting help for package 'NanoStringQCPro'
finding HTML links ... done
NanoStringQCPro html
RccSet-class html
finding level-2 HTML links ... done
RccSet html
addCodesetAnnotation html
addQCFlags html
allSumPlot html
assessHousekeeping html
bdPlot html
buildCodesetAnnotation html
checkRccSet html
colByCovar html
colByFun html
contentNorm html
copyRccSet html
countsInBlankSamples_verticalPlot html
ctrlsOverviewPlot html
ctrlsZprimePlot html
cutoffByMMAD html
cutoffByVar html
dCoVar html
densityPlot html
example_rccSet html
flagSamplesCount html
flagSamplesCtrl html
flagSamplesTech html
fovPlot html
geneClustering html
getBackground html
getBlankLabel html
getSpikeInInput html
iqrPlot html
lodAssess html
lodPlot html
makeQCReport html
myCols html
nSolverBackground html
nSolverCsv.to.pdata_fdata_adata html
negCtrlsByLane html
negCtrlsByLane_verticalPlot html
negCtrlsPairs html
negCtrlsPlot html
newRccSet html
panelCor html
pcaPlot html
pdata_fdata_adata.to.rccSet html
posCtrlNorm html
posNormFactPlot html
posR2Plot html
posRatioPlot html
posSlopePlot html
posSumVsAllSumPlot html
preprocRccSet html
presAbsCall html
previewPNG html
rccFiles.to.pdata_fdata_adata html
readCdrDesignData html
readRcc html
readRccBatch html
readRccCollectorToolExport html
readRlf html
sampleClustering html
scatterPair html
subtractBackground html
zfacFun html
** building package indices
** testing if installed package can be loaded from temporary location
** testing if installed package can be loaded from final location
** testing if installed package keeps a record of temporary installation path
install for x64
* installing *source* package 'NanoStringQCPro' ...
** testing if installed package can be loaded
* MD5 sums
packaged installation of 'NanoStringQCPro' as NanoStringQCPro_1.16.0.zip
* DONE (NanoStringQCPro)