| Back to Multiple platform build/check report for BioC 3.9 |
|
This page was generated on 2019-04-09 13:27:52 -0400 (Tue, 09 Apr 2019).
| Package 968/1703 | Hostname | OS / Arch | INSTALL | BUILD | CHECK | BUILD BIN | ||||||
| MethylSeekR 1.23.0 Lukas Burger
| malbec2 | Linux (Ubuntu 18.04.2 LTS) / x86_64 | OK | OK | OK | |||||||
| tokay2 | Windows Server 2012 R2 Standard / x64 | OK | OK | OK | OK | |||||||
| celaya2 | OS X 10.11.6 El Capitan / x86_64 | OK | OK | OK | OK | |||||||
| merida2 | OS X 10.11.6 El Capitan / x86_64 | OK | OK | OK | [ OK ] |
| Package: MethylSeekR |
| Version: 1.23.0 |
| Command: rm -rf MethylSeekR.buildbin-libdir && mkdir MethylSeekR.buildbin-libdir && /Users/biocbuild/BBS/utils/build-universal.sh MethylSeekR_1.23.0.tar.gz /Library/Frameworks/R.framework/Versions/Current/Resources/bin/R MethylSeekR.buildbin-libdir |
| StartedAt: 2019-04-09 05:51:40 -0400 (Tue, 09 Apr 2019) |
| EndedAt: 2019-04-09 05:52:55 -0400 (Tue, 09 Apr 2019) |
| EllapsedTime: 75.5 seconds |
| RetCode: 0 |
| Status: OK |
| PackageFile: MethylSeekR_1.23.0.tgz |
| PackageFileSize: 1.698 MiB |
############################################################################## ############################################################################## ### ### Running command: ### ### rm -rf MethylSeekR.buildbin-libdir && mkdir MethylSeekR.buildbin-libdir && /Users/biocbuild/BBS/utils/build-universal.sh MethylSeekR_1.23.0.tar.gz /Library/Frameworks/R.framework/Versions/Current/Resources/bin/R MethylSeekR.buildbin-libdir ### ############################################################################## ############################################################################## >>>>>>> >>>>>>> INSTALLATION WITH 'R CMD INSTALL --preclean --no-multiarch --library=MethylSeekR.buildbin-libdir MethylSeekR_1.23.0.tar.gz' >>>>>>> * installing *source* package ‘MethylSeekR’ ... ** R ** inst ** byte-compile and prepare package for lazy loading ** help *** installing help indices ** building package indices ** installing vignettes ** testing if installed package can be loaded * DONE (MethylSeekR)