| Back to Multiple platform build/check report for BioC 3.9 |
|
This page was generated on 2019-10-16 12:19:26 -0400 (Wed, 16 Oct 2019).
| Package 949/1741 | Hostname | OS / Arch | INSTALL | BUILD | CHECK | BUILD BIN | ||||||
| MergeMaid 2.56.0 Xiaogang Zhong
| malbec2 | Linux (Ubuntu 18.04.2 LTS) / x86_64 | OK | OK | WARNINGS | |||||||
| tokay2 | Windows Server 2012 R2 Standard / x64 | [ OK ] | OK | WARNINGS | OK | |||||||
| celaya2 | OS X 10.11.6 El Capitan / x86_64 | OK | OK | WARNINGS | OK |
| Package: MergeMaid |
| Version: 2.56.0 |
| Command: C:\cygwin\bin\curl.exe -O https://malbec2.bioconductor.org/BBS/3.9/bioc/src/contrib/MergeMaid_2.56.0.tar.gz && rm -rf MergeMaid.buildbin-libdir && mkdir MergeMaid.buildbin-libdir && C:\Users\biocbuild\bbs-3.9-bioc\R\bin\R.exe CMD INSTALL --merge-multiarch --build --library=MergeMaid.buildbin-libdir MergeMaid_2.56.0.tar.gz && C:\Users\biocbuild\bbs-3.9-bioc\R\bin\R.exe CMD INSTALL MergeMaid_2.56.0.zip && rm MergeMaid_2.56.0.tar.gz MergeMaid_2.56.0.zip |
| StartedAt: 2019-10-15 19:01:26 -0400 (Tue, 15 Oct 2019) |
| EndedAt: 2019-10-15 19:01:56 -0400 (Tue, 15 Oct 2019) |
| EllapsedTime: 30.2 seconds |
| RetCode: 0 |
| Status: OK |
##############################################################################
##############################################################################
###
### Running command:
###
### C:\cygwin\bin\curl.exe -O https://malbec2.bioconductor.org/BBS/3.9/bioc/src/contrib/MergeMaid_2.56.0.tar.gz && rm -rf MergeMaid.buildbin-libdir && mkdir MergeMaid.buildbin-libdir && C:\Users\biocbuild\bbs-3.9-bioc\R\bin\R.exe CMD INSTALL --merge-multiarch --build --library=MergeMaid.buildbin-libdir MergeMaid_2.56.0.tar.gz && C:\Users\biocbuild\bbs-3.9-bioc\R\bin\R.exe CMD INSTALL MergeMaid_2.56.0.zip && rm MergeMaid_2.56.0.tar.gz MergeMaid_2.56.0.zip
###
##############################################################################
##############################################################################
% Total % Received % Xferd Average Speed Time Time Time Current
Dload Upload Total Spent Left Speed
0 0 0 0 0 0 0 0 --:--:-- --:--:-- --:--:-- 0
100 339k 100 339k 0 0 4877k 0 --:--:-- --:--:-- --:--:-- 5391k
install for i386
* installing *source* package 'MergeMaid' ...
** using staged installation
** R
** data
** byte-compile and prepare package for lazy loading
** help
*** installing help indices
converting help for package 'MergeMaid'
finding HTML links ... done
class.mergeCoeff html
class.mergeCor html
class.mergeExpressionSet html
intCor html
intcorDens html
intersection html
mergeData html
mergeExprs html
modelOutcome html
** building package indices
** installing vignettes
** testing if installed package can be loaded from temporary location
** testing if installed package can be loaded from final location
** testing if installed package keeps a record of temporary installation path
install for x64
* installing *source* package 'MergeMaid' ...
** testing if installed package can be loaded
* MD5 sums
packaged installation of 'MergeMaid' as MergeMaid_2.56.0.zip
* DONE (MergeMaid)
* installing to library 'C:/Users/biocbuild/bbs-3.9-bioc/R/library'
package 'MergeMaid' successfully unpacked and MD5 sums checked