| Back to Multiple platform build/check report for BioC 3.9 | 
 | 
This page was generated on 2019-10-16 12:41:27 -0400 (Wed, 16 Oct 2019).
| Package 1060/1741 | Hostname | OS / Arch | INSTALL | BUILD | CHECK | BUILD BIN | ||||||
| MSstatsQCgui 1.4.0 Eralp Dogu 
 | malbec2 | Linux (Ubuntu 18.04.2 LTS) / x86_64 | OK | OK | OK |  | ||||||
| tokay2 | Windows Server 2012 R2 Standard / x64 | OK | [ OK ] | OK | OK |  | ||||||
| celaya2 | OS X 10.11.6 El Capitan / x86_64 | OK | OK | OK | OK |  | 
| Package: MSstatsQCgui | 
| Version: 1.4.0 | 
| Command: chmod a+r MSstatsQCgui -R && C:\Users\biocbuild\bbs-3.9-bioc\R\bin\R.exe CMD build --keep-empty-dirs --no-resave-data MSstatsQCgui | 
| StartedAt: 2019-10-16 01:01:40 -0400 (Wed, 16 Oct 2019) | 
| EndedAt: 2019-10-16 01:02:07 -0400 (Wed, 16 Oct 2019) | 
| EllapsedTime: 26.6 seconds | 
| RetCode: 0 | 
| Status: OK | 
| PackageFile: MSstatsQCgui_1.4.0.tar.gz | 
| PackageFileSize: 100.1 KiB | 
############################################################################## ############################################################################## ### ### Running command: ### ### chmod a+r MSstatsQCgui -R && C:\Users\biocbuild\bbs-3.9-bioc\R\bin\R.exe CMD build --keep-empty-dirs --no-resave-data MSstatsQCgui ### ############################################################################## ############################################################################## * checking for file 'MSstatsQCgui/DESCRIPTION' ... OK * preparing 'MSstatsQCgui': * checking DESCRIPTION meta-information ... OK * installing the package to build vignettes * creating vignettes ... OK * checking for LF line-endings in source and make files and shell scripts * checking for empty or unneeded directories * looking to see if a 'data/datalist' file should be added * building 'MSstatsQCgui_1.4.0.tar.gz'