| Back to Multiple platform build/check report for BioC 3.9 |
|
This page was generated on 2019-04-09 13:37:18 -0400 (Tue, 09 Apr 2019).
| Package 877/1703 | Hostname | OS / Arch | INSTALL | BUILD | CHECK | BUILD BIN | ||||||
| LRBaseDbi 1.1.0 Koki Tsuyuzaki
| malbec2 | Linux (Ubuntu 18.04.2 LTS) / x86_64 | OK | OK | OK | |||||||
| tokay2 | Windows Server 2012 R2 Standard / x64 | OK | OK | OK | OK | |||||||
| celaya2 | OS X 10.11.6 El Capitan / x86_64 | OK | OK | OK | OK | |||||||
| merida2 | OS X 10.11.6 El Capitan / x86_64 | OK | OK | OK | [ OK ] |
| Package: LRBaseDbi |
| Version: 1.1.0 |
| Command: rm -rf LRBaseDbi.buildbin-libdir && mkdir LRBaseDbi.buildbin-libdir && /Users/biocbuild/BBS/utils/build-universal.sh LRBaseDbi_1.1.0.tar.gz /Library/Frameworks/R.framework/Versions/Current/Resources/bin/R LRBaseDbi.buildbin-libdir |
| StartedAt: 2019-04-09 05:44:21 -0400 (Tue, 09 Apr 2019) |
| EndedAt: 2019-04-09 05:45:40 -0400 (Tue, 09 Apr 2019) |
| EllapsedTime: 78.7 seconds |
| RetCode: 0 |
| Status: OK |
| PackageFile: LRBaseDbi_1.1.0.tgz |
| PackageFileSize: 340.7 KiB |
############################################################################## ############################################################################## ### ### Running command: ### ### rm -rf LRBaseDbi.buildbin-libdir && mkdir LRBaseDbi.buildbin-libdir && /Users/biocbuild/BBS/utils/build-universal.sh LRBaseDbi_1.1.0.tar.gz /Library/Frameworks/R.framework/Versions/Current/Resources/bin/R LRBaseDbi.buildbin-libdir ### ############################################################################## ############################################################################## >>>>>>> >>>>>>> INSTALLATION WITH 'R CMD INSTALL --preclean --no-multiarch --library=LRBaseDbi.buildbin-libdir LRBaseDbi_1.1.0.tar.gz' >>>>>>> * installing *source* package ‘LRBaseDbi’ ... ** R ** data ** inst ** byte-compile and prepare package for lazy loading ** help *** installing help indices ** building package indices ** installing vignettes ** testing if installed package can be loaded * DONE (LRBaseDbi)