| Back to Multiple platform build/check report for BioC 3.9 |
|
This page was generated on 2019-10-16 12:38:00 -0400 (Wed, 16 Oct 2019).
| Package 822/1741 | Hostname | OS / Arch | INSTALL | BUILD | CHECK | BUILD BIN | ||||||
| IntEREst 1.8.0 Ali Oghabian
| malbec2 | Linux (Ubuntu 18.04.2 LTS) / x86_64 | OK | OK | OK | |||||||
| tokay2 | Windows Server 2012 R2 Standard / x64 | [ OK ] | OK | WARNINGS | OK | |||||||
| celaya2 | OS X 10.11.6 El Capitan / x86_64 | OK | OK | OK | OK |
| Package: IntEREst |
| Version: 1.8.0 |
| Command: C:\cygwin\bin\curl.exe -O https://malbec2.bioconductor.org/BBS/3.9/bioc/src/contrib/IntEREst_1.8.0.tar.gz && rm -rf IntEREst.buildbin-libdir && mkdir IntEREst.buildbin-libdir && C:\Users\biocbuild\bbs-3.9-bioc\R\bin\R.exe CMD INSTALL --merge-multiarch --build --library=IntEREst.buildbin-libdir IntEREst_1.8.0.tar.gz && C:\Users\biocbuild\bbs-3.9-bioc\R\bin\R.exe CMD INSTALL IntEREst_1.8.0.zip && rm IntEREst_1.8.0.tar.gz IntEREst_1.8.0.zip |
| StartedAt: 2019-10-15 20:25:46 -0400 (Tue, 15 Oct 2019) |
| EndedAt: 2019-10-15 20:27:38 -0400 (Tue, 15 Oct 2019) |
| EllapsedTime: 111.9 seconds |
| RetCode: 0 |
| Status: OK |
##############################################################################
##############################################################################
###
### Running command:
###
### C:\cygwin\bin\curl.exe -O https://malbec2.bioconductor.org/BBS/3.9/bioc/src/contrib/IntEREst_1.8.0.tar.gz && rm -rf IntEREst.buildbin-libdir && mkdir IntEREst.buildbin-libdir && C:\Users\biocbuild\bbs-3.9-bioc\R\bin\R.exe CMD INSTALL --merge-multiarch --build --library=IntEREst.buildbin-libdir IntEREst_1.8.0.tar.gz && C:\Users\biocbuild\bbs-3.9-bioc\R\bin\R.exe CMD INSTALL IntEREst_1.8.0.zip && rm IntEREst_1.8.0.tar.gz IntEREst_1.8.0.zip
###
##############################################################################
##############################################################################
% Total % Received % Xferd Average Speed Time Time Time Current
Dload Upload Total Spent Left Speed
0 0 0 0 0 0 0 0 --:--:-- --:--:-- --:--:-- 0
100 959k 100 959k 0 0 14.1M 0 --:--:-- --:--:-- --:--:-- 15.8M
install for i386
* installing *source* package 'IntEREst' ...
** using staged installation
** R
** data
*** moving datasets to lazyload DB
** inst
** byte-compile and prepare package for lazy loading
** help
*** installing help indices
converting help for package 'IntEREst'
finding HTML links ... done
DEXSeqIntEREst html
IntEREst-package html
addAnnotation html
annotateU12 html
attributes html
boxplot-method html
buildSsTypePwms html
counts-method html
deseqInterest html
exactTestInterest html
getRepeatTable html
glmInterest html
interest html
Rd warning: C:/Users/biocbuild/bbs-3.9-bioc/tmpdir/RtmpkF0zIW/R.INSTALL21b46002c06/IntEREst/man/interest.Rd:91: file link 'BamFile' in package 'Rsamtools' does not exist and so has been treated as a topic
interest.sequential html
Rd warning: C:/Users/biocbuild/bbs-3.9-bioc/tmpdir/RtmpkF0zIW/R.INSTALL21b46002c06/IntEREst/man/interest.sequential.Rd:87: file link 'BamFile' in package 'Rsamtools' does not exist and so has been treated as a topic
interestResult html
interestResultIntEx html
intexIndex html
lfc html
mdsChr22ExObj html
mdsChr22IntSpObj html
mdsChr22Obj html
mergeInterestResult html
plot-method html
psi html
pwmU12db html
qlfInterest html
readInterestResults html
referencePrepare html
subInterestResult html
treatInterest html
u12 html
u12Boxplot html
u12BoxplotNb html
u12DensityPlot html
u12Index html
u12NbIndex html
unionRefTr html
updateRowDataCol html
** building package indices
** installing vignettes
** testing if installed package can be loaded from temporary location
** testing if installed package can be loaded from final location
** testing if installed package keeps a record of temporary installation path
install for x64
* installing *source* package 'IntEREst' ...
** testing if installed package can be loaded
* MD5 sums
packaged installation of 'IntEREst' as IntEREst_1.8.0.zip
* DONE (IntEREst)
* installing to library 'C:/Users/biocbuild/bbs-3.9-bioc/R/library'
package 'IntEREst' successfully unpacked and MD5 sums checked