| Back to Multiple platform build/check report for BioC 3.9 |
|
This page was generated on 2019-10-16 12:25:21 -0400 (Wed, 16 Oct 2019).
| Package 797/1741 | Hostname | OS / Arch | INSTALL | BUILD | CHECK | BUILD BIN | ||||||
| IdMappingRetrieval 1.32.0 Alex Lisovich
| malbec2 | Linux (Ubuntu 18.04.2 LTS) / x86_64 | OK | OK | OK | |||||||
| tokay2 | Windows Server 2012 R2 Standard / x64 | [ OK ] | OK | OK | OK | |||||||
| celaya2 | OS X 10.11.6 El Capitan / x86_64 | OK | OK | OK | OK |
| Package: IdMappingRetrieval |
| Version: 1.32.0 |
| Command: C:\cygwin\bin\curl.exe -O https://malbec2.bioconductor.org/BBS/3.9/bioc/src/contrib/IdMappingRetrieval_1.32.0.tar.gz && rm -rf IdMappingRetrieval.buildbin-libdir && mkdir IdMappingRetrieval.buildbin-libdir && C:\Users\biocbuild\bbs-3.9-bioc\R\bin\R.exe CMD INSTALL --merge-multiarch --build --library=IdMappingRetrieval.buildbin-libdir IdMappingRetrieval_1.32.0.tar.gz && C:\Users\biocbuild\bbs-3.9-bioc\R\bin\R.exe CMD INSTALL IdMappingRetrieval_1.32.0.zip && rm IdMappingRetrieval_1.32.0.tar.gz IdMappingRetrieval_1.32.0.zip |
| StartedAt: 2019-10-15 19:51:05 -0400 (Tue, 15 Oct 2019) |
| EndedAt: 2019-10-15 19:52:07 -0400 (Tue, 15 Oct 2019) |
| EllapsedTime: 62.4 seconds |
| RetCode: 0 |
| Status: OK |
##############################################################################
##############################################################################
###
### Running command:
###
### C:\cygwin\bin\curl.exe -O https://malbec2.bioconductor.org/BBS/3.9/bioc/src/contrib/IdMappingRetrieval_1.32.0.tar.gz && rm -rf IdMappingRetrieval.buildbin-libdir && mkdir IdMappingRetrieval.buildbin-libdir && C:\Users\biocbuild\bbs-3.9-bioc\R\bin\R.exe CMD INSTALL --merge-multiarch --build --library=IdMappingRetrieval.buildbin-libdir IdMappingRetrieval_1.32.0.tar.gz && C:\Users\biocbuild\bbs-3.9-bioc\R\bin\R.exe CMD INSTALL IdMappingRetrieval_1.32.0.zip && rm IdMappingRetrieval_1.32.0.tar.gz IdMappingRetrieval_1.32.0.zip
###
##############################################################################
##############################################################################
% Total % Received % Xferd Average Speed Time Time Time Current
Dload Upload Total Spent Left Speed
0 0 0 0 0 0 0 0 --:--:-- --:--:-- --:--:-- 0
100 34551 100 34551 0 0 577k 0 --:--:-- --:--:-- --:--:-- 648k
install for i386
* installing *source* package 'IdMappingRetrieval' ...
** using staged installation
** R
** demo
** byte-compile and prepare package for lazy loading
** help
*** installing help indices
converting help for package 'IdMappingRetrieval'
finding HTML links ... done
Annotation html
AnnotationAffx html
AnnotationEnsembl html
AnnotationEnsemblCsv html
AnnotationEnvision html
AnnotationNetAffx html
Generic.Roo html
IdMappingAnnotationData.root html
IdMappingRetrieval-package html
ServiceManager html
addServices.ServiceManager html
as.IdMap html
as.UniquePairs html
filesExist.AnnotationNetAffx html
getColumns.Annotation html
getColumns.AnnotationAffx html
getColumns.AnnotationEnsembl html
getColumns.AnnotationEnsemblCsv html
getColumns.AnnotationEnvision html
getDataFrame.Annotation html
getDataFrameList.ServiceManager html
getFolderName.Annotation html
getIdMap.Annotation html
getIdMapList.ServiceManager html
getServiceRoot.Annotation html
getServices.ServiceManager html
readDF.Annotation html
readDF.AnnotationAffx html
readDF.AnnotationEnsembl html
readDF.AnnotationEnsemblCsv html
readDF.AnnotationEnvision html
readDF.AnnotationNetAffx html
setOptions.Annotation html
setServices.ServiceManager html
subsetByColumn html
swapKeys html
** building package indices
** installing vignettes
** testing if installed package can be loaded from temporary location
** testing if installed package can be loaded from final location
** testing if installed package keeps a record of temporary installation path
install for x64
* installing *source* package 'IdMappingRetrieval' ...
** testing if installed package can be loaded
* MD5 sums
packaged installation of 'IdMappingRetrieval' as IdMappingRetrieval_1.32.0.zip
* DONE (IdMappingRetrieval)
* installing to library 'C:/Users/biocbuild/bbs-3.9-bioc/R/library'
package 'IdMappingRetrieval' successfully unpacked and MD5 sums checked