| Back to Multiple platform build/check report for BioC 3.9 |
|
This page was generated on 2019-10-16 12:26:26 -0400 (Wed, 16 Oct 2019).
| Package 764/1741 | Hostname | OS / Arch | INSTALL | BUILD | CHECK | BUILD BIN | ||||||
| HiTC 1.28.0 Nicolas Servant
| malbec2 | Linux (Ubuntu 18.04.2 LTS) / x86_64 | OK | OK | OK | |||||||
| tokay2 | Windows Server 2012 R2 Standard / x64 | OK | OK | OK | [ OK ] | |||||||
| celaya2 | OS X 10.11.6 El Capitan / x86_64 | OK | OK | OK | OK |
| Package: HiTC |
| Version: 1.28.0 |
| Command: rm -rf HiTC.buildbin-libdir && mkdir HiTC.buildbin-libdir && C:\Users\biocbuild\bbs-3.9-bioc\R\bin\R.exe CMD INSTALL --merge-multiarch --build --library=HiTC.buildbin-libdir HiTC_1.28.0.tar.gz |
| StartedAt: 2019-10-16 09:26:11 -0400 (Wed, 16 Oct 2019) |
| EndedAt: 2019-10-16 09:27:05 -0400 (Wed, 16 Oct 2019) |
| EllapsedTime: 54.2 seconds |
| RetCode: 0 |
| Status: OK |
| PackageFile: HiTC_1.28.0.zip |
| PackageFileSize: 3.59 MiB |
##############################################################################
##############################################################################
###
### Running command:
###
### rm -rf HiTC.buildbin-libdir && mkdir HiTC.buildbin-libdir && C:\Users\biocbuild\bbs-3.9-bioc\R\bin\R.exe CMD INSTALL --merge-multiarch --build --library=HiTC.buildbin-libdir HiTC_1.28.0.tar.gz
###
##############################################################################
##############################################################################
install for i386
* installing *source* package 'HiTC' ...
** using staged installation
** R
** data
** inst
** byte-compile and prepare package for lazy loading
** help
*** installing help indices
converting help for package 'HiTC'
finding HTML links ... done
CQC html
HTCexp-class html
HTClist-class html
HiTC-internal html
Nora_5C html
binningC html
directionalityIndex html
discretize html
export.my5C html
exportC html
extractRegion html
getAnnotatedRestrictionSites html
getExpectedCounts html
getPearsonMap html
getRestrictionFragmentsPerChromosome html
import.my5C html
importC html
intervalsDist html
mapC html
normICE html
normLGF html
pca.hic html
removeIntervals html
setGenomicFeatures html
setIntervalScale html
** building package indices
** installing vignettes
** testing if installed package can be loaded from temporary location
** testing if installed package can be loaded from final location
** testing if installed package keeps a record of temporary installation path
install for x64
* installing *source* package 'HiTC' ...
** testing if installed package can be loaded
* MD5 sums
packaged installation of 'HiTC' as HiTC_1.28.0.zip
* DONE (HiTC)