| Back to Multiple platform build/check report for BioC 3.9 | 
 | 
This page was generated on 2019-10-16 12:27:28 -0400 (Wed, 16 Oct 2019).
| Package 774/1741 | Hostname | OS / Arch | INSTALL | BUILD | CHECK | BUILD BIN | ||||||
| HTSFilter 1.24.0 Andrea Rau 
 | malbec2 | Linux (Ubuntu 18.04.2 LTS) / x86_64 | OK | OK | OK |  | ||||||
| tokay2 | Windows Server 2012 R2 Standard / x64 | OK | OK | OK | [ OK ] |  | ||||||
| celaya2 | OS X 10.11.6 El Capitan / x86_64 | OK | OK | OK | OK |  | 
| Package: HTSFilter | 
| Version: 1.24.0 | 
| Command: rm -rf HTSFilter.buildbin-libdir && mkdir HTSFilter.buildbin-libdir && C:\Users\biocbuild\bbs-3.9-bioc\R\bin\R.exe CMD INSTALL --merge-multiarch --build --library=HTSFilter.buildbin-libdir HTSFilter_1.24.0.tar.gz | 
| StartedAt: 2019-10-16 09:26:39 -0400 (Wed, 16 Oct 2019) | 
| EndedAt: 2019-10-16 09:27:35 -0400 (Wed, 16 Oct 2019) | 
| EllapsedTime: 55.6 seconds | 
| RetCode: 0 | 
| Status: OK | 
| PackageFile: HTSFilter_1.24.0.zip | 
| PackageFileSize: 602.1 KiB | 
##############################################################################
##############################################################################
###
### Running command:
###
###   rm -rf HTSFilter.buildbin-libdir && mkdir HTSFilter.buildbin-libdir && C:\Users\biocbuild\bbs-3.9-bioc\R\bin\R.exe CMD INSTALL --merge-multiarch --build --library=HTSFilter.buildbin-libdir HTSFilter_1.24.0.tar.gz
###
##############################################################################
##############################################################################
install for i386
* installing *source* package 'HTSFilter' ...
** using staged installation
** R
** data
** inst
** byte-compile and prepare package for lazy loading
** help
*** installing help indices
  converting help for package 'HTSFilter'
    finding HTML links ... done
    HTSBasicFilter                          html  
    HTSFilter-deprecated                    html  
    HTSFilter-package                       html  
    HTSFilter                               html  
    normalizeData                           html  
    sultan                                  html  
** building package indices
** installing vignettes
** testing if installed package can be loaded from temporary location
** testing if installed package can be loaded from final location
** testing if installed package keeps a record of temporary installation path
install for x64
* installing *source* package 'HTSFilter' ...
** testing if installed package can be loaded
* MD5 sums
packaged installation of 'HTSFilter' as HTSFilter_1.24.0.zip
* DONE (HTSFilter)