| Back to Multiple platform build/check report for BioC 3.9 |
|
This page was generated on 2019-10-16 12:44:26 -0400 (Wed, 16 Oct 2019).
| Package 743/1741 | Hostname | OS / Arch | INSTALL | BUILD | CHECK | BUILD BIN | ||||||
| HCABrowser 1.0.1 Bioconductor Package Maintainer
| malbec2 | Linux (Ubuntu 18.04.2 LTS) / x86_64 | OK | OK | OK | |||||||
| tokay2 | Windows Server 2012 R2 Standard / x64 | OK | OK | OK | [ OK ] | |||||||
| celaya2 | OS X 10.11.6 El Capitan / x86_64 | OK | OK | OK | OK |
| Package: HCABrowser |
| Version: 1.0.1 |
| Command: rm -rf HCABrowser.buildbin-libdir && mkdir HCABrowser.buildbin-libdir && C:\Users\biocbuild\bbs-3.9-bioc\R\bin\R.exe CMD INSTALL --merge-multiarch --build --library=HCABrowser.buildbin-libdir HCABrowser_1.0.1.tar.gz |
| StartedAt: 2019-10-16 09:24:55 -0400 (Wed, 16 Oct 2019) |
| EndedAt: 2019-10-16 09:25:33 -0400 (Wed, 16 Oct 2019) |
| EllapsedTime: 37.8 seconds |
| RetCode: 0 |
| Status: OK |
| PackageFile: HCABrowser_1.0.1.zip |
| PackageFileSize: 530.4 KiB |
##############################################################################
##############################################################################
###
### Running command:
###
### rm -rf HCABrowser.buildbin-libdir && mkdir HCABrowser.buildbin-libdir && C:\Users\biocbuild\bbs-3.9-bioc\R\bin\R.exe CMD INSTALL --merge-multiarch --build --library=HCABrowser.buildbin-libdir HCABrowser_1.0.1.tar.gz
###
##############################################################################
##############################################################################
install for i386
* installing *source* package 'HCABrowser' ...
** using staged installation
** R
** inst
** byte-compile and prepare package for lazy loading
Creating a new generic function for 'activate' in package 'HCABrowser'
** help
*** installing help indices
converting help for package 'HCABrowser'
finding HTML links ... done
HCABrowser-class html
HCABrowser html
ProjectBrowser-class html
ProjectBrowser html
activate html
fields html
filter.HCABrowser html
hca-api-methods html
nextResults html
per_page html
pullBundles html
pullFiles html
resetEsQuery html
results-SearchResult-method html
results html
select.HCABrowser html
show-HCABrowser-method html
show-SearchResult-method html
showBundles html
undoEsQuery html
values-HCABrowser-method html
** building package indices
** installing vignettes
** testing if installed package can be loaded from temporary location
** testing if installed package can be loaded from final location
** testing if installed package keeps a record of temporary installation path
install for x64
* installing *source* package 'HCABrowser' ...
** testing if installed package can be loaded
* MD5 sums
packaged installation of 'HCABrowser' as HCABrowser_1.0.1.zip
* DONE (HCABrowser)