| Back to Multiple platform build/check report for BioC 3.9 |
|
This page was generated on 2019-10-16 12:38:13 -0400 (Wed, 16 Oct 2019).
| Package 655/1741 | Hostname | OS / Arch | INSTALL | BUILD | CHECK | BUILD BIN | ||||||
| GenomicDataCommons 1.8.0 Sean Davis
| malbec2 | Linux (Ubuntu 18.04.2 LTS) / x86_64 | OK | OK | WARNINGS | |||||||
| tokay2 | Windows Server 2012 R2 Standard / x64 | OK | OK | WARNINGS | [ OK ] | |||||||
| celaya2 | OS X 10.11.6 El Capitan / x86_64 | OK | OK | WARNINGS | OK |
| Package: GenomicDataCommons |
| Version: 1.8.0 |
| Command: rm -rf GenomicDataCommons.buildbin-libdir && mkdir GenomicDataCommons.buildbin-libdir && C:\Users\biocbuild\bbs-3.9-bioc\R\bin\R.exe CMD INSTALL --merge-multiarch --build --library=GenomicDataCommons.buildbin-libdir GenomicDataCommons_1.8.0.tar.gz |
| StartedAt: 2019-10-16 09:18:39 -0400 (Wed, 16 Oct 2019) |
| EndedAt: 2019-10-16 09:19:19 -0400 (Wed, 16 Oct 2019) |
| EllapsedTime: 39.0 seconds |
| RetCode: 0 |
| Status: OK |
| PackageFile: GenomicDataCommons_1.8.0.zip |
| PackageFileSize: 1.023 MiB |
##############################################################################
##############################################################################
###
### Running command:
###
### rm -rf GenomicDataCommons.buildbin-libdir && mkdir GenomicDataCommons.buildbin-libdir && C:\Users\biocbuild\bbs-3.9-bioc\R\bin\R.exe CMD INSTALL --merge-multiarch --build --library=GenomicDataCommons.buildbin-libdir GenomicDataCommons_1.8.0.tar.gz
###
##############################################################################
##############################################################################
install for i386
* installing *source* package 'GenomicDataCommons' ...
** using staged installation
** R
** inst
** byte-compile and prepare package for lazy loading
** help
*** installing help indices
converting help for package 'GenomicDataCommons'
finding HTML links ... done
GenomicDataCommons html
aggregations html
available_expand html
available_fields html
available_values html
constants html
count html
default_fields html
dot-htseq_importer html
entity_name html
expand html
faceting html
filtering html
gdc_cache html
gdc_client html
gdc_clinical html
gdc_rnaseq html
Rd warning: C:/Users/biocbuild/bbs-3.9-bioc/tmpdir/RtmpoRBTnc/R.INSTALL264c58fc1c57/GenomicDataCommons/man/gdc_rnaseq.Rd:28: file link 'SummarizedExperiment' in package 'SummarizedExperiment' does not exist and so has been treated as a topic
gdc_token html
gdcdata html
grep_fields html
id_field html
ids html
make_filter html
manifest html
mapping html
query html
readDNAcopy html
Rd warning: C:/Users/biocbuild/bbs-3.9-bioc/tmpdir/RtmpoRBTnc/R.INSTALL264c58fc1c57/GenomicDataCommons/man/readDNAcopy.Rd:12: file link 'read_tsv' in package 'readr' does not exist and so has been treated as a topic
Rd warning: C:/Users/biocbuild/bbs-3.9-bioc/tmpdir/RtmpoRBTnc/R.INSTALL264c58fc1c57/GenomicDataCommons/man/readDNAcopy.Rd:15: file link 'GRanges' in package 'GenomicRanges' does not exist and so has been treated as a topic
readHTSeqFile html
Rd warning: C:/Users/biocbuild/bbs-3.9-bioc/tmpdir/RtmpoRBTnc/R.INSTALL264c58fc1c57/GenomicDataCommons/man/readHTSeqFile.Rd:16: file link 'read_tsv' in package 'readr' does not exist and so has been treated as a topic
response html
results html
results_all html
select html
slicing html
status html
transfer html
write_manifest html
** building package indices
** installing vignettes
** testing if installed package can be loaded from temporary location
** testing if installed package can be loaded from final location
** testing if installed package keeps a record of temporary installation path
install for x64
* installing *source* package 'GenomicDataCommons' ...
** testing if installed package can be loaded
* MD5 sums
packaged installation of 'GenomicDataCommons' as GenomicDataCommons_1.8.0.zip
* DONE (GenomicDataCommons)