| Back to Multiple platform build/check report for BioC 3.9 |
|
This page was generated on 2019-10-16 12:25:45 -0400 (Wed, 16 Oct 2019).
| Package 737/1741 | Hostname | OS / Arch | INSTALL | BUILD | CHECK | BUILD BIN | ||||||
| GWASTools 1.30.1 Stephanie M. Gogarten
| malbec2 | Linux (Ubuntu 18.04.2 LTS) / x86_64 | OK | OK | OK | |||||||
| tokay2 | Windows Server 2012 R2 Standard / x64 | OK | OK | OK | [ OK ] | |||||||
| celaya2 | OS X 10.11.6 El Capitan / x86_64 | OK | OK | OK | OK |
| Package: GWASTools |
| Version: 1.30.1 |
| Command: rm -rf GWASTools.buildbin-libdir && mkdir GWASTools.buildbin-libdir && C:\Users\biocbuild\bbs-3.9-bioc\R\bin\R.exe CMD INSTALL --merge-multiarch --build --library=GWASTools.buildbin-libdir GWASTools_1.30.1.tar.gz |
| StartedAt: 2019-10-16 09:24:33 -0400 (Wed, 16 Oct 2019) |
| EndedAt: 2019-10-16 09:25:15 -0400 (Wed, 16 Oct 2019) |
| EllapsedTime: 41.9 seconds |
| RetCode: 0 |
| Status: OK |
| PackageFile: GWASTools_1.30.1.zip |
| PackageFileSize: 2.457 MiB |
##############################################################################
##############################################################################
###
### Running command:
###
### rm -rf GWASTools.buildbin-libdir && mkdir GWASTools.buildbin-libdir && C:\Users\biocbuild\bbs-3.9-bioc\R\bin\R.exe CMD INSTALL --merge-multiarch --build --library=GWASTools.buildbin-libdir GWASTools_1.30.1.tar.gz
###
##############################################################################
##############################################################################
install for i386
* installing *source* package 'GWASTools' ...
** using staged installation
** R
** data
*** moving datasets to lazyload DB
** inst
** byte-compile and prepare package for lazy loading
** help
*** installing help indices
converting help for package 'GWASTools'
finding HTML links ... done
BAFfromClusterMeans html
finding level-2 HTML links ... done
BAFfromGenotypes html
GWASTools-package html
GdsGenotypeReader-class html
GdsIntensityReader-class html
GdsReader-class html
GenotypeData-class html
GenotypeIterator-class html
HLA html
IntensityData-class html
MatrixGenotypeReader-class html
NcdfGenotypeReader-class html
NcdfIntensityReader-class html
NcdfReader-class html
ScanAnnotationDataFrame-class html
ScanAnnotationSQLite-class html
SnpAnnotationDataFrame-class html
SnpAnnotationSQLite-class html
alleleFrequency html
allequal html
anomDetectBAF html
anomDetectLOH html
anomIdentifyLowQuality html
anomSegStats html
apartSnpSelection html
assocCoxPH html
assocRegression html
batchTest html
centromeres html
chromIntensityPlot html
convertNcdfGds html
createDataFile html
defunct html
duplicateDiscordance html
duplicateDiscordanceAcrossDatasets html
duplicateDiscordanceProbability html
exactHWE html
findBAFvariance html
gdsSubset html
genoClusterPlot html
genotypeToCharacter html
getVariable html
getobj html
hetByScanChrom html
hetBySnpSex html
ibdPlot html
imputedDosageFile html
intensityOutliersPlot html
manhattanPlot html
meanIntensityByScanChrom html
mendelErr html
mendelList html
missingGenotypeByScanChrom html
missingGenotypeBySnpSex html
pasteSorted html
pcaSnpFilters html
pedigreeCheck html
pedigreeDeleteDuplicates html
pedigreeMaxUnrelated html
pedigreePairwiseRelatedness html
plinkUtils html
pseudoautoIntensityPlot html
pseudoautosomal html
qqPlot html
qualityScoreByScan html
qualityScoreBySnp html
readWriteFirst html
relationsMeanVar html
saveas html
setMissingGenotypes html
simulateGenotypeMatrix html
snpCorrelationPlot html
snpStats html
vcfWrite html
** building package indices
** installing vignettes
** testing if installed package can be loaded from temporary location
** testing if installed package can be loaded from final location
** testing if installed package keeps a record of temporary installation path
install for x64
* installing *source* package 'GWASTools' ...
** testing if installed package can be loaded
* MD5 sums
packaged installation of 'GWASTools' as GWASTools_1.30.1.zip
* DONE (GWASTools)