| Back to Multiple platform build/check report for BioC 3.9 |
|
This page was generated on 2019-10-16 12:26:35 -0400 (Wed, 16 Oct 2019).
| Package 595/1741 | Hostname | OS / Arch | INSTALL | BUILD | CHECK | BUILD BIN | ||||||
| FunciSNP 1.28.0 Simon G. Coetzee
| malbec2 | Linux (Ubuntu 18.04.2 LTS) / x86_64 | OK | OK | OK | |||||||
| tokay2 | Windows Server 2012 R2 Standard / x64 | OK | OK | OK | [ OK ] | |||||||
| celaya2 | OS X 10.11.6 El Capitan / x86_64 | OK | OK | OK | OK |
| Package: FunciSNP |
| Version: 1.28.0 |
| Command: rm -rf FunciSNP.buildbin-libdir && mkdir FunciSNP.buildbin-libdir && C:\Users\biocbuild\bbs-3.9-bioc\R\bin\R.exe CMD INSTALL --merge-multiarch --build --library=FunciSNP.buildbin-libdir FunciSNP_1.28.0.tar.gz |
| StartedAt: 2019-10-16 09:14:50 -0400 (Wed, 16 Oct 2019) |
| EndedAt: 2019-10-16 09:16:08 -0400 (Wed, 16 Oct 2019) |
| EllapsedTime: 77.6 seconds |
| RetCode: 0 |
| Status: OK |
| PackageFile: FunciSNP_1.28.0.zip |
| PackageFileSize: 2.576 MiB |
##############################################################################
##############################################################################
###
### Running command:
###
### rm -rf FunciSNP.buildbin-libdir && mkdir FunciSNP.buildbin-libdir && C:\Users\biocbuild\bbs-3.9-bioc\R\bin\R.exe CMD INSTALL --merge-multiarch --build --library=FunciSNP.buildbin-libdir FunciSNP_1.28.0.tar.gz
###
##############################################################################
##############################################################################
install for i386
* installing *source* package 'FunciSNP' ...
** using staged installation
** R
** data
*** moving datasets to lazyload DB
** inst
** byte-compile and prepare package for lazy loading
** help
*** installing help indices
converting help for package 'FunciSNP'
finding HTML links ... done
CorrelatedSNPs-class html
FunciSNP-package html
FunciSNPAnnotateSummary html
FunciSNPbed html
FunciSNPidsFromSummary html
FunciSNPplot html
FunciSNPsummaryOverlaps html
FunciSNPtable html
TSList-class html
TagSNP-class html
getFSNPs html
** building package indices
** installing vignettes
** testing if installed package can be loaded from temporary location
** testing if installed package can be loaded from final location
** testing if installed package keeps a record of temporary installation path
install for x64
* installing *source* package 'FunciSNP' ...
** testing if installed package can be loaded
* MD5 sums
packaged installation of 'FunciSNP' as FunciSNP_1.28.0.zip
* DONE (FunciSNP)