| Back to Multiple platform build/check report for BioC 3.9 |
|
This page was generated on 2019-10-16 12:31:00 -0400 (Wed, 16 Oct 2019).
| Package 590/1741 | Hostname | OS / Arch | INSTALL | BUILD | CHECK | BUILD BIN | ||||||
| FourCSeq 1.18.0 Felix A. Klein
| malbec2 | Linux (Ubuntu 18.04.2 LTS) / x86_64 | OK | OK | WARNINGS | |||||||
| tokay2 | Windows Server 2012 R2 Standard / x64 | OK | OK | WARNINGS | [ OK ] | |||||||
| celaya2 | OS X 10.11.6 El Capitan / x86_64 | OK | OK | WARNINGS | OK |
| Package: FourCSeq |
| Version: 1.18.0 |
| Command: rm -rf FourCSeq.buildbin-libdir && mkdir FourCSeq.buildbin-libdir && C:\Users\biocbuild\bbs-3.9-bioc\R\bin\R.exe CMD INSTALL --merge-multiarch --build --library=FourCSeq.buildbin-libdir FourCSeq_1.18.0.tar.gz |
| StartedAt: 2019-10-16 09:14:31 -0400 (Wed, 16 Oct 2019) |
| EndedAt: 2019-10-16 09:15:49 -0400 (Wed, 16 Oct 2019) |
| EllapsedTime: 77.5 seconds |
| RetCode: 0 |
| Status: OK |
| PackageFile: FourCSeq_1.18.0.zip |
| PackageFileSize: 2.935 MiB |
##############################################################################
##############################################################################
###
### Running command:
###
### rm -rf FourCSeq.buildbin-libdir && mkdir FourCSeq.buildbin-libdir && C:\Users\biocbuild\bbs-3.9-bioc\R\bin\R.exe CMD INSTALL --merge-multiarch --build --library=FourCSeq.buildbin-libdir FourCSeq_1.18.0.tar.gz
###
##############################################################################
##############################################################################
install for i386
* installing *source* package 'FourCSeq' ...
** using staged installation
** R
** data
** inst
** byte-compile and prepare package for lazy loading
Note: break used in wrong context: no loop is visible
** help
*** installing help indices
converting help for package 'FourCSeq'
finding HTML links ... done
FourC html
addFragments html
addPeaks html
addViewpointFrags html
combineFragEnds html
countFragmentOverlaps html
countFragmentOverlapsSecondCutter html
distFitMonotone html
distFitMonotoneSymmetric html
fc html
fcf html
findViewpointFragments html
getAllResults html
getDifferences html
getDistAroundVp html
getNormalizationFactors html
getReferenceSeq html
getZScores html
normalizeRPM html
plotDifferences html
plotFits html
plotNormalizationFactors html
plotScatter html
plotZScores html
smoothCounts html
smoothHitPerCent html
writeTrackFiles html
** building package indices
** installing vignettes
** testing if installed package can be loaded from temporary location
** testing if installed package can be loaded from final location
** testing if installed package keeps a record of temporary installation path
install for x64
* installing *source* package 'FourCSeq' ...
** testing if installed package can be loaded
* MD5 sums
packaged installation of 'FourCSeq' as FourCSeq_1.18.0.zip
* DONE (FourCSeq)