| Back to Multiple platform build/check report for BioC 3.9 |
|
This page was generated on 2019-10-16 12:36:50 -0400 (Wed, 16 Oct 2019).
| Package 552/1741 | Hostname | OS / Arch | INSTALL | BUILD | CHECK | BUILD BIN | ||||||
| FitHiC 1.10.0 Ruyu Tan
| malbec2 | Linux (Ubuntu 18.04.2 LTS) / x86_64 | OK | OK | OK | |||||||
| tokay2 | Windows Server 2012 R2 Standard / x64 | [ OK ] | OK | OK | OK | |||||||
| celaya2 | OS X 10.11.6 El Capitan / x86_64 | OK | OK | OK | OK |
| Package: FitHiC |
| Version: 1.10.0 |
| Command: C:\cygwin\bin\curl.exe -O https://malbec2.bioconductor.org/BBS/3.9/bioc/src/contrib/FitHiC_1.10.0.tar.gz && rm -rf FitHiC.buildbin-libdir && mkdir FitHiC.buildbin-libdir && C:\Users\biocbuild\bbs-3.9-bioc\R\bin\R.exe CMD INSTALL --merge-multiarch --build --library=FitHiC.buildbin-libdir FitHiC_1.10.0.tar.gz && C:\Users\biocbuild\bbs-3.9-bioc\R\bin\R.exe CMD INSTALL FitHiC_1.10.0.zip && rm FitHiC_1.10.0.tar.gz FitHiC_1.10.0.zip |
| StartedAt: 2019-10-15 18:53:27 -0400 (Tue, 15 Oct 2019) |
| EndedAt: 2019-10-15 18:54:44 -0400 (Tue, 15 Oct 2019) |
| EllapsedTime: 77.2 seconds |
| RetCode: 0 |
| Status: OK |
##############################################################################
##############################################################################
###
### Running command:
###
### C:\cygwin\bin\curl.exe -O https://malbec2.bioconductor.org/BBS/3.9/bioc/src/contrib/FitHiC_1.10.0.tar.gz && rm -rf FitHiC.buildbin-libdir && mkdir FitHiC.buildbin-libdir && C:\Users\biocbuild\bbs-3.9-bioc\R\bin\R.exe CMD INSTALL --merge-multiarch --build --library=FitHiC.buildbin-libdir FitHiC_1.10.0.tar.gz && C:\Users\biocbuild\bbs-3.9-bioc\R\bin\R.exe CMD INSTALL FitHiC_1.10.0.zip && rm FitHiC_1.10.0.tar.gz FitHiC_1.10.0.zip
###
##############################################################################
##############################################################################
% Total % Received % Xferd Average Speed Time Time Time Current
Dload Upload Total Spent Left Speed
0 0 0 0 0 0 0 0 --:--:-- --:--:-- --:--:-- 0
0 26.6M 0 0 0 0 0 0 --:--:-- --:--:-- --:--:-- 0
4 26.6M 4 1280k 0 0 1095k 0 0:00:24 0:00:01 0:00:23 1101k
100 26.6M 100 26.6M 0 0 14.2M 0 0:00:01 0:00:01 --:--:-- 14.2M
install for i386
* installing *source* package 'FitHiC' ...
** using staged installation
** libs
C:/Rtools/mingw_32/bin/gcc -I"C:/Users/BIOCBU~1/BBS-3~1.9-B/R/include" -DNDEBUG -I"C:/Users/biocbuild/bbs-3.9-bioc/R/library/Rcpp/include" -I"C:/extsoft/include" -O3 -Wall -std=gnu99 -mtune=generic -c FitHiC_init.c -o FitHiC_init.o
C:/Rtools/mingw_32/bin/g++ -I"C:/Users/BIOCBU~1/BBS-3~1.9-B/R/include" -DNDEBUG -I"C:/Users/biocbuild/bbs-3.9-bioc/R/library/Rcpp/include" -I"C:/extsoft/include" -O2 -Wall -mtune=generic -c RcppExports.cpp -o RcppExports.o
C:/Rtools/mingw_32/bin/g++ -I"C:/Users/BIOCBU~1/BBS-3~1.9-B/R/include" -DNDEBUG -I"C:/Users/biocbuild/bbs-3.9-bioc/R/library/Rcpp/include" -I"C:/extsoft/include" -O2 -Wall -mtune=generic -c helper.cpp -o helper.o
C:/Rtools/mingw_32/bin/g++ -shared -s -static-libgcc -o FitHiC.dll tmp.def FitHiC_init.o RcppExports.o helper.o -LC:/extsoft/lib/i386 -LC:/extsoft/lib -LC:/Users/BIOCBU~1/BBS-3~1.9-B/R/bin/i386 -lR
installing to C:/Users/biocbuild/bbs-3.9-bioc/meat/FitHiC.buildbin-libdir/00LOCK-FitHiC/00new/FitHiC/libs/i386
** R
** inst
** byte-compile and prepare package for lazy loading
** help
*** installing help indices
converting help for package 'FitHiC'
finding HTML links ... done
FitHiC html
** building package indices
** installing vignettes
** testing if installed package can be loaded from temporary location
** testing if installed package can be loaded from final location
** testing if installed package keeps a record of temporary installation path
install for x64
* installing *source* package 'FitHiC' ...
** libs
C:/Rtools/mingw_64/bin/gcc -I"C:/Users/BIOCBU~1/BBS-3~1.9-B/R/include" -DNDEBUG -I"C:/Users/biocbuild/bbs-3.9-bioc/R/library/Rcpp/include" -I"C:/extsoft/include" -O2 -Wall -std=gnu99 -mtune=generic -c FitHiC_init.c -o FitHiC_init.o
C:/Rtools/mingw_64/bin/g++ -I"C:/Users/BIOCBU~1/BBS-3~1.9-B/R/include" -DNDEBUG -I"C:/Users/biocbuild/bbs-3.9-bioc/R/library/Rcpp/include" -I"C:/extsoft/include" -O2 -Wall -mtune=generic -c RcppExports.cpp -o RcppExports.o
C:/Rtools/mingw_64/bin/g++ -I"C:/Users/BIOCBU~1/BBS-3~1.9-B/R/include" -DNDEBUG -I"C:/Users/biocbuild/bbs-3.9-bioc/R/library/Rcpp/include" -I"C:/extsoft/include" -O2 -Wall -mtune=generic -c helper.cpp -o helper.o
C:/Rtools/mingw_64/bin/g++ -shared -s -static-libgcc -o FitHiC.dll tmp.def FitHiC_init.o RcppExports.o helper.o -LC:/extsoft/lib/x64 -LC:/extsoft/lib -LC:/Users/BIOCBU~1/BBS-3~1.9-B/R/bin/x64 -lR
installing to C:/Users/biocbuild/bbs-3.9-bioc/meat/FitHiC.buildbin-libdir/FitHiC/libs/x64
** testing if installed package can be loaded
* MD5 sums
packaged installation of 'FitHiC' as FitHiC_1.10.0.zip
* DONE (FitHiC)
* installing to library 'C:/Users/biocbuild/bbs-3.9-bioc/R/library'
package 'FitHiC' successfully unpacked and MD5 sums checked