| Back to Multiple platform build/check report for BioC 3.9 |
|
This page was generated on 2019-10-16 12:24:41 -0400 (Wed, 16 Oct 2019).
| Package 525/1741 | Hostname | OS / Arch | INSTALL | BUILD | CHECK | BUILD BIN | ||||||
| ExiMiR 2.26.0 Sylvain Gubian
| malbec2 | Linux (Ubuntu 18.04.2 LTS) / x86_64 | OK | OK | OK | |||||||
| tokay2 | Windows Server 2012 R2 Standard / x64 | OK | OK | OK | [ OK ] | |||||||
| celaya2 | OS X 10.11.6 El Capitan / x86_64 | OK | OK | OK | OK |
| Package: ExiMiR |
| Version: 2.26.0 |
| Command: rm -rf ExiMiR.buildbin-libdir && mkdir ExiMiR.buildbin-libdir && C:\Users\biocbuild\bbs-3.9-bioc\R\bin\R.exe CMD INSTALL --merge-multiarch --build --library=ExiMiR.buildbin-libdir ExiMiR_2.26.0.tar.gz |
| StartedAt: 2019-10-16 09:10:03 -0400 (Wed, 16 Oct 2019) |
| EndedAt: 2019-10-16 09:10:53 -0400 (Wed, 16 Oct 2019) |
| EllapsedTime: 50.1 seconds |
| RetCode: 0 |
| Status: OK |
| PackageFile: ExiMiR_2.26.0.zip |
| PackageFileSize: 1.18 MiB |
##############################################################################
##############################################################################
###
### Running command:
###
### rm -rf ExiMiR.buildbin-libdir && mkdir ExiMiR.buildbin-libdir && C:\Users\biocbuild\bbs-3.9-bioc\R\bin\R.exe CMD INSTALL --merge-multiarch --build --library=ExiMiR.buildbin-libdir ExiMiR_2.26.0.tar.gz
###
##############################################################################
##############################################################################
install for i386
* installing *source* package 'ExiMiR' ...
** using staged installation
** R
** data
** inst
** byte-compile and prepare package for lazy loading
** help
*** installing help indices
converting help for package 'ExiMiR'
finding HTML links ... done
ExiMiR-package html
GSE19183 html
GSE20122 html
NormiR html
NormiR.methods html
ReadExi html
bg.correct.miR html
createAB html
galenv html
make.gal.env html
norm.miR html
summarize.miR html
** building package indices
** installing vignettes
** testing if installed package can be loaded from temporary location
** testing if installed package can be loaded from final location
** testing if installed package keeps a record of temporary installation path
install for x64
* installing *source* package 'ExiMiR' ...
** testing if installed package can be loaded
* MD5 sums
packaged installation of 'ExiMiR' as ExiMiR_2.26.0.zip
* DONE (ExiMiR)