| Back to Multiple platform build/check report for BioC 3.9 |
|
This page was generated on 2019-10-16 12:18:34 -0400 (Wed, 16 Oct 2019).
| Package 474/1741 | Hostname | OS / Arch | INSTALL | BUILD | CHECK | BUILD BIN | ||||||
| DynDoc 1.62.0 Bioconductor Package Maintainer
| malbec2 | Linux (Ubuntu 18.04.2 LTS) / x86_64 | OK | OK | OK | |||||||
| tokay2 | Windows Server 2012 R2 Standard / x64 | OK | OK | OK | [ OK ] | |||||||
| celaya2 | OS X 10.11.6 El Capitan / x86_64 | OK | OK | OK | OK |
| Package: DynDoc |
| Version: 1.62.0 |
| Command: rm -rf DynDoc.buildbin-libdir && mkdir DynDoc.buildbin-libdir && C:\Users\biocbuild\bbs-3.9-bioc\R\bin\R.exe CMD INSTALL --merge-multiarch --build --library=DynDoc.buildbin-libdir DynDoc_1.62.0.tar.gz |
| StartedAt: 2019-10-16 09:06:57 -0400 (Wed, 16 Oct 2019) |
| EndedAt: 2019-10-16 09:07:27 -0400 (Wed, 16 Oct 2019) |
| EllapsedTime: 30.1 seconds |
| RetCode: 0 |
| Status: OK |
| PackageFile: DynDoc_1.62.0.zip |
| PackageFileSize: 172 KiB |
##############################################################################
##############################################################################
###
### Running command:
###
### rm -rf DynDoc.buildbin-libdir && mkdir DynDoc.buildbin-libdir && C:\Users\biocbuild\bbs-3.9-bioc\R\bin\R.exe CMD INSTALL --merge-multiarch --build --library=DynDoc.buildbin-libdir DynDoc_1.62.0.tar.gz
###
##############################################################################
##############################################################################
install for i386
* installing *source* package 'DynDoc' ...
** using staged installation
** R
** byte-compile and prepare package for lazy loading
** help
*** installing help indices
converting help for package 'DynDoc'
finding HTML links ... done
DynDoc-class html
SweaveOptions-class html
Vignette-class html
chunkList-class html
codeChunk-class html
getPkgVigList html
getVignette html
getVignetteCode html
getVignetteHeader html
tangleToR html
vignetteCode-class html
** building package indices
** testing if installed package can be loaded from temporary location
** testing if installed package can be loaded from final location
** testing if installed package keeps a record of temporary installation path
install for x64
* installing *source* package 'DynDoc' ...
** testing if installed package can be loaded
* MD5 sums
packaged installation of 'DynDoc' as DynDoc_1.62.0.zip
* DONE (DynDoc)