| Back to Multiple platform build/check report for BioC 3.9 |
|
This page was generated on 2019-04-09 13:32:03 -0400 (Tue, 09 Apr 2019).
| Package 429/1703 | Hostname | OS / Arch | INSTALL | BUILD | CHECK | BUILD BIN | ||||||
| DiffLogo 2.7.0 Hendrik Treutler
| malbec2 | Linux (Ubuntu 18.04.2 LTS) / x86_64 | OK | OK | OK | |||||||
| tokay2 | Windows Server 2012 R2 Standard / x64 | OK | OK | OK | OK | |||||||
| celaya2 | OS X 10.11.6 El Capitan / x86_64 | OK | OK | OK | OK | |||||||
| merida2 | OS X 10.11.6 El Capitan / x86_64 | OK | OK | OK | [ OK ] |
| Package: DiffLogo |
| Version: 2.7.0 |
| Command: rm -rf DiffLogo.buildbin-libdir && mkdir DiffLogo.buildbin-libdir && /Users/biocbuild/BBS/utils/build-universal.sh DiffLogo_2.7.0.tar.gz /Library/Frameworks/R.framework/Versions/Current/Resources/bin/R DiffLogo.buildbin-libdir |
| StartedAt: 2019-04-09 05:10:39 -0400 (Tue, 09 Apr 2019) |
| EndedAt: 2019-04-09 05:11:53 -0400 (Tue, 09 Apr 2019) |
| EllapsedTime: 73.7 seconds |
| RetCode: 0 |
| Status: OK |
| PackageFile: DiffLogo_2.7.0.tgz |
| PackageFileSize: 1015 KiB |
############################################################################## ############################################################################## ### ### Running command: ### ### rm -rf DiffLogo.buildbin-libdir && mkdir DiffLogo.buildbin-libdir && /Users/biocbuild/BBS/utils/build-universal.sh DiffLogo_2.7.0.tar.gz /Library/Frameworks/R.framework/Versions/Current/Resources/bin/R DiffLogo.buildbin-libdir ### ############################################################################## ############################################################################## >>>>>>> >>>>>>> INSTALLATION WITH 'R CMD INSTALL --preclean --no-multiarch --library=DiffLogo.buildbin-libdir DiffLogo_2.7.0.tar.gz' >>>>>>> * installing *source* package ‘DiffLogo’ ... ** R ** inst ** byte-compile and prepare package for lazy loading ** help *** installing help indices ** building package indices ** installing vignettes ** testing if installed package can be loaded * DONE (DiffLogo)