| Back to Multiple platform build/check report for BioC 3.9 |
|
This page was generated on 2019-10-16 12:38:04 -0400 (Wed, 16 Oct 2019).
| Package 387/1741 | Hostname | OS / Arch | INSTALL | BUILD | CHECK | BUILD BIN | ||||||
| DaMiRseq 1.8.0 Mattia Chiesa
| malbec2 | Linux (Ubuntu 18.04.2 LTS) / x86_64 | OK | OK | OK | |||||||
| tokay2 | Windows Server 2012 R2 Standard / x64 | OK | OK | OK | [ OK ] | |||||||
| celaya2 | OS X 10.11.6 El Capitan / x86_64 | OK | OK | OK | OK |
| Package: DaMiRseq |
| Version: 1.8.0 |
| Command: rm -rf DaMiRseq.buildbin-libdir && mkdir DaMiRseq.buildbin-libdir && C:\Users\biocbuild\bbs-3.9-bioc\R\bin\R.exe CMD INSTALL --merge-multiarch --build --library=DaMiRseq.buildbin-libdir DaMiRseq_1.8.0.tar.gz |
| StartedAt: 2019-10-16 09:01:18 -0400 (Wed, 16 Oct 2019) |
| EndedAt: 2019-10-16 09:03:29 -0400 (Wed, 16 Oct 2019) |
| EllapsedTime: 130.0 seconds |
| RetCode: 0 |
| Status: OK |
| PackageFile: DaMiRseq_1.8.0.zip |
| PackageFileSize: 6.262 MiB |
##############################################################################
##############################################################################
###
### Running command:
###
### rm -rf DaMiRseq.buildbin-libdir && mkdir DaMiRseq.buildbin-libdir && C:\Users\biocbuild\bbs-3.9-bioc\R\bin\R.exe CMD INSTALL --merge-multiarch --build --library=DaMiRseq.buildbin-libdir DaMiRseq_1.8.0.tar.gz
###
##############################################################################
##############################################################################
install for i386
* installing *source* package 'DaMiRseq' ...
** using staged installation
** R
** data
*** moving datasets to lazyload DB
** inst
** byte-compile and prepare package for lazy loading
** help
*** installing help indices
converting help for package 'DaMiRseq'
finding HTML links ... done
DaMiR.Allplot html
DaMiR.Clustplot html
DaMiR.EnsembleLearning html
DaMiR.EnsembleLearning2cl html
DaMiR.EnsembleLearning2cl_Predict html
DaMiR.EnsembleLearning2cl_Test html
DaMiR.EnsembleLearning2cl_Training html
DaMiR.EnsembleLearningNcl html
DaMiR.FBest html
DaMiR.FReduct html
finding level-2 HTML links ... done
DaMiR.FSelect html
DaMiR.FSort html
DaMiR.MDSplot html
DaMiR.SV html
DaMiR.SVadjust html
DaMiR.corrplot html
DaMiR.goldenDice html
DaMiR.makeSE html
DaMiR.normalization html
DaMiR.sampleFilt html
DaMiR.transpose html
SE html
SEtest_norm html
data_min html
data_norm html
data_reduced html
data_relief html
df html
selected_features html
sv html
** building package indices
** installing vignettes
** testing if installed package can be loaded from temporary location
** testing if installed package can be loaded from final location
** testing if installed package keeps a record of temporary installation path
install for x64
* installing *source* package 'DaMiRseq' ...
** testing if installed package can be loaded
* MD5 sums
packaged installation of 'DaMiRseq' as DaMiRseq_1.8.0.zip
* DONE (DaMiRseq)