| Back to Multiple platform build/check report for BioC 3.9 |
|
This page was generated on 2019-10-16 12:35:22 -0400 (Wed, 16 Oct 2019).
| Package 355/1741 | Hostname | OS / Arch | INSTALL | BUILD | CHECK | BUILD BIN | ||||||
| CountClust 1.12.0 Kushal Dey
| malbec2 | Linux (Ubuntu 18.04.2 LTS) / x86_64 | OK | OK | OK | |||||||
| tokay2 | Windows Server 2012 R2 Standard / x64 | OK | OK | OK | [ OK ] | |||||||
| celaya2 | OS X 10.11.6 El Capitan / x86_64 | OK | OK | OK | OK |
| Package: CountClust |
| Version: 1.12.0 |
| Command: rm -rf CountClust.buildbin-libdir && mkdir CountClust.buildbin-libdir && C:\Users\biocbuild\bbs-3.9-bioc\R\bin\R.exe CMD INSTALL --merge-multiarch --build --library=CountClust.buildbin-libdir CountClust_1.12.0.tar.gz |
| StartedAt: 2019-10-16 08:59:26 -0400 (Wed, 16 Oct 2019) |
| EndedAt: 2019-10-16 09:00:07 -0400 (Wed, 16 Oct 2019) |
| EllapsedTime: 41.2 seconds |
| RetCode: 0 |
| Status: OK |
| PackageFile: CountClust_1.12.0.zip |
| PackageFileSize: 6.658 MiB |
##############################################################################
##############################################################################
###
### Running command:
###
### rm -rf CountClust.buildbin-libdir && mkdir CountClust.buildbin-libdir && C:\Users\biocbuild\bbs-3.9-bioc\R\bin\R.exe CMD INSTALL --merge-multiarch --build --library=CountClust.buildbin-libdir CountClust_1.12.0.tar.gz
###
##############################################################################
##############################################################################
install for i386
* installing *source* package 'CountClust' ...
** using staged installation
** R
** data
*** moving datasets to lazyload DB
** inst
** byte-compile and prepare package for lazy loading
** help
*** installing help indices
converting help for package 'CountClust'
finding HTML links ... done
AbundanceGoM html
BatchCorrectedCounts html
ExtractHighCorFeatures html
ExtractTopFeatures html
FitGoM html
GTExV6Brain.FitGoM html
MouseDeng2014.FitGoM html
MouseJaitinSpleen.FitGoM html
RemoveSparseFeatures html
StructureGGplot html
compGoM html
compare_omega html
ex.counts html
handleNA html
nullmodel_GoM html
** building package indices
** installing vignettes
** testing if installed package can be loaded from temporary location
** testing if installed package can be loaded from final location
** testing if installed package keeps a record of temporary installation path
install for x64
* installing *source* package 'CountClust' ...
** testing if installed package can be loaded
* MD5 sums
packaged installation of 'CountClust' as CountClust_1.12.0.zip
* DONE (CountClust)