| Back to Multiple platform build/check report for BioC 3.9 | 
 | 
This page was generated on 2019-10-16 12:23:02 -0400 (Wed, 16 Oct 2019).
| Package 271/1741 | Hostname | OS / Arch | INSTALL | BUILD | CHECK | BUILD BIN | ||||||
| ChromHeatMap 1.38.0 Tim F. Rayner 
 | malbec2 | Linux (Ubuntu 18.04.2 LTS) / x86_64 | OK | OK | OK |  | ||||||
| tokay2 | Windows Server 2012 R2 Standard / x64 | OK | OK | [ OK ] | OK |  | ||||||
| celaya2 | OS X 10.11.6 El Capitan / x86_64 | OK | OK | OK | OK |  | 
| Package: ChromHeatMap | 
| Version: 1.38.0 | 
| Command: C:\Users\biocbuild\bbs-3.9-bioc\R\bin\R.exe CMD check --force-multiarch --install=check:ChromHeatMap.install-out.txt --library=C:\Users\biocbuild\bbs-3.9-bioc\R\library --no-vignettes --timings ChromHeatMap_1.38.0.tar.gz | 
| StartedAt: 2019-10-16 02:38:57 -0400 (Wed, 16 Oct 2019) | 
| EndedAt: 2019-10-16 02:43:57 -0400 (Wed, 16 Oct 2019) | 
| EllapsedTime: 300.8 seconds | 
| RetCode: 0 | 
| Status: OK | 
| CheckDir: ChromHeatMap.Rcheck | 
| Warnings: 0 | 
##############################################################################
##############################################################################
###
### Running command:
###
###   C:\Users\biocbuild\bbs-3.9-bioc\R\bin\R.exe CMD check --force-multiarch --install=check:ChromHeatMap.install-out.txt --library=C:\Users\biocbuild\bbs-3.9-bioc\R\library --no-vignettes --timings ChromHeatMap_1.38.0.tar.gz
###
##############################################################################
##############################################################################
* using log directory 'C:/Users/biocbuild/bbs-3.9-bioc/meat/ChromHeatMap.Rcheck'
* using R version 3.6.1 (2019-07-05)
* using platform: x86_64-w64-mingw32 (64-bit)
* using session charset: ISO8859-1
* using option '--no-vignettes'
* checking for file 'ChromHeatMap/DESCRIPTION' ... OK
* this is package 'ChromHeatMap' version '1.38.0'
* checking package namespace information ... OK
* checking package dependencies ... OK
* checking if this is a source package ... OK
* checking if there is a namespace ... OK
* checking for hidden files and directories ... OK
* checking for portable file names ... OK
* checking whether package 'ChromHeatMap' can be installed ... OK
* checking installed package size ... OK
* checking package directory ... OK
* checking 'build' directory ... OK
* checking DESCRIPTION meta-information ... OK
* checking top-level files ... OK
* checking for left-over files ... OK
* checking index information ... OK
* checking package subdirectories ... OK
* checking R files for non-ASCII characters ... OK
* checking R files for syntax errors ... OK
* loading checks for arch 'i386'
** checking whether the package can be loaded ... OK
** checking whether the package can be loaded with stated dependencies ... OK
** checking whether the package can be unloaded cleanly ... OK
** checking whether the namespace can be loaded with stated dependencies ... OK
** checking whether the namespace can be unloaded cleanly ... OK
* loading checks for arch 'x64'
** checking whether the package can be loaded ... OK
** checking whether the package can be loaded with stated dependencies ... OK
** checking whether the package can be unloaded cleanly ... OK
** checking whether the namespace can be loaded with stated dependencies ... OK
** checking whether the namespace can be unloaded cleanly ... OK
* checking dependencies in R code ... OK
* checking S3 generic/method consistency ... OK
* checking replacement functions ... OK
* checking foreign function calls ... OK
* checking R code for possible problems ... NOTE
createChrMatrix: no visible global function definition for 'new'
makeRangedDataList : .makeGRanges: no visible global function
  definition for 'as'
plotChrMap: no visible global function definition for 'new'
makeChrStrandData,matrix: no visible global function definition for
  'new'
Undefined global functions or variables:
  as new
Consider adding
  importFrom("methods", "as", "new")
to your NAMESPACE file (and ensure that your DESCRIPTION Imports field
contains 'methods').
* checking Rd files ... OK
* checking Rd metadata ... OK
* checking Rd cross-references ... OK
* checking for missing documentation entries ... OK
* checking for code/documentation mismatches ... OK
* checking Rd \usage sections ... OK
* checking Rd contents ... OK
* checking for unstated dependencies in examples ... OK
* checking contents of 'data' directory ... OK
* checking data for non-ASCII characters ... OK
* checking data for ASCII and uncompressed saves ... OK
* checking files in 'vignettes' ... OK
* checking examples ...
** running examples for arch 'i386' ... OK
** running examples for arch 'x64' ... OK
* checking for unstated dependencies in vignettes ... OK
* checking package vignettes in 'inst/doc' ... OK
* checking running R code from vignettes ... SKIPPED
* checking re-building of vignette outputs ... SKIPPED
* checking PDF version of manual ... OK
* DONE
Status: 1 NOTE
See
  'C:/Users/biocbuild/bbs-3.9-bioc/meat/ChromHeatMap.Rcheck/00check.log'
for details.
ChromHeatMap.Rcheck/00install.out
##############################################################################
##############################################################################
###
### Running command:
###
###   C:\cygwin\bin\curl.exe -O https://malbec2.bioconductor.org/BBS/3.9/bioc/src/contrib/ChromHeatMap_1.38.0.tar.gz && rm -rf ChromHeatMap.buildbin-libdir && mkdir ChromHeatMap.buildbin-libdir && C:\Users\biocbuild\bbs-3.9-bioc\R\bin\R.exe CMD INSTALL --merge-multiarch --build --library=ChromHeatMap.buildbin-libdir ChromHeatMap_1.38.0.tar.gz && C:\Users\biocbuild\bbs-3.9-bioc\R\bin\R.exe CMD INSTALL ChromHeatMap_1.38.0.zip && rm ChromHeatMap_1.38.0.tar.gz ChromHeatMap_1.38.0.zip
###
##############################################################################
##############################################################################
  % Total    % Received % Xferd  Average Speed   Time    Time     Time  Current
                                 Dload  Upload   Total   Spent    Left  Speed
  0     0    0     0    0     0      0      0 --:--:-- --:--:-- --:--:--     0
100  110k  100  110k    0     0  1677k      0 --:--:-- --:--:-- --:--:-- 1900k
install for i386
* installing *source* package 'ChromHeatMap' ...
** using staged installation
** R
** data
** byte-compile and prepare package for lazy loading
** help
*** installing help indices
  converting help for package 'ChromHeatMap'
    finding HTML links ... done
    ALLs.chr22                              html  
    ChrMapPlot-class                        html  
    ChrStrandData-class                     html  
    ChrStrandMatrix-class                   html  
    chrHeatMap                              html  
    chrNames                                html  
    chrdata                                 html  
    createChrMatrix                         html  
    cytobands                               html  
    drawMapDendro                           html  
    grabChrMapProbes                        html  
    makeChrStrandData-methods               html  
    makeChrStrandData                       html  
    makeRangedDataList                      html  
    plotChrMap                              html  
    stains                                  html  
    strandName                              html  
** building package indices
** installing vignettes
** testing if installed package can be loaded from temporary location
** testing if installed package can be loaded from final location
** testing if installed package keeps a record of temporary installation path
install for x64
* installing *source* package 'ChromHeatMap' ...
** testing if installed package can be loaded
* MD5 sums
packaged installation of 'ChromHeatMap' as ChromHeatMap_1.38.0.zip
* DONE (ChromHeatMap)
* installing to library 'C:/Users/biocbuild/bbs-3.9-bioc/R/library'
package 'ChromHeatMap' successfully unpacked and MD5 sums checked
| ChromHeatMap.Rcheck/examples_i386/ChromHeatMap-Ex.timings 
 | ChromHeatMap.Rcheck/examples_x64/ChromHeatMap-Ex.timings 
 |