| Back to Multiple platform build/check report for BioC 3.9 |
|
This page was generated on 2019-10-16 12:33:52 -0400 (Wed, 16 Oct 2019).
| Package 257/1741 | Hostname | OS / Arch | INSTALL | BUILD | CHECK | BUILD BIN | ||||||
| ChIPComp 1.14.0 Li Chen
| malbec2 | Linux (Ubuntu 18.04.2 LTS) / x86_64 | OK | OK | OK | |||||||
| tokay2 | Windows Server 2012 R2 Standard / x64 | OK | OK | OK | [ OK ] | |||||||
| celaya2 | OS X 10.11.6 El Capitan / x86_64 | OK | OK | OK | OK |
| Package: ChIPComp |
| Version: 1.14.0 |
| Command: rm -rf ChIPComp.buildbin-libdir && mkdir ChIPComp.buildbin-libdir && C:\Users\biocbuild\bbs-3.9-bioc\R\bin\R.exe CMD INSTALL --merge-multiarch --build --library=ChIPComp.buildbin-libdir ChIPComp_1.14.0.tar.gz |
| StartedAt: 2019-10-16 08:53:06 -0400 (Wed, 16 Oct 2019) |
| EndedAt: 2019-10-16 08:53:46 -0400 (Wed, 16 Oct 2019) |
| EllapsedTime: 40.1 seconds |
| RetCode: 0 |
| Status: OK |
| PackageFile: ChIPComp_1.14.0.zip |
| PackageFileSize: 653.4 KiB |
##############################################################################
##############################################################################
###
### Running command:
###
### rm -rf ChIPComp.buildbin-libdir && mkdir ChIPComp.buildbin-libdir && C:\Users\biocbuild\bbs-3.9-bioc\R\bin\R.exe CMD INSTALL --merge-multiarch --build --library=ChIPComp.buildbin-libdir ChIPComp_1.14.0.tar.gz
###
##############################################################################
##############################################################################
install for i386
* installing *source* package 'ChIPComp' ...
** using staged installation
** libs
C:/Rtools/mingw_32/bin/gcc -I"C:/Users/BIOCBU~1/BBS-3~1.9-B/R/include" -DNDEBUG -I"C:/extsoft/include" -O3 -Wall -std=gnu99 -mtune=generic -c mva.c -o mva.o
C:/Rtools/mingw_32/bin/gcc -shared -s -static-libgcc -o ChIPComp.dll tmp.def mva.o -LC:/Users/BIOCBU~1/BBS-3~1.9-B/R/bin/i386 -lRlapack -LC:/Users/BIOCBU~1/BBS-3~1.9-B/R/bin/i386 -lRblas -lgfortran -lm -lquadmath -LC:/extsoft/lib/i386 -LC:/extsoft/lib -LC:/Users/BIOCBU~1/BBS-3~1.9-B/R/bin/i386 -lR
installing to C:/Users/biocbuild/bbs-3.9-bioc/meat/ChIPComp.buildbin-libdir/00LOCK-ChIPComp/00new/ChIPComp/libs/i386
** R
** data
** inst
** byte-compile and prepare package for lazy loading
** help
*** installing help indices
converting help for package 'ChIPComp'
finding HTML links ... done
ChIPComp-package html
ChIPComp html
makeConf html
makeCountSet html
plot html
print html
seqData html
** building package indices
** installing vignettes
** testing if installed package can be loaded from temporary location
** testing if installed package can be loaded from final location
** testing if installed package keeps a record of temporary installation path
install for x64
* installing *source* package 'ChIPComp' ...
** libs
C:/Rtools/mingw_64/bin/gcc -I"C:/Users/BIOCBU~1/BBS-3~1.9-B/R/include" -DNDEBUG -I"C:/extsoft/include" -O2 -Wall -std=gnu99 -mtune=generic -c mva.c -o mva.o
C:/Rtools/mingw_64/bin/gcc -shared -s -static-libgcc -o ChIPComp.dll tmp.def mva.o -LC:/Users/BIOCBU~1/BBS-3~1.9-B/R/bin/x64 -lRlapack -LC:/Users/BIOCBU~1/BBS-3~1.9-B/R/bin/x64 -lRblas -lgfortran -lm -lquadmath -LC:/extsoft/lib/x64 -LC:/extsoft/lib -LC:/Users/BIOCBU~1/BBS-3~1.9-B/R/bin/x64 -lR
installing to C:/Users/biocbuild/bbs-3.9-bioc/meat/ChIPComp.buildbin-libdir/ChIPComp/libs/x64
** testing if installed package can be loaded
* MD5 sums
packaged installation of 'ChIPComp' as ChIPComp_1.14.0.zip
* DONE (ChIPComp)