| Back to Multiple platform build/check report for BioC 3.9 |
|
This page was generated on 2019-10-16 12:40:34 -0400 (Wed, 16 Oct 2019).
| Package 234/1741 | Hostname | OS / Arch | INSTALL | BUILD | CHECK | BUILD BIN | ||||||
| CellScore 1.4.0 Nancy Mah
| malbec2 | Linux (Ubuntu 18.04.2 LTS) / x86_64 | OK | OK | OK | |||||||
| tokay2 | Windows Server 2012 R2 Standard / x64 | OK | OK | OK | [ OK ] | |||||||
| celaya2 | OS X 10.11.6 El Capitan / x86_64 | OK | OK | OK | OK |
| Package: CellScore |
| Version: 1.4.0 |
| Command: rm -rf CellScore.buildbin-libdir && mkdir CellScore.buildbin-libdir && C:\Users\biocbuild\bbs-3.9-bioc\R\bin\R.exe CMD INSTALL --merge-multiarch --build --library=CellScore.buildbin-libdir CellScore_1.4.0.tar.gz |
| StartedAt: 2019-10-16 08:51:48 -0400 (Wed, 16 Oct 2019) |
| EndedAt: 2019-10-16 08:52:22 -0400 (Wed, 16 Oct 2019) |
| EllapsedTime: 33.3 seconds |
| RetCode: 0 |
| Status: OK |
| PackageFile: CellScore_1.4.0.zip |
| PackageFileSize: 4.221 MiB |
##############################################################################
##############################################################################
###
### Running command:
###
### rm -rf CellScore.buildbin-libdir && mkdir CellScore.buildbin-libdir && C:\Users\biocbuild\bbs-3.9-bioc\R\bin\R.exe CMD INSTALL --merge-multiarch --build --library=CellScore.buildbin-libdir CellScore_1.4.0.tar.gz
###
##############################################################################
##############################################################################
install for i386
* installing *source* package 'CellScore' ...
** using staged installation
** R
** inst
** byte-compile and prepare package for lazy loading
** help
*** installing help indices
converting help for package 'CellScore'
finding HTML links ... done
BarplotOnOff html
BoxplotCellScore html
CellScore html
CellScoreReport html
CosineSimScore html
OnOff html
PcaStandards html
PlotCosineSimHeatmap html
RugplotCellScore html
ScatterplotCellScoreComponents html
extractTransitions html
heatmapOnOffMarkers html
rugplotDonorTargetTest html
scatterplotDonorTargetTest html
** building package indices
** installing vignettes
** testing if installed package can be loaded from temporary location
** testing if installed package can be loaded from final location
** testing if installed package keeps a record of temporary installation path
install for x64
* installing *source* package 'CellScore' ...
** testing if installed package can be loaded
* MD5 sums
packaged installation of 'CellScore' as CellScore_1.4.0.zip
* DONE (CellScore)