| Back to Multiple platform build/check report for BioC 3.9 |
|
This page was generated on 2019-10-16 12:43:56 -0400 (Wed, 16 Oct 2019).
| Package 231/1741 | Hostname | OS / Arch | INSTALL | BUILD | CHECK | BUILD BIN | ||||||
| CellMixS 1.0.2 Almut Lütge
| malbec2 | Linux (Ubuntu 18.04.2 LTS) / x86_64 | OK | OK | OK | |||||||
| tokay2 | Windows Server 2012 R2 Standard / x64 | OK | OK | OK | [ OK ] | |||||||
| celaya2 | OS X 10.11.6 El Capitan / x86_64 | OK | OK | OK | OK |
| Package: CellMixS |
| Version: 1.0.2 |
| Command: rm -rf CellMixS.buildbin-libdir && mkdir CellMixS.buildbin-libdir && C:\Users\biocbuild\bbs-3.9-bioc\R\bin\R.exe CMD INSTALL --merge-multiarch --build --library=CellMixS.buildbin-libdir CellMixS_1.0.2.tar.gz |
| StartedAt: 2019-10-16 08:51:37 -0400 (Wed, 16 Oct 2019) |
| EndedAt: 2019-10-16 08:52:40 -0400 (Wed, 16 Oct 2019) |
| EllapsedTime: 63.3 seconds |
| RetCode: 0 |
| Status: OK |
| PackageFile: CellMixS_1.0.2.zip |
| PackageFileSize: 2.2 MiB |
##############################################################################
##############################################################################
###
### Running command:
###
### rm -rf CellMixS.buildbin-libdir && mkdir CellMixS.buildbin-libdir && C:\Users\biocbuild\bbs-3.9-bioc\R\bin\R.exe CMD INSTALL --merge-multiarch --build --library=CellMixS.buildbin-libdir CellMixS_1.0.2.tar.gz
###
##############################################################################
##############################################################################
install for i386
* installing *source* package 'CellMixS' ...
** using staged installation
** R
** inst
** byte-compile and prepare package for lazy loading
** help
*** installing help indices
converting help for package 'CellMixS'
finding HTML links ... done
CellMixS-package html
cms html
finding level-2 HTML links ... done
dot-cmsCell html
dot-defineSubspace html
dot-filterLocMin html
dot-ldfKnn html
dot-smoothCms html
ldfDiff html
ldfSce html
visCluster html
visGroup html
visHist html
visIntegration html
visMetric html
visOverview html
** building package indices
** installing vignettes
** testing if installed package can be loaded from temporary location
** testing if installed package can be loaded from final location
** testing if installed package keeps a record of temporary installation path
install for x64
* installing *source* package 'CellMixS' ...
** testing if installed package can be loaded
* MD5 sums
packaged installation of 'CellMixS' as CellMixS_1.0.2.zip
* DONE (CellMixS)