| Back to Multiple platform build/check report for BioC 3.9 |
|
This page was generated on 2019-10-16 12:26:24 -0400 (Wed, 16 Oct 2019).
| Package 208/1741 | Hostname | OS / Arch | INSTALL | BUILD | CHECK | BUILD BIN | ||||||
| CancerMutationAnalysis 1.26.0 Simina M. Boca
| malbec2 | Linux (Ubuntu 18.04.2 LTS) / x86_64 | OK | OK | OK | |||||||
| tokay2 | Windows Server 2012 R2 Standard / x64 | [ OK ] | OK | OK | OK | |||||||
| celaya2 | OS X 10.11.6 El Capitan / x86_64 | OK | OK | OK | OK |
| Package: CancerMutationAnalysis |
| Version: 1.26.0 |
| Command: C:\cygwin\bin\curl.exe -O https://malbec2.bioconductor.org/BBS/3.9/bioc/src/contrib/CancerMutationAnalysis_1.26.0.tar.gz && rm -rf CancerMutationAnalysis.buildbin-libdir && mkdir CancerMutationAnalysis.buildbin-libdir && C:\Users\biocbuild\bbs-3.9-bioc\R\bin\R.exe CMD INSTALL --merge-multiarch --build --library=CancerMutationAnalysis.buildbin-libdir CancerMutationAnalysis_1.26.0.tar.gz && C:\Users\biocbuild\bbs-3.9-bioc\R\bin\R.exe CMD INSTALL CancerMutationAnalysis_1.26.0.zip && rm CancerMutationAnalysis_1.26.0.tar.gz CancerMutationAnalysis_1.26.0.zip |
| StartedAt: 2019-10-15 19:13:11 -0400 (Tue, 15 Oct 2019) |
| EndedAt: 2019-10-15 19:13:54 -0400 (Tue, 15 Oct 2019) |
| EllapsedTime: 43.8 seconds |
| RetCode: 0 |
| Status: OK |
##############################################################################
##############################################################################
###
### Running command:
###
### C:\cygwin\bin\curl.exe -O https://malbec2.bioconductor.org/BBS/3.9/bioc/src/contrib/CancerMutationAnalysis_1.26.0.tar.gz && rm -rf CancerMutationAnalysis.buildbin-libdir && mkdir CancerMutationAnalysis.buildbin-libdir && C:\Users\biocbuild\bbs-3.9-bioc\R\bin\R.exe CMD INSTALL --merge-multiarch --build --library=CancerMutationAnalysis.buildbin-libdir CancerMutationAnalysis_1.26.0.tar.gz && C:\Users\biocbuild\bbs-3.9-bioc\R\bin\R.exe CMD INSTALL CancerMutationAnalysis_1.26.0.zip && rm CancerMutationAnalysis_1.26.0.tar.gz CancerMutationAnalysis_1.26.0.zip
###
##############################################################################
##############################################################################
% Total % Received % Xferd Average Speed Time Time Time Current
Dload Upload Total Spent Left Speed
0 0 0 0 0 0 0 0 --:--:-- --:--:-- --:--:-- 0
20 8103k 20 1680k 0 0 11.3M 0 --:--:-- --:--:-- --:--:-- 11.8M
100 8103k 100 8103k 0 0 39.5M 0 --:--:-- --:--:-- --:--:-- 40.5M
install for i386
* installing *source* package 'CancerMutationAnalysis' ...
** using staged installation
** libs
C:/Rtools/mingw_32/bin/gcc -I"C:/Users/BIOCBU~1/BBS-3~1.9-B/R/include" -DNDEBUG -I"C:/extsoft/include" -O3 -Wall -std=gnu99 -mtune=generic -c get.cdf.het.berns.c -o get.cdf.het.berns.o
C:/Rtools/mingw_32/bin/gcc -shared -s -static-libgcc -o CancerMutationAnalysis.dll tmp.def get.cdf.het.berns.o -LC:/extsoft/lib/i386 -LC:/extsoft/lib -LC:/Users/BIOCBU~1/BBS-3~1.9-B/R/bin/i386 -lR
installing to C:/Users/biocbuild/bbs-3.9-bioc/meat/CancerMutationAnalysis.buildbin-libdir/00LOCK-CancerMutationAnalysis/00new/CancerMutationAnalysis/libs/i386
** R
** data
** inst
** byte-compile and prepare package for lazy loading
** help
*** installing help indices
converting help for package 'CancerMutationAnalysis'
finding HTML links ... done
BackRatesBreast html
BackRatesColon html
BackRatesGBM html
BackRatesMB html
BackRatesPancreas html
EntrezID2Name html
GeneAlterBreast html
GeneAlterColon html
GeneAlterGBM html
GeneAlterMB html
GeneAlterPancreas html
GeneCovBreast html
GeneCovColon html
GeneCovGBM html
GeneCovMB html
GeneCovPancreas html
GeneID2Name11 html
GeneSampBreast html
GeneSampColon html
GeneSampGBM html
GeneSampMB html
GeneSampPancreas html
SetMethodsSims-class html
cma.fdr html
cma.scores html
cma.set.sim html
cma.set.stat html
combine.sims html
extract.sims.method html
** building package indices
** installing vignettes
** testing if installed package can be loaded from temporary location
** testing if installed package can be loaded from final location
** testing if installed package keeps a record of temporary installation path
install for x64
* installing *source* package 'CancerMutationAnalysis' ...
** libs
C:/Rtools/mingw_64/bin/gcc -I"C:/Users/BIOCBU~1/BBS-3~1.9-B/R/include" -DNDEBUG -I"C:/extsoft/include" -O2 -Wall -std=gnu99 -mtune=generic -c get.cdf.het.berns.c -o get.cdf.het.berns.o
C:/Rtools/mingw_64/bin/gcc -shared -s -static-libgcc -o CancerMutationAnalysis.dll tmp.def get.cdf.het.berns.o -LC:/extsoft/lib/x64 -LC:/extsoft/lib -LC:/Users/BIOCBU~1/BBS-3~1.9-B/R/bin/x64 -lR
installing to C:/Users/biocbuild/bbs-3.9-bioc/meat/CancerMutationAnalysis.buildbin-libdir/CancerMutationAnalysis/libs/x64
** testing if installed package can be loaded
* MD5 sums
packaged installation of 'CancerMutationAnalysis' as CancerMutationAnalysis_1.26.0.zip
* DONE (CancerMutationAnalysis)
* installing to library 'C:/Users/biocbuild/bbs-3.9-bioc/R/library'
package 'CancerMutationAnalysis' successfully unpacked and MD5 sums checked