| Back to Multiple platform build/check report for BioC 3.9 |
|
This page was generated on 2019-10-16 12:32:11 -0400 (Wed, 16 Oct 2019).
| Package 318/1741 | Hostname | OS / Arch | INSTALL | BUILD | CHECK | BUILD BIN | ||||||
| CODEX 1.16.0 Yuchao Jiang
| malbec2 | Linux (Ubuntu 18.04.2 LTS) / x86_64 | OK | OK | OK | |||||||
| tokay2 | Windows Server 2012 R2 Standard / x64 | OK | OK | OK | [ OK ] | |||||||
| celaya2 | OS X 10.11.6 El Capitan / x86_64 | OK | OK | OK | OK |
| Package: CODEX |
| Version: 1.16.0 |
| Command: rm -rf CODEX.buildbin-libdir && mkdir CODEX.buildbin-libdir && C:\Users\biocbuild\bbs-3.9-bioc\R\bin\R.exe CMD INSTALL --merge-multiarch --build --library=CODEX.buildbin-libdir CODEX_1.16.0.tar.gz |
| StartedAt: 2019-10-16 08:57:04 -0400 (Wed, 16 Oct 2019) |
| EndedAt: 2019-10-16 08:57:55 -0400 (Wed, 16 Oct 2019) |
| EllapsedTime: 50.5 seconds |
| RetCode: 0 |
| Status: OK |
| PackageFile: CODEX_1.16.0.zip |
| PackageFileSize: 1.347 MiB |
##############################################################################
##############################################################################
###
### Running command:
###
### rm -rf CODEX.buildbin-libdir && mkdir CODEX.buildbin-libdir && C:\Users\biocbuild\bbs-3.9-bioc\R\bin\R.exe CMD INSTALL --merge-multiarch --build --library=CODEX.buildbin-libdir CODEX_1.16.0.tar.gz
###
##############################################################################
##############################################################################
install for i386
* installing *source* package 'CODEX' ...
** using staged installation
** R
** data
*** moving datasets to lazyload DB
** inst
** byte-compile and prepare package for lazy loading
** help
*** installing help indices
converting help for package 'CODEX'
finding HTML links ... done
CODEX-package html
bambedObjDemo html
choiceofK html
coverageObjDemo html
gcDemo html
getbambed html
getcoverage html
getgc html
getmapp html
mappDemo html
mapp_ref html
mappability html
normObjDemo html
normalize html
normalize2 html
qc html
qcObjDemo html
segment html
** building package indices
** installing vignettes
** testing if installed package can be loaded from temporary location
** testing if installed package can be loaded from final location
** testing if installed package keeps a record of temporary installation path
install for x64
* installing *source* package 'CODEX' ...
** testing if installed package can be loaded
* MD5 sums
packaged installation of 'CODEX' as CODEX_1.16.0.zip
* DONE (CODEX)