| Back to Multiple platform build/check report for BioC 3.9 | 
 | 
This page was generated on 2019-10-16 12:35:32 -0400 (Wed, 16 Oct 2019).
| Package 278/1741 | Hostname | OS / Arch | INSTALL | BUILD | CHECK | BUILD BIN | ||||||
| CINdex 1.12.0 Yuriy Gusev 
 | malbec2 | Linux (Ubuntu 18.04.2 LTS) / x86_64 | OK | OK | OK |  | ||||||
| tokay2 | Windows Server 2012 R2 Standard / x64 | OK | [ TIMEOUT ] | skipped | skipped | |||||||
| celaya2 | OS X 10.11.6 El Capitan / x86_64 | OK | OK | OK | OK |  | 
| Package: CINdex | 
| Version: 1.12.0 | 
| Command: chmod a+r CINdex -R && C:\Users\biocbuild\bbs-3.9-bioc\R\bin\R.exe CMD build --keep-empty-dirs --no-resave-data CINdex | 
| StartedAt: 2019-10-15 23:52:28 -0400 (Tue, 15 Oct 2019) | 
| EndedAt: 2019-10-16 00:32:29 -0400 (Wed, 16 Oct 2019) | 
| EllapsedTime: 2400.8 seconds | 
| RetCode: None | 
| Status: TIMEOUT | 
| PackageFile: None | 
| PackageFileSize: NA | 
############################################################################## ############################################################################## ### ### Running command: ### ### chmod a+r CINdex -R && C:\Users\biocbuild\bbs-3.9-bioc\R\bin\R.exe CMD build --keep-empty-dirs --no-resave-data CINdex ### ############################################################################## ############################################################################## * checking for file 'CINdex/DESCRIPTION' ... OK * preparing 'CINdex': * checking DESCRIPTION meta-information ... OK * installing the package to build vignettes * creating vignettes ...