| Back to Multiple platform build/check report for BioC 3.9 |
|
This page was generated on 2019-10-16 12:21:11 -0400 (Wed, 16 Oct 2019).
| Package 202/1741 | Hostname | OS / Arch | INSTALL | BUILD | CHECK | BUILD BIN | ||||||
| CALIB 1.50.0 Hui Zhao
| malbec2 | Linux (Ubuntu 18.04.2 LTS) / x86_64 | OK | OK | WARNINGS | |||||||
| tokay2 | Windows Server 2012 R2 Standard / x64 | OK | OK | OK | [ OK ] | |||||||
| celaya2 | OS X 10.11.6 El Capitan / x86_64 | OK | OK | WARNINGS | OK |
| Package: CALIB |
| Version: 1.50.0 |
| Command: rm -rf CALIB.buildbin-libdir && mkdir CALIB.buildbin-libdir && C:\Users\biocbuild\bbs-3.9-bioc\R\bin\R.exe CMD INSTALL --merge-multiarch --build --library=CALIB.buildbin-libdir CALIB_1.50.0.tar.gz |
| StartedAt: 2019-10-16 08:49:46 -0400 (Wed, 16 Oct 2019) |
| EndedAt: 2019-10-16 08:50:25 -0400 (Wed, 16 Oct 2019) |
| EllapsedTime: 39.3 seconds |
| RetCode: 0 |
| Status: OK |
| PackageFile: CALIB_1.50.0.zip |
| PackageFileSize: 2.349 MiB |
##############################################################################
##############################################################################
###
### Running command:
###
### rm -rf CALIB.buildbin-libdir && mkdir CALIB.buildbin-libdir && C:\Users\biocbuild\bbs-3.9-bioc\R\bin\R.exe CMD INSTALL --merge-multiarch --build --library=CALIB.buildbin-libdir CALIB_1.50.0.tar.gz
###
##############################################################################
##############################################################################
install for i386
* installing *source* package 'CALIB' ...
** using staged installation
** libs
C:/Rtools/mingw_32/bin/g++ -I"C:/Users/BIOCBU~1/BBS-3~1.9-B/R/include" -DNDEBUG -I"C:/extsoft/include" -O2 -Wall -mtune=generic -c Design.cpp -o Design.o
C:/Rtools/mingw_32/bin/g++ -I"C:/Users/BIOCBU~1/BBS-3~1.9-B/R/include" -DNDEBUG -I"C:/extsoft/include" -O2 -Wall -mtune=generic -c Estimation.cpp -o Estimation.o
Estimation.cpp: In function 'SEXPREC* estimation(SEXP, SEXP, SEXP, SEXP, SEXP, SEXP, SEXP, SEXP)':
Estimation.cpp:147:78: warning: deprecated conversion from string constant to 'char*' [-Wwrite-strings]
char *name[8] = {"MuS","Ka","P1","P2","SigmaA","SigmaM","SigmaS","SpotError"};
^
Estimation.cpp:147:78: warning: deprecated conversion from string constant to 'char*' [-Wwrite-strings]
Estimation.cpp:147:78: warning: deprecated conversion from string constant to 'char*' [-Wwrite-strings]
Estimation.cpp:147:78: warning: deprecated conversion from string constant to 'char*' [-Wwrite-strings]
Estimation.cpp:147:78: warning: deprecated conversion from string constant to 'char*' [-Wwrite-strings]
Estimation.cpp:147:78: warning: deprecated conversion from string constant to 'char*' [-Wwrite-strings]
Estimation.cpp:147:78: warning: deprecated conversion from string constant to 'char*' [-Wwrite-strings]
Estimation.cpp:147:78: warning: deprecated conversion from string constant to 'char*' [-Wwrite-strings]
C:/Rtools/mingw_32/bin/g++ -I"C:/Users/BIOCBU~1/BBS-3~1.9-B/R/include" -DNDEBUG -I"C:/extsoft/include" -O2 -Wall -mtune=generic -c NormalizedData.cpp -o NormalizedData.o
C:/Rtools/mingw_32/bin/g++ -I"C:/Users/BIOCBU~1/BBS-3~1.9-B/R/include" -DNDEBUG -I"C:/extsoft/include" -O2 -Wall -mtune=generic -c ParameterofOneArray.cpp -o ParameterofOneArray.o
C:/Rtools/mingw_32/bin/g++ -I"C:/Users/BIOCBU~1/BBS-3~1.9-B/R/include" -DNDEBUG -I"C:/extsoft/include" -O2 -Wall -mtune=generic -c RawDataofOneArray.cpp -o RawDataofOneArray.o
C:/Rtools/mingw_32/bin/g++ -I"C:/Users/BIOCBU~1/BBS-3~1.9-B/R/include" -DNDEBUG -I"C:/extsoft/include" -O2 -Wall -mtune=generic -c SpikeofOneArray.cpp -o SpikeofOneArray.o
C:/Rtools/mingw_32/bin/g++ -shared -s -static-libgcc -o CALIB.dll tmp.def Design.o Estimation.o NormalizedData.o ParameterofOneArray.o RawDataofOneArray.o SpikeofOneArray.o -LC:/extsoft/lib/i386 -LC:/extsoft/lib -LC:/Users/BIOCBU~1/BBS-3~1.9-B/R/bin/i386 -lR
installing to C:/Users/biocbuild/bbs-3.9-bioc/meat/CALIB.buildbin-libdir/00LOCK-CALIB/00new/CALIB/libs/i386
** R
** data
** inst
** byte-compile and prepare package for lazy loading
** help
*** installing help indices
converting help for package 'CALIB'
finding HTML links ... done
ParameterList-class html
RG html
RGList_CALIB-class html
SpikeList-class html
adjustP2 html
calibReadMe html
cbind html
dim html
dimnames html
estimateParameter html
getColClasses html
merge html
normalizeData html
normdata html
parameter html
plotNormalizedData html
plotSpikeCI html
plotSpikeHI html
plotSpikeRG html
plotSpikeSpotError html
read.rg html
read.spike html
spike html
subsetting html
** building package indices
** installing vignettes
** testing if installed package can be loaded from temporary location
** testing if installed package can be loaded from final location
** testing if installed package keeps a record of temporary installation path
install for x64
* installing *source* package 'CALIB' ...
** libs
C:/Rtools/mingw_64/bin/g++ -I"C:/Users/BIOCBU~1/BBS-3~1.9-B/R/include" -DNDEBUG -I"C:/extsoft/include" -O2 -Wall -mtune=generic -c Design.cpp -o Design.o
C:/Rtools/mingw_64/bin/g++ -I"C:/Users/BIOCBU~1/BBS-3~1.9-B/R/include" -DNDEBUG -I"C:/extsoft/include" -O2 -Wall -mtune=generic -c Estimation.cpp -o Estimation.o
Estimation.cpp: In function 'SEXPREC* estimation(SEXP, SEXP, SEXP, SEXP, SEXP, SEXP, SEXP, SEXP)':
Estimation.cpp:147:78: warning: deprecated conversion from string constant to 'char*' [-Wwrite-strings]
char *name[8] = {"MuS","Ka","P1","P2","SigmaA","SigmaM","SigmaS","SpotError"};
^
Estimation.cpp:147:78: warning: deprecated conversion from string constant to 'char*' [-Wwrite-strings]
Estimation.cpp:147:78: warning: deprecated conversion from string constant to 'char*' [-Wwrite-strings]
Estimation.cpp:147:78: warning: deprecated conversion from string constant to 'char*' [-Wwrite-strings]
Estimation.cpp:147:78: warning: deprecated conversion from string constant to 'char*' [-Wwrite-strings]
Estimation.cpp:147:78: warning: deprecated conversion from string constant to 'char*' [-Wwrite-strings]
Estimation.cpp:147:78: warning: deprecated conversion from string constant to 'char*' [-Wwrite-strings]
Estimation.cpp:147:78: warning: deprecated conversion from string constant to 'char*' [-Wwrite-strings]
C:/Rtools/mingw_64/bin/g++ -I"C:/Users/BIOCBU~1/BBS-3~1.9-B/R/include" -DNDEBUG -I"C:/extsoft/include" -O2 -Wall -mtune=generic -c NormalizedData.cpp -o NormalizedData.o
C:/Rtools/mingw_64/bin/g++ -I"C:/Users/BIOCBU~1/BBS-3~1.9-B/R/include" -DNDEBUG -I"C:/extsoft/include" -O2 -Wall -mtune=generic -c ParameterofOneArray.cpp -o ParameterofOneArray.o
C:/Rtools/mingw_64/bin/g++ -I"C:/Users/BIOCBU~1/BBS-3~1.9-B/R/include" -DNDEBUG -I"C:/extsoft/include" -O2 -Wall -mtune=generic -c RawDataofOneArray.cpp -o RawDataofOneArray.o
C:/Rtools/mingw_64/bin/g++ -I"C:/Users/BIOCBU~1/BBS-3~1.9-B/R/include" -DNDEBUG -I"C:/extsoft/include" -O2 -Wall -mtune=generic -c SpikeofOneArray.cpp -o SpikeofOneArray.o
C:/Rtools/mingw_64/bin/g++ -shared -s -static-libgcc -o CALIB.dll tmp.def Design.o Estimation.o NormalizedData.o ParameterofOneArray.o RawDataofOneArray.o SpikeofOneArray.o -LC:/extsoft/lib/x64 -LC:/extsoft/lib -LC:/Users/BIOCBU~1/BBS-3~1.9-B/R/bin/x64 -lR
installing to C:/Users/biocbuild/bbs-3.9-bioc/meat/CALIB.buildbin-libdir/CALIB/libs/x64
** testing if installed package can be loaded
* MD5 sums
packaged installation of 'CALIB' as CALIB_1.50.0.zip
* DONE (CALIB)