| Back to Multiple platform build/check report for BioC 3.9 | 
 | 
This page was generated on 2019-10-16 13:03:17 -0400 (Wed, 16 Oct 2019).
| Package 151/1741 | Hostname | OS / Arch | INSTALL | BUILD | CHECK | BUILD BIN | ||||||
| BiocPkgTools 1.2.0 Sean Davis 
 | malbec2 | Linux (Ubuntu 18.04.2 LTS) / x86_64 | OK | OK | OK |  | ||||||
| tokay2 | Windows Server 2012 R2 Standard / x64 | OK | OK | OK | OK |  | ||||||
| celaya2 | OS X 10.11.6 El Capitan / x86_64 | OK | OK | OK | [ OK ] |  | 
| Package: BiocPkgTools | 
| Version: 1.2.0 | 
| Command: rm -rf BiocPkgTools.buildbin-libdir && mkdir BiocPkgTools.buildbin-libdir && /Users/biocbuild/BBS/utils/build-universal.sh BiocPkgTools_1.2.0.tar.gz /Library/Frameworks/R.framework/Versions/Current/Resources/bin/R BiocPkgTools.buildbin-libdir | 
| StartedAt: 2019-10-16 08:13:56 -0400 (Wed, 16 Oct 2019) | 
| EndedAt: 2019-10-16 08:14:22 -0400 (Wed, 16 Oct 2019) | 
| EllapsedTime: 26.8 seconds | 
| RetCode: 0 | 
| Status: OK | 
| PackageFile: BiocPkgTools_1.2.0.tgz | 
| PackageFileSize: 1.324 MiB | 
############################################################################## ############################################################################## ### ### Running command: ### ### rm -rf BiocPkgTools.buildbin-libdir && mkdir BiocPkgTools.buildbin-libdir && /Users/biocbuild/BBS/utils/build-universal.sh BiocPkgTools_1.2.0.tar.gz /Library/Frameworks/R.framework/Versions/Current/Resources/bin/R BiocPkgTools.buildbin-libdir ### ############################################################################## ############################################################################## >>>>>>> >>>>>>> INSTALLATION WITH 'R CMD INSTALL --preclean --no-multiarch --library=BiocPkgTools.buildbin-libdir BiocPkgTools_1.2.0.tar.gz' >>>>>>> * installing *source* package ‘BiocPkgTools’ ... ** using staged installation ** R ** inst ** byte-compile and prepare package for lazy loading ** help *** installing help indices ** building package indices ** installing vignettes ** testing if installed package can be loaded from temporary location ** testing if installed package can be loaded from final location ** testing if installed package keeps a record of temporary installation path * DONE (BiocPkgTools)