This page was generated on 2019-10-16 12:27:14 -0400 (Wed, 16 Oct 2019).
##############################################################################
##############################################################################
###
### Running command:
###
### C:\cygwin\bin\curl.exe -O https://malbec2.bioconductor.org/BBS/3.9/bioc/src/contrib/BiocParallel_1.18.1.tar.gz && rm -rf BiocParallel.buildbin-libdir && mkdir BiocParallel.buildbin-libdir && C:\Users\biocbuild\bbs-3.9-bioc\R\bin\R.exe CMD INSTALL --merge-multiarch --build --library=BiocParallel.buildbin-libdir BiocParallel_1.18.1.tar.gz && C:\Users\biocbuild\bbs-3.9-bioc\R\bin\R.exe CMD INSTALL BiocParallel_1.18.1.zip && rm BiocParallel_1.18.1.tar.gz BiocParallel_1.18.1.zip
###
##############################################################################
##############################################################################
% Total % Received % Xferd Average Speed Time Time Time Current
Dload Upload Total Spent Left Speed
0 0 0 0 0 0 0 0 --:--:-- --:--:-- --:--:-- 0
100 114k 100 114k 0 0 517k 0 --:--:-- --:--:-- --:--:-- 535k
install for i386
* installing *source* package 'BiocParallel' ...
** using staged installation
**********************************************
WARNING: this package has a configure script
It probably needs manual configuration
**********************************************
** libs
C:/Rtools/mingw_32/bin/g++ -std=gnu++11 -I"C:/Users/BIOCBU~1/BBS-3~1.9-B/R/include" -DNDEBUG -I"C:/Users/biocbuild/bbs-3.9-bioc/R/library/BH/include" -I"C:/extsoft/include" -O2 -Wall -mtune=generic -c ipcmutex.cpp -o ipcmutex.o
In file included from C:/Users/biocbuild/bbs-3.9-bioc/R/library/BH/include/boost/random/detail/integer_log2.hpp:19:0,
from C:/Users/biocbuild/bbs-3.9-bioc/R/library/BH/include/boost/random/detail/large_arithmetic.hpp:19,
from C:/Users/biocbuild/bbs-3.9-bioc/R/library/BH/include/boost/random/detail/const_mod.hpp:23,
from C:/Users/biocbuild/bbs-3.9-bioc/R/library/BH/include/boost/random/detail/seed_impl.hpp:26,
from C:/Users/biocbuild/bbs-3.9-bioc/R/library/BH/include/boost/random/mersenne_twister.hpp:30,
from C:/Users/biocbuild/bbs-3.9-bioc/R/library/BH/include/boost/uuid/random_generator.hpp:17,
from C:/Users/biocbuild/bbs-3.9-bioc/R/library/BH/include/boost/uuid/uuid_generators.hpp:17,
from ipcmutex.cpp:3:
C:/Users/biocbuild/bbs-3.9-bioc/R/library/BH/include/boost/pending/integer_log2.hpp:7:89: note: #pragma message: This header is deprecated. Use instead.
BOOST_HEADER_DEPRECATED("");
^
In file included from C:/Users/biocbuild/bbs-3.9-bioc/R/library/BH/include/boost/container/map.hpp:30:0,
from C:/Users/biocbuild/bbs-3.9-bioc/R/library/BH/include/boost/interprocess/sync/windows/sync_utils.hpp:37,
from C:/Users/biocbuild/bbs-3.9-bioc/R/library/BH/include/boost/interprocess/mapped_region.hpp:50,
from C:/Users/biocbuild/bbs-3.9-bioc/R/library/BH/include/boost/interprocess/detail/managed_open_or_create_impl.hpp:26,
from C:/Users/biocbuild/bbs-3.9-bioc/R/library/BH/include/boost/interprocess/managed_shared_memory.hpp:26,
from ipcmutex.cpp:13:
C:/Users/biocbuild/bbs-3.9-bioc/R/library/BH/include/boost/container/detail/tree.hpp: In instantiation of 'T& boost::container::dtl::tree_node::get_data() [with T = std::pair > > >; VoidPointer = void*; boost::container::tree_type_enum tree_type_value = (boost::container::tree_type_enum)0u; bool OptimizeSize = true]':
C:/Users/biocbuild/bbs-3.9-bioc/R/library/BH/include/boost/container/detail/iterators.hpp:854:36: required from 'boost::container::dtl::iterator_from_iiterator::reference boost::container::dtl::iterator_from_iiterator::operator*() const [with IIterator = boost::intrusive::tree_iterator > > >, void*, (boost::container::tree_type_enum)0u, true>, boost::intrusive::rbtree_node_traits, (boost::intrusive::link_mode_type)0u, boost::intrusive::dft_tag, 3u>, false>; bool IsConst = false; boost::container::dtl::iterator_from_iiterator::reference = std::pair > > >&]'
C:/Users/biocbuild/bbs-3.9-bioc/R/library/BH/include/boost/container/detail/iterators.hpp:857:87: required from 'boost::container::dtl::iterator_from_iiterator::pointer boost::container::dtl::iterator_from_iiterator::operator->() const [with IIterator = boost::intrusive::tree_iterator > > >, void*, (boost::container::tree_type_enum)0u, true>, boost::intrusive::rbtree_node_traits, (boost::intrusive::link_mode_type)0u, boost::intrusive::dft_tag, 3u>, false>; bool IsConst = false; boost::container::dtl::iterator_from_iiterator::pointer = std::pair > > >*]'
C:/Users/biocbuild/bbs-3.9-bioc/R/library/BH/include/boost/interprocess/sync/windows/sync_utils.hpp:220:41: required from here
C:/Users/biocbuild/bbs-3.9-bioc/R/library/BH/include/boost/container/detail/tree.hpp:148:56: warning: dereferencing type-punned pointer will break strict-aliasing rules [-Wstrict-aliasing]
{ return *reinterpret_cast(this->m_storage.data); }
^
C:/Users/biocbuild/bbs-3.9-bioc/R/library/BH/include/boost/container/detail/tree.hpp: In instantiation of 'T& boost::container::dtl::tree_node::get_data() [with T = std::pair, boost::container::new_allocator >, boost::interprocess::ipcdetail::ref_count_ptr>; VoidPointer = void*; boost::container::tree_type_enum tree_type_value = (boost::container::tree_type_enum)0u; bool OptimizeSize = true]':
C:/Users/biocbuild/bbs-3.9-bioc/R/library/BH/include/boost/container/detail/iterators.hpp:854:36: required from 'boost::container::dtl::iterator_from_iiterator::reference boost::container::dtl::iterator_from_iiterator::operator*() const [with IIterator = boost::intrusive::tree_iterator, boost::container::new_allocator >, boost::interprocess::ipcdetail::ref_count_ptr>, void*, (boost::container::tree_type_enum)0u, true>, boost::intrusive::rbtree_node_traits, (boost::intrusive::link_mode_type)0u, boost::intrusive::dft_tag, 3u>, false>; bool IsConst = false; boost::container::dtl::iterator_from_iiterator::reference = std::pair, boost::container::new_allocator >, boost::interprocess::ipcdetail::ref_count_ptr>&]'
C:/Users/biocbuild/bbs-3.9-bioc/R/library/BH/include/boost/container/detail/iterators.hpp:857:87: required from 'boost::container::dtl::iterator_from_iiterator::pointer boost::container::dtl::iterator_from_iiterator::operator->() const [with IIterator = boost::intrusive::tree_iterator, boost::container::new_allocator >, boost::interprocess::ipcdetail::ref_count_ptr>, void*, (boost::container::tree_type_enum)0u, true>, boost::intrusive::rbtree_node_traits, (boost::intrusive::link_mode_type)0u, boost::intrusive::dft_tag, 3u>, false>; bool IsConst = false; boost::container::dtl::iterator_from_iiterator::pointer = std::pair, boost::container::new_allocator >, boost::interprocess::ipcdetail::ref_count_ptr>*]'
C:/Users/biocbuild/bbs-3.9-bioc/R/library/BH/include/boost/interprocess/detail/windows_intermodule_singleton.hpp:192:20: required from here
C:/Users/biocbuild/bbs-3.9-bioc/R/library/BH/include/boost/container/detail/tree.hpp:148:56: warning: dereferencing type-punned pointer will break strict-aliasing rules [-Wstrict-aliasing]
C:/Users/biocbuild/bbs-3.9-bioc/R/library/BH/include/boost/container/detail/tree.hpp: In instantiation of 'boost::container::dtl::tree_node::~tree_node() [with T = std::pair, boost::container::new_allocator >, boost::interprocess::ipcdetail::ref_count_ptr>; VoidPointer = void*; boost::container::tree_type_enum tree_type_value = (boost::container::tree_type_enum)0u; bool OptimizeSize = true]':
C:/Users/biocbuild/bbs-3.9-bioc/R/library/BH/include/boost/container/allocator_traits.hpp:394:7: required from 'static void boost::container::allocator_traits::priv_destroy(boost::move_detail::false_type, Allocator&, T*) [with T = boost::container::dtl::tree_node, boost::container::new_allocator >, boost::interprocess::ipcdetail::ref_count_ptr>, void*, (boost::container::tree_type_enum)0u, true>; Allocator = boost::container::new_allocator, boost::container::new_allocator >, boost::interprocess::ipcdetail::ref_count_ptr>, void*, (boost::container::tree_type_enum)0u, true> >; boost::move_detail::false_type = boost::move_detail::integral_constant]'
C:/Users/biocbuild/bbs-3.9-bioc/R/library/BH/include/boost/container/allocator_traits.hpp:322:48: required from 'static void boost::container::allocator_traits::destroy(Allocator&, T*) [with T = boost::container::dtl::tree_node, boost::container::new_allocator >, boost::interprocess::ipcdetail::ref_count_ptr>, void*, (boost::container::tree_type_enum)0u, true>; Allocator = boost::container::new_allocator, boost::container::new_allocator >, boost::interprocess::ipcdetail::ref_count_ptr>, void*, (boost::container::tree_type_enum)0u, true> >]'
C:/Users/biocbuild/bbs-3.9-bioc/R/library/BH/include/boost/container/detail/destroyers.hpp:155:77: required from 'boost::container::dtl::scoped_destroy_deallocator::~scoped_destroy_deallocator() [with Allocator = boost::container::new_allocator, boost::container::new_allocator >, boost::interprocess::ipcdetail::ref_count_ptr>, void*, (boost::container::tree_type_enum)0u, true> >]'
C:/Users/biocbuild/bbs-3.9-bioc/R/library/BH/include/boost/container/detail/tree.hpp:947:88: required from 'boost::container::dtl::tree::iterator boost::container::dtl::tree::insert_unique_commit(MovableConvertible&&, boost::container::dtl::tree::insert_commit_data&) [with MovableConvertible = std::pair, boost::container::new_allocator >, boost::interprocess::ipcdetail::ref_count_ptr>; T = std::pair, boost::container::new_allocator >, boost::interprocess::ipcdetail::ref_count_ptr>; KeyOfValue = boost::container::dtl::select1st, boost::container::new_allocator > >; Compare = std::less, boost::container::new_allocator > >; Allocator = boost::container::new_allocator, boost::container::new_allocator >, boost::interprocess::ipcdetail::ref_count_ptr> >; Options = void; boost::container::dtl::tree::iterator = boost::container::dtl::iterator_from_iiterator, boost::container::new_allocator >, boost::interprocess::ipcdetail::ref_count_ptr>, void*, (boost::container::tree_type_enum)0u, true>, boost::intrusive::rbtree_node_traits, (boost::intrusive::link_mode_type)0u, boost::intrusive::dft_tag, 3u>, false>, false>; typename boost::container::dtl::intrusive_tree_type::pointer, Compare, KeyOfValue>, typename boost::container::dtl::get_tree_opt::type:: tree_type, typename boost::container::dtl::get_tree_opt::type:: optimize_size>::type::iterator = boost::intrusive::tree_iterator, boost::container::new_allocator >, boost::interprocess::ipcdetail::ref_count_ptr>, void*, (boost::container::tree_type_enum)0u, true>, boost::intrusive::rbtree_node_traits, (boost::intrusive::link_mode_type)0u, boost::intrusive::dft_tag, 3u>, false>; boost::container::dtl::tree::insert_commit_data = boost::intrusive::insert_commit_data_t*>]'
C:/Users/biocbuild/bbs-3.9-bioc/R/library/BH/include/boost/container/detail/tree.hpp:960:20: required from 'std::pair::pointer, Compare, KeyOfValue>, typename boost::container::dtl::get_tree_opt::type:: tree_type, typename boost::container::dtl::get_tree_opt::type:: optimize_size>::type::iterator, false>, bool> boost::container::dtl::tree::insert_unique(MovableConvertible&&) [with MovableConvertible = std::pair, boost::container::new_allocator >, boost::interprocess::ipcdetail::ref_count_ptr>; T = std::pair, boost::container::new_allocator >, boost::interprocess::ipcdetail::ref_count_ptr>; KeyOfValue = boost::container::dtl::select1st, boost::container::new_allocator > >; Compare = std::less, boost::container::new_allocator > >; Allocator = boost::container::new_allocator, boost::container::new_allocator >, boost::interprocess::ipcdetail::ref_count_ptr> >; Options = void; typename boost::container::dtl::intrusive_tree_type::pointer, Compare, KeyOfValue>, typename boost::container::dtl::get_tree_opt::type:: tree_type, typename boost::container::dtl::get_tree_opt::type:: optimize_size>::type::iterator = boost::intrusive::tree_iterator, boost::container::new_allocator >, boost::interprocess::ipcdetail::ref_count_ptr>, void*, (boost::container::tree_type_enum)0u, true>, boost::intrusive::rbtree_node_traits, (boost::intrusive::link_mode_type)0u, boost::intrusive::dft_tag, 3u>, false>]'
C:/Users/biocbuild/bbs-3.9-bioc/R/library/BH/include/boost/container/map.hpp:735:55: required from 'std::pair, boost::container::dtl::select1st, Compare, Allocator, Options>::iterator, bool> boost::container::map::insert(boost::container::map::value_type&&) [with Key = boost::container::basic_string, boost::container::new_allocator >; T = boost::interprocess::ipcdetail::ref_count_ptr; Compare = std::less, boost::container::new_allocator > >; Allocator = boost::container::new_allocator, boost::container::new_allocator >, boost::interprocess::ipcdetail::ref_count_ptr> >; Options = void; typename boost::container::dtl::tree, boost::container::dtl::select1st, Compare, Allocator, Options>::iterator = boost::container::dtl::iterator_from_iiterator, boost::container::new_allocator >, boost::interprocess::ipcdetail::ref_count_ptr>, void*, (boost::container::tree_type_enum)0u, true>, boost::intrusive::rbtree_node_traits, (boost::intrusive::link_mode_type)0u, boost::intrusive::dft_tag, 3u>, false>, false>; boost::container::map::value_type = std::pair, boost::container::new_allocator >, boost::interprocess::ipcdetail::ref_count_ptr>]'
C:/Users/biocbuild/bbs-3.9-bioc/R/library/BH/include/boost/interprocess/detail/windows_intermodule_singleton.hpp:203:99: required from here
C:/Users/biocbuild/bbs-3.9-bioc/R/library/BH/include/boost/container/detail/tree.hpp:172:7: warning: dereferencing type-punned pointer will break strict-aliasing rules [-Wstrict-aliasing]
{ reinterpret_cast(this->m_storage.data)->~internal_type(); }
^
C:/Users/biocbuild/bbs-3.9-bioc/R/library/BH/include/boost/container/detail/tree.hpp: In instantiation of 'const T& boost::container::dtl::tree_node::get_data() const [with T = std::pair, boost::container::new_allocator >, boost::interprocess::ipcdetail::ref_count_ptr>; VoidPointer = void*; boost::container::tree_type_enum tree_type_value = (boost::container::tree_type_enum)0u; bool OptimizeSize = true]':
C:/Users/biocbuild/bbs-3.9-bioc/R/library/BH/include/boost/container/detail/tree.hpp:443:41: required from 'static const key_type& boost::container::dtl::key_node_compare::key_from(const boost::container::dtl::tree_node&) [with T = std::pair, boost::container::new_allocator >, boost::interprocess::ipcdetail::ref_count_ptr>; VoidPointer = void*; boost::container::tree_type_enum tree_type_value = (boost::container::tree_type_enum)0u; bool OptimizeSize = true; KeyCompare = std::less, boost::container::new_allocator > >; KeyOfValue = boost::container::dtl::select1st, boost::container::new_allocator > >; boost::container::dtl::key_node_compare::key_type = boost::container::basic_string, boost::container::new_allocator >]'
C:/Users/biocbuild/bbs-3.9-bioc/R/library/BH/include/boost/container/detail/tree.hpp:464:60: required from 'bool boost::container::dtl::key_node_compare::operator()(const key_type&, const U&) const [with U = boost::container::dtl::tree_node, boost::container::new_allocator >, boost::interprocess::ipcdetail::ref_count_ptr>, void*, (boost::container::tree_type_enum)0u, true>; KeyCompare = std::less, boost::container::new_allocator > >; KeyOfValue = boost::container::dtl::select1st, boost::container::new_allocator > >; boost::container::dtl::key_node_compare::key_type = boost::container::basic_string, boost::container::new_allocator >]'
C:/Users/biocbuild/bbs-3.9-bioc/R/library/BH/include/boost/intrusive/detail/tree_value_compare.hpp:180:44: required from 'Ret boost::intrusive::tree_value_compare::operator()(const U&, const key_type&, typename boost::intrusive::disable_if_smartref_to::type*) const [with U = boost::container::basic_string, boost::container::new_allocator >; ValuePtr = boost::container::dtl::tree_node, boost::container::new_allocator >, boost::interprocess::ipcdetail::ref_count_ptr>, void*, (boost::container::tree_type_enum)0u, true>*; KeyCompare = boost::container::dtl::key_node_compare, boost::container::new_allocator > >, boost::container::dtl::select1st, boost::container::new_allocator > > >; KeyOfValue = boost::move_detail::identity, boost::container::new_allocator >, boost::interprocess::ipcdetail::ref_count_ptr>, void*, (boost::container::tree_type_enum)0u, true> >; Ret = bool; boost::intrusive::tree_value_compare::key_type = boost::container::dtl::tree_node, boost::container::new_allocator >, boost::interprocess::ipcdetail::ref_count_ptr>, void*, (boost::container::tree_type_enum)0u, true>; typename boost::intrusive::disable_if_smartref_to::type = void]'
C:/Users/biocbuild/bbs-3.9-bioc/R/library/BH/include/boost/intrusive/detail/key_nodeptr_comp.hpp:110:19: required from 'bool boost::intrusive::detail::key_nodeptr_comp::operator()(const T1&, const T2&, typename boost::move_detail::enable_if_c<((! boost::intrusive::detail::key_nodeptr_comp::is_same_or_nodeptr_convertible::value) && boost::intrusive::detail::key_nodeptr_comp::is_same_or_nodeptr_convertible::value), boost::intrusive::detail::key_nodeptr_comp::sfinae_type*>::type) const [with T1 = boost::container::basic_string, boost::container::new_allocator >; T2 = boost::intrusive::compact_rbtree_node*; KeyTypeKeyCompare = boost::container::dtl::key_node_compare, boost::container::new_allocator > >, boost::container::dtl::select1st, boost::container::new_allocator > > >; ValueTraits = boost::intrusive::bhtraits, boost::container::new_allocator >, boost::interprocess::ipcdetail::ref_count_ptr>, void*, (boost::container::tree_type_enum)0u, true>, boost::intrusive::rbtree_node_traits, (boost::intrusive::link_mode_type)0u, boost::intrusive::dft_tag, 3u>; KeyOfValue = boost::move_detail::identity, boost::container::new_allocator >, boost::interprocess::ipcdetail::ref_count_ptr>, void*, (boost::container::tree_type_enum)0u, true> >; typename boost::move_detail::enable_if_c<((! boost::intrusive::detail::key_nodeptr_comp::is_same_or_nodeptr_convertible::value) && boost::intrusive::detail::key_nodeptr_comp::is_same_or_nodeptr_convertible::value), boost::intrusive::detail::key_nodeptr_comp::sfinae_type*>::type = boost::intrusive::detail::key_nodeptr_comp, boost::container::new_allocator > >, boost::container::dtl::select1st, boost::container::new_allocator > > >, boost::intrusive::bhtraits, boost::container::new_allocator >, boost::interprocess::ipcdetail::ref_count_ptr>, void*, (boost::container::tree_type_enum)0u, true>, boost::intrusive::rbtree_node_traits, (boost::intrusive::link_mode_type)0u, boost::intrusive::dft_tag, 3u>, boost::move_detail::identity, boost::container::new_allocator >, boost::interprocess::ipcdetail::ref_count_ptr>, void*, (boost::container::tree_type_enum)0u, true> > >::sfinae_type*]'
C:/Users/biocbuild/bbs-3.9-bioc/R/library/BH/include/boost/intrusive/bstree_algorithms.hpp:755:38: required from 'static boost::intrusive::bstree_algorithms::node_ptr boost::intrusive::bstree_algorithms::find(const const_node_ptr&, const KeyType&, KeyNodePtrCompare) [with KeyType = boost::container::basic_string, boost::container::new_allocator >; KeyNodePtrCompare = boost::intrusive::detail::key_nodeptr_comp, boost::container::new_allocator > >, boost::container::dtl::select1st, boost::container::new_allocator > > >, boost::intrusive::bhtraits, boost::container::new_allocator >, boost::interprocess::ipcdetail::ref_count_ptr>, void*, (boost::container::tree_type_enum)0u, true>, boost::intrusive::rbtree_node_traits, (boost::intrusive::link_mode_type)0u, boost::intrusive::dft_tag, 3u>, boost::move_detail::identity, boost::container::new_allocator >, boost::interprocess::ipcdetail::ref_count_ptr>, void*, (boost::container::tree_type_enum)0u, true> > >; NodeTraits = boost::intrusive::rbtree_node_traits; boost::intrusive::bstree_algorithms::node_ptr = boost::intrusive::compact_rbtree_node*; boost::intrusive::bstree_algorithms::const_node_ptr = const boost::intrusive::compact_rbtree_node*]'
C:/Users/biocbuild/bbs-3.9-bioc/R/library/BH/include/boost/intrusive/bstree.hpp:383:83: required from 'boost::intrusive::bstbase2::iterator boost::intrusive::bstbase2::find(const KeyType&, KeyTypeKeyCompare) [with KeyType = boost::container::basic_string, boost::container::new_allocator >; KeyTypeKeyCompare = boost::container::dtl::key_node_compare, boost::container::new_allocator > >, boost::container::dtl::select1st, boost::container::new_allocator > > >; ValueTraits = boost::intrusive::bhtraits, boost::container::new_allocator >, boost::interprocess::ipcdetail::ref_count_ptr>, void*, (boost::container::tree_type_enum)0u, true>, boost::intrusive::rbtree_node_traits, (boost::intrusive::link_mode_type)0u, boost::intrusive::dft_tag, 3u>; VoidOrKeyOfValue = void; VoidOrKeyComp = boost::container::value_to_node_compare, boost::container::new_allocator >, boost::interprocess::ipcdetail::ref_count_ptr>, void*, (boost::container::tree_type_enum)0u, true>, boost::intrusive::tree_value_compare, boost::container::new_allocator >, boost::interprocess::ipcdetail::ref_count_ptr>*, std::less, boost::container::new_allocator > >, boost::container::dtl::select1st, boost::container::new_allocator > >, bool, false>, bool>; boost::intrusive::algo_types AlgoType = (boost::intrusive::algo_types)5u; HeaderHolder = void; boost::intrusive::bstbase2::iterator = boost::intrusive::tree_iterator, boost::container::new_allocator >, boost::interprocess::ipcdetail::ref_count_ptr>, void*, (boost::container::tree_type_enum)0u, true>, boost::intrusive::rbtree_node_traits, (boost::intrusive::link_mode_type)0u, boost::intrusive::dft_tag, 3u>, false>]'
C:/Users/biocbuild/bbs-3.9-bioc/R/library/BH/include/boost/container/detail/tree.hpp:1301:72: required from 'boost::container::dtl::tree::iterator boost::container::dtl::tree::find(const key_type&) [with T = std::pair, boost::container::new_allocator >, boost::interprocess::ipcdetail::ref_count_ptr>; KeyOfValue = boost::container::dtl::select1st, boost::container::new_allocator > >; Compare = std::less, boost::container::new_allocator > >; Allocator = boost::container::new_allocator, boost::container::new_allocator >, boost::interprocess::ipcdetail::ref_count_ptr> >; Options = void; boost::container::dtl::tree::iterator = boost::container::dtl::iterator_from_iiterator, boost::container::new_allocator >, boost::interprocess::ipcdetail::ref_count_ptr>, void*, (boost::container::tree_type_enum)0u, true>, boost::intrusive::rbtree_node_traits, (boost::intrusive::link_mode_type)0u, boost::intrusive::dft_tag, 3u>, false>, false>; typename boost::container::dtl::intrusive_tree_type::pointer, Compare, KeyOfValue>, typename boost::container::dtl::get_tree_opt::type:: tree_type, typename boost::container::dtl::get_tree_opt::type:: optimize_size>::type::iterator = boost::intrusive::tree_iterator, boost::container::new_allocator >, boost::interprocess::ipcdetail::ref_count_ptr>, void*, (boost::container::tree_type_enum)0u, true>, boost::intrusive::rbtree_node_traits, (boost::intrusive::link_mode_type)0u, boost::intrusive::dft_tag, 3u>, false>; boost::container::dtl::tree::key_type = boost::container::basic_string, boost::container::new_allocator