| Back to Multiple platform build/check report for BioC 3.9 | 
 | 
This page was generated on 2019-10-16 12:38:05 -0400 (Wed, 16 Oct 2019).
| Package 149/1741 | Hostname | OS / Arch | INSTALL | BUILD | CHECK | BUILD BIN | ||||||
| BioCor 1.8.1 LluĂs Revilla Sancho 
 | malbec2 | Linux (Ubuntu 18.04.2 LTS) / x86_64 | OK | OK | OK |  | ||||||
| tokay2 | Windows Server 2012 R2 Standard / x64 | OK | OK | OK | [ OK ] |  | ||||||
| celaya2 | OS X 10.11.6 El Capitan / x86_64 | OK | OK | OK | OK |  | 
| Package: BioCor | 
| Version: 1.8.1 | 
| Command: rm -rf BioCor.buildbin-libdir && mkdir BioCor.buildbin-libdir && C:\Users\biocbuild\bbs-3.9-bioc\R\bin\R.exe CMD INSTALL --merge-multiarch --build --library=BioCor.buildbin-libdir BioCor_1.8.1.tar.gz | 
| StartedAt: 2019-10-16 08:46:37 -0400 (Wed, 16 Oct 2019) | 
| EndedAt: 2019-10-16 08:47:14 -0400 (Wed, 16 Oct 2019) | 
| EllapsedTime: 37.0 seconds | 
| RetCode: 0 | 
| Status: OK | 
| PackageFile: BioCor_1.8.1.zip | 
| PackageFileSize: 1.026 MiB | 
##############################################################################
##############################################################################
###
### Running command:
###
###   rm -rf BioCor.buildbin-libdir && mkdir BioCor.buildbin-libdir && C:\Users\biocbuild\bbs-3.9-bioc\R\bin\R.exe CMD INSTALL --merge-multiarch --build --library=BioCor.buildbin-libdir BioCor_1.8.1.tar.gz
###
##############################################################################
##############################################################################
install for i386
* installing *source* package 'BioCor' ...
** using staged installation
** R
** inst
** byte-compile and prepare package for lazy loading
Creating a generic function from function 'clusterGeneSim' in package 'BioCor'
Creating a generic function from function 'clusterSim' in package 'BioCor'
Creating a generic function from function 'geneSim' in package 'BioCor'
Creating a generic function from function 'mclusterGeneSim' in package 'BioCor'
Creating a generic function from function 'mclusterSim' in package 'BioCor'
Creating a generic function from function 'mgeneSim' in package 'BioCor'
Creating a generic function from function 'mpathSim' in package 'BioCor'
Creating a generic function from function 'pathSim' in package 'BioCor'
** help
*** installing help indices
  converting help for package 'BioCor'
    finding HTML links ... done
    AintoB                                  html  
    BioCor-package                          html  
    addSimilarities                         html  
    clusterGeneSim                          html  
    clusterSim                              html  
    combinadic                              html  
    combineScores                           html  
    combineSources                          html  
    conversions                             html  
    diceSim                                 html  
    duplicateIndices                        html  
    geneSim                                 html  
    incidence-list-method                   html  
    inverseList                             html  
    mclusterGeneSim                         html  
    mclusterSim                             html  
    mgeneSim                                html  
    mpathSim                                html  
    pathSim                                 html  
    removeDup                               html  
    seq2mat                                 html  
    similarities                            html  
    weighted                                html  
** building package indices
** installing vignettes
** testing if installed package can be loaded from temporary location
** testing if installed package can be loaded from final location
** testing if installed package keeps a record of temporary installation path
install for x64
* installing *source* package 'BioCor' ...
** testing if installed package can be loaded
* MD5 sums
packaged installation of 'BioCor' as BioCor_1.8.1.zip
* DONE (BioCor)